BEGIN:VCALENDAR
VERSION:2.0
PRODID:-//QuickScores.com//BQ Dynamic iCal Creator//EN
METHOD:PUBLISH
X-WR-CALNAME:Rivier - Gnac Softball 2008 - Spring 2008
X-WR-CALDESC:QuickScores game calendar
X-PUBLISHED-TTL:PT24H
REFRESH-INTERVAL;VALUE=DURATION:PT24H
CALSCALE:GREGORIAN
BEGIN:VTIMEZONE
TZID:America/New_York
X-LIC-LOCATION:America/New_York
BEGIN:DAYLIGHT
TZNAME:EDT
TZOFFSETFROM:-0500
TZOFFSETTO:-0400
DTSTART:19700308T020000
RRULE:FREQ=YEARLY;BYMONTH=3;BYDAY=2SU
END:DAYLIGHT
BEGIN:STANDARD
TZNAME:EST
TZOFFSETFROM:-0400
TZOFFSETTO:-0500
DTSTART:19701101T020000
RRULE:FREQ=YEARLY;BYMONTH=11;BYDAY=1SU
END:STANDARD
END:VTIMEZONE
BEGIN:VEVENT
UID:gnac-1040699-20080322@quickscores.com
DTSTAMP:20260423T215000Z
DTSTART;TZID=America/New_York:20080322
SUMMARY:Suffolk vs. Rivier
DESCRIPTION:Gnac Softball 2008 - Great Northeast Athletic Conference
LOCATION:Puopolo Field Boston's North End
CATEGORIES:QuickScores, Softball Game
TRANSP:OPAQUE
BEGIN:VALARM
TRIGGER:-PT2H
ACTION:DISPLAY
DESCRIPTION:Suffolk vs. Rivier
END:VALARM
END:VEVENT
BEGIN:VEVENT
UID:gnac-1040705-20080328@quickscores.com
DTSTAMP:20260423T215000Z
DTSTART;TZID=America/New_York:20080328
SUMMARY:Rivier vs. Albertus Magnus
DESCRIPTION:AMC in Nashua for the weekend --- Gnac Softball 2008 - Great Northeast Athletic Conference
LOCATION:Nashua, NH
CATEGORIES:QuickScores, Softball Game
TRANSP:OPAQUE
BEGIN:VALARM
TRIGGER:-PT2H
ACTION:DISPLAY
DESCRIPTION:Rivier vs. Albertus Magnus
END:VALARM
END:VEVENT
BEGIN:VEVENT
UID:gnac-1040713-20080329@quickscores.com
DTSTAMP:20260423T215000Z
DTSTART;TZID=America/New_York:20080329
SUMMARY:Pine Manor vs. Rivier
DESCRIPTION:Gnac Softball 2008 - Great Northeast Athletic Conference
LOCATION:Pine Manor
CATEGORIES:QuickScores, Softball Game
TRANSP:OPAQUE
BEGIN:VALARM
TRIGGER:-PT2H
ACTION:DISPLAY
DESCRIPTION:Pine Manor vs. Rivier
END:VALARM
END:VEVENT
BEGIN:VEVENT
UID:gnac-1040764-20080330@quickscores.com
DTSTAMP:20260423T215000Z
DTSTART;TZID=America/New_York:20080330
SUMMARY:Emerson vs. Rivier
DESCRIPTION:Gnac Softball 2008 - Great Northeast Athletic Conference
LOCATION:Rotch Field
CATEGORIES:QuickScores, Softball Game
TRANSP:OPAQUE
BEGIN:VALARM
TRIGGER:-PT2H
ACTION:DISPLAY
DESCRIPTION:Emerson vs. Rivier
END:VALARM
END:VEVENT
BEGIN:VEVENT
UID:gnac-1040744-20080404@quickscores.com
DTSTAMP:20260423T215000Z
DTSTART;TZID=America/New_York:20080404
SUMMARY:Rivier vs. Emmanuel
DESCRIPTION:Gnac Softball 2008 - Great Northeast Athletic Conference
LOCATION:Nashua, NH
CATEGORIES:QuickScores, Softball Game
TRANSP:OPAQUE
BEGIN:VALARM
TRIGGER:-PT2H
ACTION:DISPLAY
DESCRIPTION:Rivier vs. Emmanuel
END:VALARM
END:VEVENT
BEGIN:VEVENT
UID:gnac-1040736-20080405@quickscores.com
DTSTAMP:20260423T215000Z
DTSTART;TZID=America/New_York:20080405
SUMMARY:Rivier vs. Simmons
DESCRIPTION:Gnac Softball 2008 - Great Northeast Athletic Conference
LOCATION:Nashua, NH
CATEGORIES:QuickScores, Softball Game
TRANSP:OPAQUE
BEGIN:VALARM
TRIGGER:-PT2H
ACTION:DISPLAY
DESCRIPTION:Rivier vs. Simmons
END:VALARM
END:VEVENT
BEGIN:VEVENT
UID:gnac-1040751-20080406@quickscores.com
DTSTAMP:20260423T215000Z
DTSTART;TZID=America/New_York:20080406
SUMMARY:Rivier vs. Saint Joseph CT
DESCRIPTION:Gnac Softball 2008 - Great Northeast Athletic Conference
LOCATION:Nashua, NH
CATEGORIES:QuickScores, Softball Game
TRANSP:OPAQUE
BEGIN:VALARM
TRIGGER:-PT2H
ACTION:DISPLAY
DESCRIPTION:Rivier vs. Saint Joseph CT
END:VALARM
END:VEVENT
BEGIN:VEVENT
UID:gnac-1040724-20080411@quickscores.com
DTSTAMP:20260423T215000Z
DTSTART;TZID=America/New_York:20080411
SUMMARY:Lasell vs. Rivier
DESCRIPTION:Gnac Softball 2008 - Great Northeast Athletic Conference
LOCATION:Lasell Newton
CATEGORIES:QuickScores, Softball Game
TRANSP:OPAQUE
BEGIN:VALARM
TRIGGER:-PT2H
ACTION:DISPLAY
DESCRIPTION:Lasell vs. Rivier
END:VALARM
END:VEVENT
BEGIN:VEVENT
UID:gnac-1040759-20080412@quickscores.com
DTSTAMP:20260423T215000Z
DTSTART;TZID=America/New_York:20080412
SUMMARY:Norwich vs. Rivier
DESCRIPTION:Gnac Softball 2008 - Great Northeast Athletic Conference
LOCATION:Northfield, VT
CATEGORIES:QuickScores, Softball Game
TRANSP:OPAQUE
BEGIN:VALARM
TRIGGER:-PT2H
ACTION:DISPLAY
DESCRIPTION:Norwich vs. Rivier
END:VALARM
END:VEVENT
BEGIN:VEVENT
UID:gnac-1040728-20080413@quickscores.com
DTSTAMP:20260423T215000Z
DTSTART;TZID=America/New_York:20080413
SUMMARY:Rivier vs. Mount Ida
DESCRIPTION:Gnac Softball 2008 - Great Northeast Athletic Conference
LOCATION:Nashua, NH
CATEGORIES:QuickScores, Softball Game
TRANSP:OPAQUE
BEGIN:VALARM
TRIGGER:-PT2H
ACTION:DISPLAY
DESCRIPTION:Rivier vs. Mount Ida
END:VALARM
END:VEVENT
BEGIN:VEVENT
UID:gnac-1040774-20080418@quickscores.com
DTSTAMP:20260423T215000Z
DTSTART;TZID=America/New_York:20080418
SUMMARY:Rivier vs. Saint Joseph's ME
DESCRIPTION:Gnac Softball 2008 - Great Northeast Athletic Conference
LOCATION:Rivier
CATEGORIES:QuickScores, Softball Game
TRANSP:OPAQUE
BEGIN:VALARM
TRIGGER:-PT2H
ACTION:DISPLAY
DESCRIPTION:Rivier vs. Saint Joseph's ME
END:VALARM
END:VEVENT
BEGIN:VEVENT
UID:gnac-1040781-20080419@quickscores.com
DTSTAMP:20260423T215000Z
DTSTART;TZID=America/New_York:20080419
SUMMARY:Rivier vs. Daniel Webster
DESCRIPTION:Gnac Softball 2008 - Great Northeast Athletic Conference
LOCATION:Rivier
CATEGORIES:QuickScores, Softball Game
TRANSP:OPAQUE
BEGIN:VALARM
TRIGGER:-PT2H
ACTION:DISPLAY
DESCRIPTION:Rivier vs. Daniel Webster
END:VALARM
END:VEVENT
BEGIN:VEVENT
UID:gnac-1040693-20080420@quickscores.com
DTSTAMP:20260423T215000Z
DTSTART;TZID=America/New_York:20080420
SUMMARY:Johnson & Wales vs. Rivier
DESCRIPTION:Gnac Softball 2008 - Great Northeast Athletic Conference
LOCATION:Providence, RI
CATEGORIES:QuickScores, Softball Game
TRANSP:OPAQUE
BEGIN:VALARM
TRIGGER:-PT2H
ACTION:DISPLAY
DESCRIPTION:Johnson & Wales vs. Rivier
END:VALARM
END:VEVENT
END:VCALENDAR
