BEGIN:VCALENDAR
VERSION:2.0
PRODID:-//QuickScores.com//BQ Dynamic iCal Creator//EN
METHOD:PUBLISH
X-WR-CALNAME:Mount Ida - Gnac Softball 2008 - Spring 2008
X-WR-CALDESC:QuickScores game calendar
X-PUBLISHED-TTL:PT24H
REFRESH-INTERVAL;VALUE=DURATION:PT24H
CALSCALE:GREGORIAN
BEGIN:VTIMEZONE
TZID:America/New_York
X-LIC-LOCATION:America/New_York
BEGIN:DAYLIGHT
TZNAME:EDT
TZOFFSETFROM:-0500
TZOFFSETTO:-0400
DTSTART:19700308T020000
RRULE:FREQ=YEARLY;BYMONTH=3;BYDAY=2SU
END:DAYLIGHT
BEGIN:STANDARD
TZNAME:EST
TZOFFSETFROM:-0400
TZOFFSETTO:-0500
DTSTART:19701101T020000
RRULE:FREQ=YEARLY;BYMONTH=11;BYDAY=1SU
END:STANDARD
END:VTIMEZONE
BEGIN:VEVENT
UID:gnac-1040703-20080322@quickscores.com
DTSTAMP:20260420T093800Z
DTSTART;TZID=America/New_York:20080322
SUMMARY:Emerson vs. Mount Ida
DESCRIPTION:Gnac Softball 2008 - Great Northeast Athletic Conference
LOCATION:Rotch Field
CATEGORIES:QuickScores, Softball Game
TRANSP:OPAQUE
BEGIN:VALARM
TRIGGER:-PT2H
ACTION:DISPLAY
DESCRIPTION:Emerson vs. Mount Ida
END:VALARM
END:VEVENT
BEGIN:VEVENT
UID:gnac-1040709-20080328@quickscores.com
DTSTAMP:20260420T093800Z
DTSTART;TZID=America/New_York:20080328
SUMMARY:Johnson & Wales vs. Mount Ida
DESCRIPTION:Gnac Softball 2008 - Great Northeast Athletic Conference
LOCATION:Providence, RI
CATEGORIES:QuickScores, Softball Game
TRANSP:OPAQUE
BEGIN:VALARM
TRIGGER:-PT2H
ACTION:DISPLAY
DESCRIPTION:Johnson & Wales vs. Mount Ida
END:VALARM
END:VEVENT
BEGIN:VEVENT
UID:gnac-1040715-20080329@quickscores.com
DTSTAMP:20260420T093800Z
DTSTART;TZID=America/New_York:20080329
SUMMARY:Suffolk vs. Mount Ida
DESCRIPTION:Gnac Softball 2008 - Great Northeast Athletic Conference
LOCATION:Puopolo Field Boston's North End
CATEGORIES:QuickScores, Softball Game
TRANSP:OPAQUE
BEGIN:VALARM
TRIGGER:-PT2H
ACTION:DISPLAY
DESCRIPTION:Suffolk vs. Mount Ida
END:VALARM
END:VEVENT
BEGIN:VEVENT
UID:gnac-1040767-20080330@quickscores.com
DTSTAMP:20260420T093800Z
DTSTART;TZID=America/New_York:20080330
SUMMARY:Mount Ida vs. Lasell
DESCRIPTION:Gnac Softball 2008 - Great Northeast Athletic Conference
LOCATION:Mount Ida
CATEGORIES:QuickScores, Softball Game
TRANSP:OPAQUE
BEGIN:VALARM
TRIGGER:-PT2H
ACTION:DISPLAY
DESCRIPTION:Mount Ida vs. Lasell
END:VALARM
END:VEVENT
BEGIN:VEVENT
UID:gnac-1040745-20080404@quickscores.com
DTSTAMP:20260420T093800Z
DTSTART;TZID=America/New_York:20080404
SUMMARY:Mount Ida vs. Daniel Webster
DESCRIPTION:Gnac Softball 2008 - Great Northeast Athletic Conference
LOCATION:Mount Ida
CATEGORIES:QuickScores, Softball Game
TRANSP:OPAQUE
BEGIN:VALARM
TRIGGER:-PT2H
ACTION:DISPLAY
DESCRIPTION:Mount Ida vs. Daniel Webster
END:VALARM
END:VEVENT
BEGIN:VEVENT
UID:gnac-1040734-20080405@quickscores.com
DTSTAMP:20260420T093800Z
DTSTART;TZID=America/New_York:20080405
SUMMARY:Mount Ida vs. Pine Manor
DESCRIPTION:Gnac Softball 2008 - Great Northeast Athletic Conference
LOCATION:Mount Ida
CATEGORIES:QuickScores, Softball Game
TRANSP:OPAQUE
BEGIN:VALARM
TRIGGER:-PT2H
ACTION:DISPLAY
DESCRIPTION:Mount Ida vs. Pine Manor
END:VALARM
END:VEVENT
BEGIN:VEVENT
UID:gnac-1040747-20080406@quickscores.com
DTSTAMP:20260420T093800Z
DTSTART;TZID=America/New_York:20080406
SUMMARY:Mount Ida vs. Albertus Magnus
DESCRIPTION:Gnac Softball 2008 - Great Northeast Athletic Conference
LOCATION:Mount Ida
CATEGORIES:QuickScores, Softball Game
TRANSP:OPAQUE
BEGIN:VALARM
TRIGGER:-PT2H
ACTION:DISPLAY
DESCRIPTION:Mount Ida vs. Albertus Magnus
END:VALARM
END:VEVENT
BEGIN:VEVENT
UID:gnac-1040723-20080411@quickscores.com
DTSTAMP:20260420T093800Z
DTSTART;TZID=America/New_York:20080411
SUMMARY:Saint Joseph's ME vs. Mount Ida
DESCRIPTION:Gnac Softball 2008 - Great Northeast Athletic Conference
LOCATION:Standish ME
CATEGORIES:QuickScores, Softball Game
TRANSP:OPAQUE
BEGIN:VALARM
TRIGGER:-PT2H
ACTION:DISPLAY
DESCRIPTION:Saint Joseph's ME vs. Mount Ida
END:VALARM
END:VEVENT
BEGIN:VEVENT
UID:gnac-1040755-20080412@quickscores.com
DTSTAMP:20260420T093800Z
DTSTART;TZID=America/New_York:20080412
SUMMARY:Simmons vs. Mount Ida
DESCRIPTION:Gnac Softball 2008 - Great Northeast Athletic Conference
LOCATION:Simmons
CATEGORIES:QuickScores, Softball Game
TRANSP:OPAQUE
BEGIN:VALARM
TRIGGER:-PT2H
ACTION:DISPLAY
DESCRIPTION:Simmons vs. Mount Ida
END:VALARM
END:VEVENT
BEGIN:VEVENT
UID:gnac-1040728-20080413@quickscores.com
DTSTAMP:20260420T093800Z
DTSTART;TZID=America/New_York:20080413
SUMMARY:Rivier vs. Mount Ida
DESCRIPTION:Gnac Softball 2008 - Great Northeast Athletic Conference
LOCATION:Nashua, NH
CATEGORIES:QuickScores, Softball Game
TRANSP:OPAQUE
BEGIN:VALARM
TRIGGER:-PT2H
ACTION:DISPLAY
DESCRIPTION:Rivier vs. Mount Ida
END:VALARM
END:VEVENT
BEGIN:VEVENT
UID:gnac-1040770-20080418@quickscores.com
DTSTAMP:20260420T093800Z
DTSTART;TZID=America/New_York:20080418
SUMMARY:Mount Ida vs. Saint Joseph CT
DESCRIPTION:Gnac Softball 2008 - Great Northeast Athletic Conference
LOCATION:Mount Ida
CATEGORIES:QuickScores, Softball Game
TRANSP:OPAQUE
BEGIN:VALARM
TRIGGER:-PT2H
ACTION:DISPLAY
DESCRIPTION:Mount Ida vs. Saint Joseph CT
END:VALARM
END:VEVENT
BEGIN:VEVENT
UID:gnac-1040778-20080419@quickscores.com
DTSTAMP:20260420T093800Z
DTSTART;TZID=America/New_York:20080419
SUMMARY:Mount Ida vs. Norwich
DESCRIPTION:Gnac Softball 2008 - Great Northeast Athletic Conference
LOCATION:Mount Ida
CATEGORIES:QuickScores, Softball Game
TRANSP:OPAQUE
BEGIN:VALARM
TRIGGER:-PT2H
ACTION:DISPLAY
DESCRIPTION:Mount Ida vs. Norwich
END:VALARM
END:VEVENT
BEGIN:VEVENT
UID:gnac-1040697-20080420@quickscores.com
DTSTAMP:20260420T093800Z
DTSTART;TZID=America/New_York:20080420
SUMMARY:Emmanuel vs. Mount Ida
DESCRIPTION:Gnac Softball 2008 - Great Northeast Athletic Conference
LOCATION:Roberto Clemente Field
CATEGORIES:QuickScores, Softball Game
TRANSP:OPAQUE
BEGIN:VALARM
TRIGGER:-PT2H
ACTION:DISPLAY
DESCRIPTION:Emmanuel vs. Mount Ida
END:VALARM
END:VEVENT
END:VCALENDAR
