BEGIN:VCALENDAR
VERSION:2.0
PRODID:-//QuickScores.com//BQ Dynamic iCal Creator//EN
METHOD:PUBLISH
X-WR-CALNAME:Simmons - 2022 Field Hockey 10/25/21 - Fall 2022
X-WR-CALDESC:QuickScores game calendar
X-PUBLISHED-TTL:PT24H
REFRESH-INTERVAL;VALUE=DURATION:PT24H
CALSCALE:GREGORIAN
BEGIN:VTIMEZONE
TZID:America/New_York
X-LIC-LOCATION:America/New_York
BEGIN:DAYLIGHT
TZNAME:EDT
TZOFFSETFROM:-0500
TZOFFSETTO:-0400
DTSTART:19700308T020000
RRULE:FREQ=YEARLY;BYMONTH=3;BYDAY=2SU
END:DAYLIGHT
BEGIN:STANDARD
TZNAME:EST
TZOFFSETFROM:-0400
TZOFFSETTO:-0500
DTSTART:19701101T020000
RRULE:FREQ=YEARLY;BYMONTH=11;BYDAY=1SU
END:STANDARD
END:VTIMEZONE
BEGIN:VEVENT
UID:gnac-50370587-20220910@quickscores.com
DTSTAMP:20260421T000700Z
DTSTART;TZID=America/New_York:20220910
SUMMARY:Simmons vs. Anna Maria
DESCRIPTION:2022 Field Hockey 10/25/21 - Great Northeast Athletic Conference
LOCATION:Daly Field Brighton
CATEGORIES:QuickScores, Field Hockey Game
TRANSP:OPAQUE
BEGIN:VALARM
TRIGGER:-PT2H
ACTION:DISPLAY
DESCRIPTION:Simmons vs. Anna Maria
END:VALARM
END:VEVENT
BEGIN:VEVENT
UID:gnac-50370604-20220917@quickscores.com
DTSTAMP:20260421T000700Z
DTSTART;TZID=America/New_York:20220917
SUMMARY:Rivier vs. Simmons
DESCRIPTION:2022 Field Hockey 10/25/21 - Great Northeast Athletic Conference
LOCATION:Nashua, NH
CATEGORIES:QuickScores, Field Hockey Game
TRANSP:OPAQUE
BEGIN:VALARM
TRIGGER:-PT2H
ACTION:DISPLAY
DESCRIPTION:Rivier vs. Simmons
END:VALARM
END:VEVENT
BEGIN:VEVENT
UID:gnac-50370596-20220924@quickscores.com
DTSTAMP:20260421T000700Z
DTSTART;TZID=America/New_York:20220924
SUMMARY:Simmons vs. Johnson and Wales
DESCRIPTION:2022 Field Hockey 10/25/21 - Great Northeast Athletic Conference
LOCATION:Daly Field Brighton
CATEGORIES:QuickScores, Field Hockey Game
TRANSP:OPAQUE
BEGIN:VALARM
TRIGGER:-PT2H
ACTION:DISPLAY
DESCRIPTION:Simmons vs. Johnson and Wales
END:VALARM
END:VEVENT
BEGIN:VEVENT
UID:gnac-50370665-20220928@quickscores.com
DTSTAMP:20260421T000700Z
DTSTART;TZID=America/New_York:20220928
SUMMARY:Simmons vs. Elms
DESCRIPTION:2022 Field Hockey 10/25/21 - Great Northeast Athletic Conference
LOCATION:Daly Field Brighton
CATEGORIES:QuickScores, Field Hockey Game
TRANSP:OPAQUE
BEGIN:VALARM
TRIGGER:-PT2H
ACTION:DISPLAY
DESCRIPTION:Simmons vs. Elms
END:VALARM
END:VEVENT
BEGIN:VEVENT
UID:gnac-50370607-20221001@quickscores.com
DTSTAMP:20260421T000700Z
DTSTART;TZID=America/New_York:20221001
SUMMARY:Albertus Magnus vs. Simmons
DESCRIPTION:2022 Field Hockey 10/25/21 - Great Northeast Athletic Conference
LOCATION:New Haven, CT
CATEGORIES:QuickScores, Field Hockey Game
TRANSP:OPAQUE
BEGIN:VALARM
TRIGGER:-PT2H
ACTION:DISPLAY
DESCRIPTION:Albertus Magnus vs. Simmons
END:VALARM
END:VEVENT
BEGIN:VEVENT
UID:gnac-50370583-20221005@quickscores.com
DTSTAMP:20260421T000700Z
DTSTART;TZID=America/New_York:20221005
SUMMARY:Simmons vs. Saint Joseph's ME
DESCRIPTION:2022 Field Hockey 10/25/21 - Great Northeast Athletic Conference
LOCATION:Daly Field Brighton
CATEGORIES:QuickScores, Field Hockey Game
TRANSP:OPAQUE
BEGIN:VALARM
TRIGGER:-PT2H
ACTION:DISPLAY
DESCRIPTION:Simmons vs. Saint Joseph's ME
END:VALARM
END:VEVENT
BEGIN:VEVENT
UID:gnac-50370633-20221008@quickscores.com
DTSTAMP:20260421T000700Z
DTSTART;TZID=America/New_York:20221008
SUMMARY:Simmons vs. Colby Sawyer
DESCRIPTION:2022 CSC can share a bus with WS --- 2022 Field Hockey 10/25/21 - Great Northeast Athletic Conference
LOCATION:Daly Field Brighton
CATEGORIES:QuickScores, Field Hockey Game
TRANSP:OPAQUE
BEGIN:VALARM
TRIGGER:-PT2H
ACTION:DISPLAY
DESCRIPTION:Simmons vs. Colby Sawyer
END:VALARM
END:VEVENT
BEGIN:VEVENT
UID:gnac-50370657-20221012@quickscores.com
DTSTAMP:20260421T000700Z
DTSTART;TZID=America/New_York:20221012
SUMMARY:Simmons vs. Saint Joseph CT
DESCRIPTION:2022 Field Hockey 10/25/21 - Great Northeast Athletic Conference
LOCATION:Daly Field Brighton
CATEGORIES:QuickScores, Field Hockey Game
TRANSP:OPAQUE
BEGIN:VALARM
TRIGGER:-PT2H
ACTION:DISPLAY
DESCRIPTION:Simmons vs. Saint Joseph CT
END:VALARM
END:VEVENT
BEGIN:VEVENT
UID:gnac-50370598-20221015@quickscores.com
DTSTAMP:20260421T000700Z
DTSTART;TZID=America/New_York:20221015
SUMMARY:Lasell vs. Simmons
DESCRIPTION:2022 LAS homecoming --- 2022 Field Hockey 10/25/21 - Great Northeast Athletic Conference
LOCATION:Lasell Newton
CATEGORIES:QuickScores, Field Hockey Game
TRANSP:OPAQUE
BEGIN:VALARM
TRIGGER:-PT2H
ACTION:DISPLAY
DESCRIPTION:Lasell vs. Simmons
END:VALARM
END:VEVENT
BEGIN:VEVENT
UID:gnac-50370593-20221022@quickscores.com
DTSTAMP:20260421T000700Z
DTSTART;TZID=America/New_York:20221022
SUMMARY:Regis vs. Simmons
DESCRIPTION:2022 Field Hockey 10/25/21 - Great Northeast Athletic Conference
LOCATION:Regis Weston MA
CATEGORIES:QuickScores, Field Hockey Game
TRANSP:OPAQUE
BEGIN:VALARM
TRIGGER:-PT2H
ACTION:DISPLAY
DESCRIPTION:Regis vs. Simmons
END:VALARM
END:VEVENT
BEGIN:VEVENT
UID:gnac-50370653-20221026@quickscores.com
DTSTAMP:20260421T000700Z
DTSTART;TZID=America/New_York:20221026
SUMMARY:Dean vs. Simmons
DESCRIPTION:2022 Field Hockey 10/25/21 - Great Northeast Athletic Conference
LOCATION:Franklin MA
CATEGORIES:QuickScores, Field Hockey Game
TRANSP:OPAQUE
BEGIN:VALARM
TRIGGER:-PT2H
ACTION:DISPLAY
DESCRIPTION:Dean vs. Simmons
END:VALARM
END:VEVENT
END:VCALENDAR
