BEGIN:VCALENDAR
VERSION:2.0
PRODID:-//QuickScores.com//BQ Dynamic iCal Creator//EN
METHOD:PUBLISH
X-WR-CALNAME:Dean - 2022 Field Hockey 10/25/21 - Fall 2022
X-WR-CALDESC:QuickScores game calendar
X-PUBLISHED-TTL:PT24H
REFRESH-INTERVAL;VALUE=DURATION:PT24H
CALSCALE:GREGORIAN
BEGIN:VTIMEZONE
TZID:America/New_York
X-LIC-LOCATION:America/New_York
BEGIN:DAYLIGHT
TZNAME:EDT
TZOFFSETFROM:-0500
TZOFFSETTO:-0400
DTSTART:19700308T020000
RRULE:FREQ=YEARLY;BYMONTH=3;BYDAY=2SU
END:DAYLIGHT
BEGIN:STANDARD
TZNAME:EST
TZOFFSETFROM:-0400
TZOFFSETTO:-0500
DTSTART:19701101T020000
RRULE:FREQ=YEARLY;BYMONTH=11;BYDAY=1SU
END:STANDARD
END:VTIMEZONE
BEGIN:VEVENT
UID:gnac-50370651-20220910@quickscores.com
DTSTAMP:20260420T224500Z
DTSTART;TZID=America/New_York:20220910
SUMMARY:Johnson and Wales vs. Dean
DESCRIPTION:2022 Field Hockey 10/25/21 - Great Northeast Athletic Conference
LOCATION:Scotts Miracle Gro Athletic Complex
CATEGORIES:QuickScores, Field Hockey Game
TRANSP:OPAQUE
BEGIN:VALARM
TRIGGER:-PT2H
ACTION:DISPLAY
DESCRIPTION:Johnson and Wales vs. Dean
END:VALARM
END:VEVENT
BEGIN:VEVENT
UID:gnac-50370650-20220917@quickscores.com
DTSTAMP:20260420T224500Z
DTSTART;TZID=America/New_York:20220917
SUMMARY:Colby Sawyer vs. Dean
DESCRIPTION:2022 Dean can share a bus with WVB --- 2022 Field Hockey 10/25/21 - Great Northeast Athletic Conference
LOCATION:New London NH
CATEGORIES:QuickScores, Field Hockey Game
TRANSP:OPAQUE
BEGIN:VALARM
TRIGGER:-PT2H
ACTION:DISPLAY
DESCRIPTION:Colby Sawyer vs. Dean
END:VALARM
END:VEVENT
BEGIN:VEVENT
UID:gnac-50370652-20220924@quickscores.com
DTSTAMP:20260420T224500Z
DTSTART;TZID=America/New_York:20220924
SUMMARY:Regis vs. Dean
DESCRIPTION:2022 Dean can share a bus with WVB. 2022 Regis homecoming --- 2022 Field Hockey 10/25/21 - Great Northeast Athletic Conference
LOCATION:Regis Weston MA
CATEGORIES:QuickScores, Field Hockey Game
TRANSP:OPAQUE
BEGIN:VALARM
TRIGGER:-PT2H
ACTION:DISPLAY
DESCRIPTION:Regis vs. Dean
END:VALARM
END:VEVENT
BEGIN:VEVENT
UID:gnac-50370649-20221001@quickscores.com
DTSTAMP:20260420T224500Z
DTSTART;TZID=America/New_York:20221001
SUMMARY:Anna Maria vs. Dean
DESCRIPTION:2022 Dean can share a bus with WS. 2022 AMC homecoming --- 2022 Field Hockey 10/25/21 - Great Northeast Athletic Conference
LOCATION:Paxton MA
CATEGORIES:QuickScores, Field Hockey Game
TRANSP:OPAQUE
BEGIN:VALARM
TRIGGER:-PT2H
ACTION:DISPLAY
DESCRIPTION:Anna Maria vs. Dean
END:VALARM
END:VEVENT
BEGIN:VEVENT
UID:gnac-50370639-20221005@quickscores.com
DTSTAMP:20260420T224500Z
DTSTART;TZID=America/New_York:20221005
SUMMARY:Dean vs. Lasell
DESCRIPTION:2022 Field Hockey 10/25/21 - Great Northeast Athletic Conference
LOCATION:Franklin MA
CATEGORIES:QuickScores, Field Hockey Game
TRANSP:OPAQUE
BEGIN:VALARM
TRIGGER:-PT2H
ACTION:DISPLAY
DESCRIPTION:Dean vs. Lasell
END:VALARM
END:VEVENT
BEGIN:VEVENT
UID:gnac-50370670-20221008@quickscores.com
DTSTAMP:20260420T224500Z
DTSTART;TZID=America/New_York:20221008
SUMMARY:Dean vs. Elms
DESCRIPTION:2022 Dean homecoming --- 2022 Field Hockey 10/25/21 - Great Northeast Athletic Conference
LOCATION:Franklin MA
CATEGORIES:QuickScores, Field Hockey Game
TRANSP:OPAQUE
BEGIN:VALARM
TRIGGER:-PT2H
ACTION:DISPLAY
DESCRIPTION:Dean vs. Elms
END:VALARM
END:VEVENT
BEGIN:VEVENT
UID:gnac-50370644-20221012@quickscores.com
DTSTAMP:20260420T224500Z
DTSTART;TZID=America/New_York:20221012
SUMMARY:Dean vs. Albertus Magnus
DESCRIPTION:2022 Field Hockey 10/25/21 - Great Northeast Athletic Conference
LOCATION:Franklin MA
CATEGORIES:QuickScores, Field Hockey Game
TRANSP:OPAQUE
BEGIN:VALARM
TRIGGER:-PT2H
ACTION:DISPLAY
DESCRIPTION:Dean vs. Albertus Magnus
END:VALARM
END:VEVENT
BEGIN:VEVENT
UID:gnac-50370648-20221015@quickscores.com
DTSTAMP:20260420T224500Z
DTSTART;TZID=America/New_York:20221015
SUMMARY:Dean vs. Rivier
DESCRIPTION:2022 Dean homecoming --- 2022 Field Hockey 10/25/21 - Great Northeast Athletic Conference
LOCATION:Franklin MA
CATEGORIES:QuickScores, Field Hockey Game
TRANSP:OPAQUE
BEGIN:VALARM
TRIGGER:-PT2H
ACTION:DISPLAY
DESCRIPTION:Dean vs. Rivier
END:VALARM
END:VEVENT
BEGIN:VEVENT
UID:gnac-50370645-20221019@quickscores.com
DTSTAMP:20260420T224500Z
DTSTART;TZID=America/New_York:20221019
SUMMARY:Dean vs. Saint Joseph CT
DESCRIPTION:2022 Field Hockey 10/25/21 - Great Northeast Athletic Conference
LOCATION:Franklin MA
CATEGORIES:QuickScores, Field Hockey Game
TRANSP:OPAQUE
BEGIN:VALARM
TRIGGER:-PT2H
ACTION:DISPLAY
DESCRIPTION:Dean vs. Saint Joseph CT
END:VALARM
END:VEVENT
BEGIN:VEVENT
UID:gnac-50370641-20221022@quickscores.com
DTSTAMP:20260420T224500Z
DTSTART;TZID=America/New_York:20221022
SUMMARY:Saint Joseph's ME vs. Dean
DESCRIPTION:2022 Field Hockey 10/25/21 - Great Northeast Athletic Conference
LOCATION:Standish ME
CATEGORIES:QuickScores, Field Hockey Game
TRANSP:OPAQUE
BEGIN:VALARM
TRIGGER:-PT2H
ACTION:DISPLAY
DESCRIPTION:Saint Joseph's ME vs. Dean
END:VALARM
END:VEVENT
BEGIN:VEVENT
UID:gnac-50370653-20221026@quickscores.com
DTSTAMP:20260420T224500Z
DTSTART;TZID=America/New_York:20221026
SUMMARY:Dean vs. Simmons
DESCRIPTION:2022 Field Hockey 10/25/21 - Great Northeast Athletic Conference
LOCATION:Franklin MA
CATEGORIES:QuickScores, Field Hockey Game
TRANSP:OPAQUE
BEGIN:VALARM
TRIGGER:-PT2H
ACTION:DISPLAY
DESCRIPTION:Dean vs. Simmons
END:VALARM
END:VEVENT
END:VCALENDAR
