BEGIN:VCALENDAR
VERSION:2.0
PRODID:-//QuickScores.com//BQ Dynamic iCal Creator//EN
METHOD:PUBLISH
X-WR-CALNAME:Colby Sawyer - 2022 Field Hockey 10/25/21 - Fall 2022
X-WR-CALDESC:QuickScores game calendar
X-PUBLISHED-TTL:PT24H
REFRESH-INTERVAL;VALUE=DURATION:PT24H
CALSCALE:GREGORIAN
BEGIN:VTIMEZONE
TZID:America/New_York
X-LIC-LOCATION:America/New_York
BEGIN:DAYLIGHT
TZNAME:EDT
TZOFFSETFROM:-0500
TZOFFSETTO:-0400
DTSTART:19700308T020000
RRULE:FREQ=YEARLY;BYMONTH=3;BYDAY=2SU
END:DAYLIGHT
BEGIN:STANDARD
TZNAME:EST
TZOFFSETFROM:-0400
TZOFFSETTO:-0500
DTSTART:19701101T020000
RRULE:FREQ=YEARLY;BYMONTH=11;BYDAY=1SU
END:STANDARD
END:VTIMEZONE
BEGIN:VEVENT
UID:gnac-50370654-20220910@quickscores.com
DTSTAMP:20260421T002400Z
DTSTART;TZID=America/New_York:20220910
SUMMARY:Saint Joseph CT vs. Colby Sawyer
DESCRIPTION:2022 Field Hockey 10/25/21 - Great Northeast Athletic Conference
LOCATION:W. Hartford, CT
CATEGORIES:QuickScores, Field Hockey Game
TRANSP:OPAQUE
BEGIN:VALARM
TRIGGER:-PT2H
ACTION:DISPLAY
DESCRIPTION:Saint Joseph CT vs. Colby Sawyer
END:VALARM
END:VEVENT
BEGIN:VEVENT
UID:gnac-50370650-20220917@quickscores.com
DTSTAMP:20260421T002400Z
DTSTART;TZID=America/New_York:20220917
SUMMARY:Colby Sawyer vs. Dean
DESCRIPTION:2022 Dean can share a bus with WVB --- 2022 Field Hockey 10/25/21 - Great Northeast Athletic Conference
LOCATION:New London NH
CATEGORIES:QuickScores, Field Hockey Game
TRANSP:OPAQUE
BEGIN:VALARM
TRIGGER:-PT2H
ACTION:DISPLAY
DESCRIPTION:Colby Sawyer vs. Dean
END:VALARM
END:VEVENT
BEGIN:VEVENT
UID:gnac-50370623-20220924@quickscores.com
DTSTAMP:20260421T002400Z
DTSTART;TZID=America/New_York:20220924
SUMMARY:Colby Sawyer vs. Lasell
DESCRIPTION:2022 LAS can share a bus with WS --- 2022 Field Hockey 10/25/21 - Great Northeast Athletic Conference
LOCATION:New London NH
CATEGORIES:QuickScores, Field Hockey Game
TRANSP:OPAQUE
BEGIN:VALARM
TRIGGER:-PT2H
ACTION:DISPLAY
DESCRIPTION:Colby Sawyer vs. Lasell
END:VALARM
END:VEVENT
BEGIN:VEVENT
UID:gnac-50370629-20221001@quickscores.com
DTSTAMP:20260421T002400Z
DTSTART;TZID=America/New_York:20221001
SUMMARY:Rivier vs. Colby Sawyer
DESCRIPTION:2022 Field Hockey 10/25/21 - Great Northeast Athletic Conference
LOCATION:Nashua, NH
CATEGORIES:QuickScores, Field Hockey Game
TRANSP:OPAQUE
BEGIN:VALARM
TRIGGER:-PT2H
ACTION:DISPLAY
DESCRIPTION:Rivier vs. Colby Sawyer
END:VALARM
END:VEVENT
BEGIN:VEVENT
UID:gnac-50370625-20221005@quickscores.com
DTSTAMP:20260421T002400Z
DTSTART;TZID=America/New_York:20221005
SUMMARY:Colby Sawyer vs. Anna Maria
DESCRIPTION:2022 Field Hockey 10/25/21 - Great Northeast Athletic Conference
LOCATION:New London NH
CATEGORIES:QuickScores, Field Hockey Game
TRANSP:OPAQUE
BEGIN:VALARM
TRIGGER:-PT2H
ACTION:DISPLAY
DESCRIPTION:Colby Sawyer vs. Anna Maria
END:VALARM
END:VEVENT
BEGIN:VEVENT
UID:gnac-50370633-20221008@quickscores.com
DTSTAMP:20260421T002400Z
DTSTART;TZID=America/New_York:20221008
SUMMARY:Simmons vs. Colby Sawyer
DESCRIPTION:2022 CSC can share a bus with WS --- 2022 Field Hockey 10/25/21 - Great Northeast Athletic Conference
LOCATION:Daly Field Brighton
CATEGORIES:QuickScores, Field Hockey Game
TRANSP:OPAQUE
BEGIN:VALARM
TRIGGER:-PT2H
ACTION:DISPLAY
DESCRIPTION:Simmons vs. Colby Sawyer
END:VALARM
END:VEVENT
BEGIN:VEVENT
UID:gnac-50370632-20221012@quickscores.com
DTSTAMP:20260421T002400Z
DTSTART;TZID=America/New_York:20221012
SUMMARY:Colby Sawyer vs. Saint Joseph's ME
DESCRIPTION:2022 Field Hockey 10/25/21 - Great Northeast Athletic Conference
LOCATION:New London NH
CATEGORIES:QuickScores, Field Hockey Game
TRANSP:OPAQUE
BEGIN:VALARM
TRIGGER:-PT2H
ACTION:DISPLAY
DESCRIPTION:Colby Sawyer vs. Saint Joseph's ME
END:VALARM
END:VEVENT
BEGIN:VEVENT
UID:gnac-50370660-20221015@quickscores.com
DTSTAMP:20260421T002400Z
DTSTART;TZID=America/New_York:20221015
SUMMARY:Colby Sawyer vs. Elms
DESCRIPTION:2022 CSC homecoming --- 2022 Field Hockey 10/25/21 - Great Northeast Athletic Conference
LOCATION:New London NH
CATEGORIES:QuickScores, Field Hockey Game
TRANSP:OPAQUE
BEGIN:VALARM
TRIGGER:-PT2H
ACTION:DISPLAY
DESCRIPTION:Colby Sawyer vs. Elms
END:VALARM
END:VEVENT
BEGIN:VEVENT
UID:gnac-50370621-20221019@quickscores.com
DTSTAMP:20260421T002400Z
DTSTART;TZID=America/New_York:20221019
SUMMARY:Johnson and Wales vs. Colby Sawyer
DESCRIPTION:2022 Field Hockey 10/25/21 - Great Northeast Athletic Conference
LOCATION:Scotts Miracle Gro Athletic Complex
CATEGORIES:QuickScores, Field Hockey Game
TRANSP:OPAQUE
BEGIN:VALARM
TRIGGER:-PT2H
ACTION:DISPLAY
DESCRIPTION:Johnson and Wales vs. Colby Sawyer
END:VALARM
END:VEVENT
BEGIN:VEVENT
UID:gnac-50370627-20221022@quickscores.com
DTSTAMP:20260421T002400Z
DTSTART;TZID=America/New_York:20221022
SUMMARY:Colby Sawyer vs. Albertus Magnus
DESCRIPTION:2022 Field Hockey 10/25/21 - Great Northeast Athletic Conference
LOCATION:New London NH
CATEGORIES:QuickScores, Field Hockey Game
TRANSP:OPAQUE
BEGIN:VALARM
TRIGGER:-PT2H
ACTION:DISPLAY
DESCRIPTION:Colby Sawyer vs. Albertus Magnus
END:VALARM
END:VEVENT
BEGIN:VEVENT
UID:gnac-50370634-20221026@quickscores.com
DTSTAMP:20260421T002400Z
DTSTART;TZID=America/New_York:20221026
SUMMARY:Regis vs. Colby Sawyer
DESCRIPTION:2022 Field Hockey 10/25/21 - Great Northeast Athletic Conference
LOCATION:Regis Weston MA
CATEGORIES:QuickScores, Field Hockey Game
TRANSP:OPAQUE
BEGIN:VALARM
TRIGGER:-PT2H
ACTION:DISPLAY
DESCRIPTION:Regis vs. Colby Sawyer
END:VALARM
END:VEVENT
END:VCALENDAR
