BEGIN:VCALENDAR
VERSION:2.0
PRODID:-//QuickScores.com//BQ Dynamic iCal Creator//EN
METHOD:PUBLISH
X-WR-CALNAME:Anna Maria - 2022 Field Hockey 10/25/21 - Fall 2022
X-WR-CALDESC:QuickScores game calendar
X-PUBLISHED-TTL:PT24H
REFRESH-INTERVAL;VALUE=DURATION:PT24H
CALSCALE:GREGORIAN
BEGIN:VTIMEZONE
TZID:America/New_York
X-LIC-LOCATION:America/New_York
BEGIN:DAYLIGHT
TZNAME:EDT
TZOFFSETFROM:-0500
TZOFFSETTO:-0400
DTSTART:19700308T020000
RRULE:FREQ=YEARLY;BYMONTH=3;BYDAY=2SU
END:DAYLIGHT
BEGIN:STANDARD
TZNAME:EST
TZOFFSETFROM:-0400
TZOFFSETTO:-0500
DTSTART:19701101T020000
RRULE:FREQ=YEARLY;BYMONTH=11;BYDAY=1SU
END:STANDARD
END:VTIMEZONE
BEGIN:VEVENT
UID:gnac-50370587-20220910@quickscores.com
DTSTAMP:20260420T143900Z
DTSTART;TZID=America/New_York:20220910
SUMMARY:Simmons vs. Anna Maria
DESCRIPTION:2022 Field Hockey 10/25/21 - Great Northeast Athletic Conference
LOCATION:Daly Field Brighton
CATEGORIES:QuickScores, Field Hockey Game
TRANSP:OPAQUE
BEGIN:VALARM
TRIGGER:-PT2H
ACTION:DISPLAY
DESCRIPTION:Simmons vs. Anna Maria
END:VALARM
END:VEVENT
BEGIN:VEVENT
UID:gnac-50370594-20220917@quickscores.com
DTSTAMP:20260420T143900Z
DTSTART;TZID=America/New_York:20220917
SUMMARY:Anna Maria vs. Saint Joseph's ME
DESCRIPTION:2022 STJME  can share a bus with WS --- 2022 Field Hockey 10/25/21 - Great Northeast Athletic Conference
LOCATION:Paxton MA
CATEGORIES:QuickScores, Field Hockey Game
TRANSP:OPAQUE
BEGIN:VALARM
TRIGGER:-PT2H
ACTION:DISPLAY
DESCRIPTION:Anna Maria vs. Saint Joseph's ME
END:VALARM
END:VEVENT
BEGIN:VEVENT
UID:gnac-50370656-20220924@quickscores.com
DTSTAMP:20260420T143900Z
DTSTART;TZID=America/New_York:20220924
SUMMARY:Saint Joseph CT vs. Anna Maria
DESCRIPTION:2022 AMC can share a bus with WVB --- 2022 Field Hockey 10/25/21 - Great Northeast Athletic Conference
LOCATION:W. Hartford, CT
CATEGORIES:QuickScores, Field Hockey Game
TRANSP:OPAQUE
BEGIN:VALARM
TRIGGER:-PT2H
ACTION:DISPLAY
DESCRIPTION:Saint Joseph CT vs. Anna Maria
END:VALARM
END:VEVENT
BEGIN:VEVENT
UID:gnac-50370649-20221001@quickscores.com
DTSTAMP:20260420T143900Z
DTSTART;TZID=America/New_York:20221001
SUMMARY:Anna Maria vs. Dean
DESCRIPTION:2022 Dean can share a bus with WS. 2022 AMC homecoming --- 2022 Field Hockey 10/25/21 - Great Northeast Athletic Conference
LOCATION:Paxton MA
CATEGORIES:QuickScores, Field Hockey Game
TRANSP:OPAQUE
BEGIN:VALARM
TRIGGER:-PT2H
ACTION:DISPLAY
DESCRIPTION:Anna Maria vs. Dean
END:VALARM
END:VEVENT
BEGIN:VEVENT
UID:gnac-50370625-20221005@quickscores.com
DTSTAMP:20260420T143900Z
DTSTART;TZID=America/New_York:20221005
SUMMARY:Colby Sawyer vs. Anna Maria
DESCRIPTION:2022 Field Hockey 10/25/21 - Great Northeast Athletic Conference
LOCATION:New London NH
CATEGORIES:QuickScores, Field Hockey Game
TRANSP:OPAQUE
BEGIN:VALARM
TRIGGER:-PT2H
ACTION:DISPLAY
DESCRIPTION:Colby Sawyer vs. Anna Maria
END:VALARM
END:VEVENT
BEGIN:VEVENT
UID:gnac-50370584-20221008@quickscores.com
DTSTAMP:20260420T143900Z
DTSTART;TZID=America/New_York:20221008
SUMMARY:Lasell vs. Anna Maria
DESCRIPTION:2022 Field Hockey 10/25/21 - Great Northeast Athletic Conference
LOCATION:Lasell Newton
CATEGORIES:QuickScores, Field Hockey Game
TRANSP:OPAQUE
BEGIN:VALARM
TRIGGER:-PT2H
ACTION:DISPLAY
DESCRIPTION:Lasell vs. Anna Maria
END:VALARM
END:VEVENT
BEGIN:VEVENT
UID:gnac-50370605-20221012@quickscores.com
DTSTAMP:20260420T143900Z
DTSTART;TZID=America/New_York:20221012
SUMMARY:Anna Maria vs. Regis
DESCRIPTION:2022 Field Hockey 10/25/21 - Great Northeast Athletic Conference
LOCATION:Paxton MA
CATEGORIES:QuickScores, Field Hockey Game
TRANSP:OPAQUE
BEGIN:VALARM
TRIGGER:-PT2H
ACTION:DISPLAY
DESCRIPTION:Anna Maria vs. Regis
END:VALARM
END:VEVENT
BEGIN:VEVENT
UID:gnac-50370592-20221015@quickscores.com
DTSTAMP:20260420T143900Z
DTSTART;TZID=America/New_York:20221015
SUMMARY:Albertus Magnus vs. Anna Maria
DESCRIPTION:2022 AMC can share a bus with MS. 2022 ALB fall festival --- 2022 Field Hockey 10/25/21 - Great Northeast Athletic Conference
LOCATION:New Haven, CT
CATEGORIES:QuickScores, Field Hockey Game
TRANSP:OPAQUE
BEGIN:VALARM
TRIGGER:-PT2H
ACTION:DISPLAY
DESCRIPTION:Albertus Magnus vs. Anna Maria
END:VALARM
END:VEVENT
BEGIN:VEVENT
UID:gnac-50370599-20221019@quickscores.com
DTSTAMP:20260420T143900Z
DTSTART;TZID=America/New_York:20221019
SUMMARY:Anna Maria vs. Rivier
DESCRIPTION:2022 Field Hockey 10/25/21 - Great Northeast Athletic Conference
LOCATION:Paxton MA
CATEGORIES:QuickScores, Field Hockey Game
TRANSP:OPAQUE
BEGIN:VALARM
TRIGGER:-PT2H
ACTION:DISPLAY
DESCRIPTION:Anna Maria vs. Rivier
END:VALARM
END:VEVENT
BEGIN:VEVENT
UID:gnac-50370664-20221022@quickscores.com
DTSTAMP:20260420T143900Z
DTSTART;TZID=America/New_York:20221022
SUMMARY:Elms vs. Anna Maria
DESCRIPTION:2022 Field Hockey 10/25/21 - Great Northeast Athletic Conference
LOCATION:Timothy J. Leary Field Chicopee MA
CATEGORIES:QuickScores, Field Hockey Game
TRANSP:OPAQUE
BEGIN:VALARM
TRIGGER:-PT2H
ACTION:DISPLAY
DESCRIPTION:Elms vs. Anna Maria
END:VALARM
END:VEVENT
BEGIN:VEVENT
UID:gnac-50370606-20221026@quickscores.com
DTSTAMP:20260420T143900Z
DTSTART;TZID=America/New_York:20221026
SUMMARY:Anna Maria vs. Johnson and Wales
DESCRIPTION:2022 Field Hockey 10/25/21 - Great Northeast Athletic Conference
LOCATION:Paxton MA
CATEGORIES:QuickScores, Field Hockey Game
TRANSP:OPAQUE
BEGIN:VALARM
TRIGGER:-PT2H
ACTION:DISPLAY
DESCRIPTION:Anna Maria vs. Johnson and Wales
END:VALARM
END:VEVENT
END:VCALENDAR
