BEGIN:VCALENDAR
VERSION:2.0
PRODID:-//QuickScores.com//BQ Dynamic iCal Creator//EN
METHOD:PUBLISH
X-WR-CALNAME:Batavia  Coyle - 12u Softball - Spring 2026
X-WR-CALDESC:QuickScores game calendar
X-PUBLISHED-TTL:PT24H
REFRESH-INTERVAL;VALUE=DURATION:PT24H
CALSCALE:GREGORIAN
BEGIN:VTIMEZONE
TZID:America/Chicago
X-LIC-LOCATION:America/Chicago
BEGIN:DAYLIGHT
TZNAME:CDT
TZOFFSETFROM:-0600
TZOFFSETTO:-0500
DTSTART:19700308T020000
RRULE:FREQ=YEARLY;BYMONTH=3;BYDAY=2SU
END:DAYLIGHT
BEGIN:STANDARD
TZNAME:CST
TZOFFSETFROM:-0500
TZOFFSETTO:-0600
DTSTART:19701101T020000
RRULE:FREQ=YEARLY;BYMONTH=11;BYDAY=1SU
END:STANDARD
END:VTIMEZONE
BEGIN:VEVENT
UID:girls-74389088-20260502T100000@quickscores.com
DTSTAMP:20260425T202700Z
DTSTART;TZID=America/Chicago:20260502T100000
DURATION:PT1H0M0S
SUMMARY:Batavia  Coyle vs. St. Charles 3 - Alhofen
DESCRIPTION:12u Softball - G.I.R.L.S.
LOCATION:Batavia - Memorial Park #1
CATEGORIES:QuickScores, Softball - Fastpitch Game
TRANSP:OPAQUE
BEGIN:VALARM
TRIGGER:-PT2H
ACTION:DISPLAY
DESCRIPTION:Batavia  Coyle vs. St. Charles 3 - Alhofen
END:VALARM
END:VEVENT
BEGIN:VEVENT
UID:girls-74389133-20260513T174500@quickscores.com
DTSTAMP:20260425T202700Z
DTSTART;TZID=America/Chicago:20260513T174500
DURATION:PT1H0M0S
SUMMARY:Batavia  Coyle vs. Batavia Keltner
DESCRIPTION:12u Softball - G.I.R.L.S.
LOCATION:Batavia - Prairie & Lathem Park 1
CATEGORIES:QuickScores, Softball - Fastpitch Game
TRANSP:OPAQUE
BEGIN:VALARM
TRIGGER:-PT2H
ACTION:DISPLAY
DESCRIPTION:Batavia  Coyle vs. Batavia Keltner
END:VALARM
END:VEVENT
BEGIN:VEVENT
UID:girls-74389097-20260516T100000@quickscores.com
DTSTAMP:20260425T202700Z
DTSTART;TZID=America/Chicago:20260516T100000
DURATION:PT1H0M0S
SUMMARY:Batavia  Coyle vs. Batavia Kotalik
DESCRIPTION:12u Softball - G.I.R.L.S.
LOCATION:Batavia - Prairie & Lathem Park 1
CATEGORIES:QuickScores, Softball - Fastpitch Game
TRANSP:OPAQUE
BEGIN:VALARM
TRIGGER:-PT2H
ACTION:DISPLAY
DESCRIPTION:Batavia  Coyle vs. Batavia Kotalik
END:VALARM
END:VEVENT
BEGIN:VEVENT
UID:girls-74389116-20260519T183000@quickscores.com
DTSTAMP:20260425T202700Z
DTSTART;TZID=America/Chicago:20260519T183000
DURATION:PT1H0M0S
SUMMARY:St. Charles 3 - Alhofen vs. Batavia  Coyle
DESCRIPTION:12u Softball - G.I.R.L.S.
LOCATION:St Charles - Langum Park Field 1
CATEGORIES:QuickScores, Softball - Fastpitch Game
TRANSP:OPAQUE
BEGIN:VALARM
TRIGGER:-PT2H
ACTION:DISPLAY
DESCRIPTION:St. Charles 3 - Alhofen vs. Batavia  Coyle
END:VALARM
END:VEVENT
BEGIN:VEVENT
UID:girls-74389114-20260527T174500@quickscores.com
DTSTAMP:20260425T202700Z
DTSTART;TZID=America/Chicago:20260527T174500
DURATION:PT1H0M0S
SUMMARY:Batavia Keltner vs. Batavia  Coyle
DESCRIPTION:12u Softball - G.I.R.L.S.
LOCATION:Batavia - Prairie & Lathem Park 1
CATEGORIES:QuickScores, Softball - Fastpitch Game
TRANSP:OPAQUE
BEGIN:VALARM
TRIGGER:-PT2H
ACTION:DISPLAY
DESCRIPTION:Batavia Keltner vs. Batavia  Coyle
END:VALARM
END:VEVENT
BEGIN:VEVENT
UID:girls-74389100-20260528T183000@quickscores.com
DTSTAMP:20260425T202700Z
DTSTART;TZID=America/Chicago:20260528T183000
DURATION:PT1H0M0S
SUMMARY:St. Charles 1 - Sladek vs. Batavia  Coyle
DESCRIPTION:12u Softball - G.I.R.L.S.
LOCATION:St Charles - Langum Park Field 2
CATEGORIES:QuickScores, Softball - Fastpitch Game
TRANSP:OPAQUE
BEGIN:VALARM
TRIGGER:-PT2H
ACTION:DISPLAY
DESCRIPTION:St. Charles 1 - Sladek vs. Batavia  Coyle
END:VALARM
END:VEVENT
BEGIN:VEVENT
UID:girls-74389106-20260606T110000@quickscores.com
DTSTAMP:20260425T202700Z
DTSTART;TZID=America/Chicago:20260606T110000
DURATION:PT1H0M0S
SUMMARY:Geneva Kulaga vs. Batavia  Coyle
DESCRIPTION:12u Softball - G.I.R.L.S.
LOCATION:Geneva - Sunset Community Park
CATEGORIES:QuickScores, Softball - Fastpitch Game
TRANSP:OPAQUE
BEGIN:VALARM
TRIGGER:-PT2H
ACTION:DISPLAY
DESCRIPTION:Geneva Kulaga vs. Batavia  Coyle
END:VALARM
END:VEVENT
BEGIN:VEVENT
UID:girls-74389128-20260608T174500@quickscores.com
DTSTAMP:20260425T202700Z
DTSTART;TZID=America/Chicago:20260608T174500
DURATION:PT1H0M0S
SUMMARY:Batavia  Coyle vs. St. Charles 1 - Sladek
DESCRIPTION:12u Softball - G.I.R.L.S.
LOCATION:Batavia - Big Woods Park
CATEGORIES:QuickScores, Softball - Fastpitch Game
TRANSP:OPAQUE
BEGIN:VALARM
TRIGGER:-PT2H
ACTION:DISPLAY
DESCRIPTION:Batavia  Coyle vs. St. Charles 1 - Sladek
END:VALARM
END:VEVENT
BEGIN:VEVENT
UID:girls-74389125-20260610T174500@quickscores.com
DTSTAMP:20260425T202700Z
DTSTART;TZID=America/Chicago:20260610T174500
DURATION:PT1H0M0S
SUMMARY:Batavia Kotalik vs. Batavia  Coyle
DESCRIPTION:12u Softball - G.I.R.L.S.
LOCATION:Batavia - Engstrom Park
CATEGORIES:QuickScores, Softball - Fastpitch Game
TRANSP:OPAQUE
BEGIN:VALARM
TRIGGER:-PT2H
ACTION:DISPLAY
DESCRIPTION:Batavia Kotalik vs. Batavia  Coyle
END:VALARM
END:VEVENT
BEGIN:VEVENT
UID:girls-74389109-20260613T123000@quickscores.com
DTSTAMP:20260425T202700Z
DTSTART;TZID=America/Chicago:20260613T123000
DURATION:PT1H0M0S
SUMMARY:Batavia  Coyle vs. St. Charles 2 - Mayo
DESCRIPTION:12u Softball - G.I.R.L.S.
LOCATION:Batavia - Memorial Park #1
CATEGORIES:QuickScores, Softball - Fastpitch Game
TRANSP:OPAQUE
BEGIN:VALARM
TRIGGER:-PT2H
ACTION:DISPLAY
DESCRIPTION:Batavia  Coyle vs. St. Charles 2 - Mayo
END:VALARM
END:VEVENT
END:VCALENDAR
