BEGIN:VCALENDAR
VERSION:2.0
PRODID:-//QuickScores.com//BQ Dynamic iCal Creator//EN
METHOD:PUBLISH
X-WR-CALNAME:PTR Barbee - Gabl Major - Spring 2026
X-WR-CALDESC:QuickScores game calendar
X-PUBLISHED-TTL:PT24H
REFRESH-INTERVAL;VALUE=DURATION:PT24H
CALSCALE:GREGORIAN
BEGIN:VTIMEZONE
TZID:America/New_York
X-LIC-LOCATION:America/New_York
BEGIN:DAYLIGHT
TZNAME:EDT
TZOFFSETFROM:-0500
TZOFFSETTO:-0400
DTSTART:19700308T020000
RRULE:FREQ=YEARLY;BYMONTH=3;BYDAY=2SU
END:DAYLIGHT
BEGIN:STANDARD
TZNAME:EST
TZOFFSETFROM:-0400
TZOFFSETTO:-0500
DTSTART:19701101T020000
RRULE:FREQ=YEARLY;BYMONTH=11;BYDAY=1SU
END:STANDARD
END:VTIMEZONE
BEGIN:VEVENT
UID:gabl-73348606-20260313T193000@quickscores.com
DTSTAMP:20260424T225000Z
DTSTART;TZID=America/New_York:20260313T193000
DURATION:PT1H40M0S
SUMMARY:PTR Barbee vs. CH Grey
DESCRIPTION:PTR Big RED: Adam K. - 72.CH Grey: Archer M. - 65, Bryce Y. - 40 --- Gabl Major - Gwinnett Alliance Baseball League
LOCATION:CHP 2
CATEGORIES:QuickScores, Baseball Game
TRANSP:OPAQUE
BEGIN:VALARM
TRIGGER:-PT2H
ACTION:DISPLAY
DESCRIPTION:PTR Barbee vs. CH Grey
END:VALARM
END:VEVENT
BEGIN:VEVENT
UID:gabl-73348607-20260314T140000@quickscores.com
DTSTAMP:20260424T225000Z
DTSTART;TZID=America/New_York:20260314T140000
DURATION:PT1H40M0S
SUMMARY:PTR Barbee vs. Lanier Grey
DESCRIPTION:PTR Big RED: Brady R. - 78Lanier Grey: Mikah O. - 27, Grae A. - 20, Josiah J. - 11, Jayden B. - 21 --- Gabl Major - Gwinnett Alliance Baseball League
LOCATION:PTR 2
CATEGORIES:QuickScores, Baseball Game
TRANSP:OPAQUE
BEGIN:VALARM
TRIGGER:-PT2H
ACTION:DISPLAY
DESCRIPTION:PTR Barbee vs. Lanier Grey
END:VALARM
END:VEVENT
BEGIN:VEVENT
UID:gabl-73348620-20260324T180000@quickscores.com
DTSTAMP:20260424T225000Z
DTSTART;TZID=America/New_York:20260324T180000
DURATION:PT1H40M0S
SUMMARY:PTR Hibbert vs. PTR Barbee
DESCRIPTION:Barbee: Adam K-80. Brady R-20Hibbert: Jake B-42. Juan A.-36. Jonah C-25. --- Gabl Major - Gwinnett Alliance Baseball League
LOCATION:PTR 2
CATEGORIES:QuickScores, Baseball Game
TRANSP:OPAQUE
BEGIN:VALARM
TRIGGER:-PT2H
ACTION:DISPLAY
DESCRIPTION:PTR Hibbert vs. PTR Barbee
END:VALARM
END:VEVENT
BEGIN:VEVENT
UID:gabl-73348625-20260328T110000@quickscores.com
DTSTAMP:20260424T225000Z
DTSTART;TZID=America/New_York:20260328T110000
DURATION:PT1H40M0S
SUMMARY:NG Red Hunter vs. PTR Barbee
DESCRIPTION:NG:  Santamaria. - 70PTR: Aiden C. - 48, Jesus M. - 25, Adam K. - 10 --- Gabl Major - Gwinnett Alliance Baseball League
LOCATION:PTR 2
CATEGORIES:QuickScores, Baseball Game
TRANSP:OPAQUE
BEGIN:VALARM
TRIGGER:-PT2H
ACTION:DISPLAY
DESCRIPTION:NG Red Hunter vs. PTR Barbee
END:VALARM
END:VEVENT
BEGIN:VEVENT
UID:gabl-73348627-20260331T194500@quickscores.com
DTSTAMP:20260424T225000Z
DTSTART;TZID=America/New_York:20260331T194500
DURATION:PT1H40M0S
SUMMARY:PTR Barbee vs. CH Green
DESCRIPTION:PTR Big RED: Brady R. - 51CH Green: Elias F. - 58, Ashton R. - 33, Harrison V. - 3 --- Gabl Major - Gwinnett Alliance Baseball League
LOCATION:PTR 2
CATEGORIES:QuickScores, Baseball Game
TRANSP:OPAQUE
BEGIN:VALARM
TRIGGER:-PT2H
ACTION:DISPLAY
DESCRIPTION:PTR Barbee vs. CH Green
END:VALARM
END:VEVENT
BEGIN:VEVENT
UID:gabl-73348630-20260402T193000@quickscores.com
DTSTAMP:20260424T225000Z
DTSTART;TZID=America/New_York:20260402T193000
DURATION:PT1H40M0S
SUMMARY:PTR Barbee vs. PTR Hibbert
DESCRIPTION:Barbee: Adam K. - 80, Jesus M. - 16Hibbert: Jonah C. - 74 --- Gabl Major - Gwinnett Alliance Baseball League
LOCATION:PTR 2
CATEGORIES:QuickScores, Baseball Game
TRANSP:OPAQUE
BEGIN:VALARM
TRIGGER:-PT2H
ACTION:DISPLAY
DESCRIPTION:PTR Barbee vs. PTR Hibbert
END:VALARM
END:VEVENT
BEGIN:VEVENT
UID:gabl-73348635-20260416T193000@quickscores.com
DTSTAMP:20260424T225000Z
DTSTART;TZID=America/New_York:20260416T193000
DURATION:PT1H40M0S
SUMMARY:Lanier Black vs. PTR Barbee
DESCRIPTION:Lanier: Harwell - 41, Childers - 23, David - 16PTR Barbee: Jesus M. - 45, Aiden C. - 22 Adam K. - 8, --- Gabl Major - Gwinnett Alliance Baseball League
LOCATION:EER 6
CATEGORIES:QuickScores, Baseball Game
TRANSP:OPAQUE
BEGIN:VALARM
TRIGGER:-PT2H
ACTION:DISPLAY
DESCRIPTION:Lanier Black vs. PTR Barbee
END:VALARM
END:VEVENT
BEGIN:VEVENT
UID:gabl-73348639-20260418T110000@quickscores.com
DTSTAMP:20260424T225000Z
DTSTART;TZID=America/New_York:20260418T110000
DURATION:PT1H40M0S
SUMMARY:PTR Barbee vs. NG Black Calvert
DESCRIPTION:NG Black Calvert: Everett - 40, Landon - 7, Nicco - 19PTR Big RED: Aiden C. - 40, Adam K. - 58 --- Gabl Major - Gwinnett Alliance Baseball League
LOCATION:PTR 2
CATEGORIES:QuickScores, Baseball Game
TRANSP:OPAQUE
BEGIN:VALARM
TRIGGER:-PT2H
ACTION:DISPLAY
DESCRIPTION:PTR Barbee vs. NG Black Calvert
END:VALARM
END:VEVENT
BEGIN:VEVENT
UID:gabl-73348643-20260421T193000@quickscores.com
DTSTAMP:20260424T225000Z
DTSTART;TZID=America/New_York:20260421T193000
DURATION:PT1H40M0S
SUMMARY:PTR Huitron vs. PTR Barbee
DESCRIPTION:PR Blue- Conklin-59, Sauers-36, Huitron-18PR Red- Rounds-65, Choi-15 --- Gabl Major - Gwinnett Alliance Baseball League
LOCATION:PTR 2
CATEGORIES:QuickScores, Baseball Game
TRANSP:OPAQUE
BEGIN:VALARM
TRIGGER:-PT2H
ACTION:DISPLAY
DESCRIPTION:PTR Huitron vs. PTR Barbee
END:VALARM
END:VEVENT
BEGIN:VEVENT
UID:gabl-73348649-20260425T133000@quickscores.com
DTSTAMP:20260424T225000Z
DTSTART;TZID=America/New_York:20260425T133000
DURATION:PT1H40M0S
SUMMARY:NG Black Calvert vs. PTR Barbee
DESCRIPTION:MOved from CHP --- Gabl Major - Gwinnett Alliance Baseball League
LOCATION:GPP 5
CATEGORIES:QuickScores, Baseball Game
TRANSP:OPAQUE
BEGIN:VALARM
TRIGGER:-PT2H
ACTION:DISPLAY
DESCRIPTION:NG Black Calvert vs. PTR Barbee
END:VALARM
END:VEVENT
BEGIN:VEVENT
UID:gabl-73348650-20260428T193000@quickscores.com
DTSTAMP:20260424T225000Z
DTSTART;TZID=America/New_York:20260428T193000
DURATION:PT1H40M0S
SUMMARY:CH Green vs. PTR Barbee
DESCRIPTION:Gabl Major - Gwinnett Alliance Baseball League
LOCATION:CHP 2
CATEGORIES:QuickScores, Baseball Game
TRANSP:OPAQUE
BEGIN:VALARM
TRIGGER:-PT2H
ACTION:DISPLAY
DESCRIPTION:CH Green vs. PTR Barbee
END:VALARM
END:VEVENT
BEGIN:VEVENT
UID:gabl-73348659-20260509T133000@quickscores.com
DTSTAMP:20260424T225000Z
DTSTART;TZID=America/New_York:20260509T133000
DURATION:PT1H40M0S
SUMMARY:PTR Barbee vs. NG Grey Gosselin
DESCRIPTION:MOved from CHP --- Gabl Major - Gwinnett Alliance Baseball League
LOCATION:CHP 2
CATEGORIES:QuickScores, Baseball Game
TRANSP:OPAQUE
BEGIN:VALARM
TRIGGER:-PT2H
ACTION:DISPLAY
DESCRIPTION:PTR Barbee vs. NG Grey Gosselin
END:VALARM
END:VEVENT
END:VCALENDAR
