BEGIN:VCALENDAR
VERSION:2.0
PRODID:-//QuickScores.com//BQ Dynamic iCal Creator//EN
METHOD:PUBLISH
X-WR-CALNAME:Lanier Orange - Gabl T-ball - Spring 2026
X-WR-CALDESC:QuickScores game calendar
X-PUBLISHED-TTL:PT24H
REFRESH-INTERVAL;VALUE=DURATION:PT24H
CALSCALE:GREGORIAN
BEGIN:VTIMEZONE
TZID:America/New_York
X-LIC-LOCATION:America/New_York
BEGIN:DAYLIGHT
TZNAME:EDT
TZOFFSETFROM:-0500
TZOFFSETTO:-0400
DTSTART:19700308T020000
RRULE:FREQ=YEARLY;BYMONTH=3;BYDAY=2SU
END:DAYLIGHT
BEGIN:STANDARD
TZNAME:EST
TZOFFSETFROM:-0400
TZOFFSETTO:-0500
DTSTART:19701101T020000
RRULE:FREQ=YEARLY;BYMONTH=11;BYDAY=1SU
END:STANDARD
END:VTIMEZONE
BEGIN:VEVENT
UID:gabl-73338333-20260311T180000@quickscores.com
DTSTAMP:20260425T134300Z
DTSTART;TZID=America/New_York:20260311T180000
DURATION:PT1H10M0S
SUMMARY:Lanier Orange vs. PTR Sanchez
DESCRIPTION:Gabl T-ball - Gwinnett Alliance Baseball League
LOCATION:EER 1
CATEGORIES:QuickScores, Baseball Game
TRANSP:OPAQUE
BEGIN:VALARM
TRIGGER:-PT2H
ACTION:DISPLAY
DESCRIPTION:Lanier Orange vs. PTR Sanchez
END:VALARM
END:VEVENT
BEGIN:VEVENT
UID:gabl-73338347-20260325T180000@quickscores.com
DTSTAMP:20260425T134300Z
DTSTART;TZID=America/New_York:20260325T180000
DURATION:PT1H10M0S
SUMMARY:Lanier Orange vs. CH Green
DESCRIPTION:Gabl T-ball - Gwinnett Alliance Baseball League
LOCATION:EER 1
CATEGORIES:QuickScores, Baseball Game
TRANSP:OPAQUE
BEGIN:VALARM
TRIGGER:-PT2H
ACTION:DISPLAY
DESCRIPTION:Lanier Orange vs. CH Green
END:VALARM
END:VEVENT
BEGIN:VEVENT
UID:gabl-73338349-20260328T113000@quickscores.com
DTSTAMP:20260425T134300Z
DTSTART;TZID=America/New_York:20260328T113000
DURATION:PT1H10M0S
SUMMARY:PTR Sanchez vs. Lanier Orange
DESCRIPTION:Gabl T-ball - Gwinnett Alliance Baseball League
LOCATION:PTR 1
CATEGORIES:QuickScores, Baseball Game
TRANSP:OPAQUE
BEGIN:VALARM
TRIGGER:-PT2H
ACTION:DISPLAY
DESCRIPTION:PTR Sanchez vs. Lanier Orange
END:VALARM
END:VEVENT
BEGIN:VEVENT
UID:gabl-73338354-20260401T180000@quickscores.com
DTSTAMP:20260425T134300Z
DTSTART;TZID=America/New_York:20260401T180000
DURATION:PT1H10M0S
SUMMARY:Lanier Orange vs. Lanier White
DESCRIPTION:Gabl T-ball - Gwinnett Alliance Baseball League
LOCATION:EER 1
CATEGORIES:QuickScores, Baseball Game
TRANSP:OPAQUE
BEGIN:VALARM
TRIGGER:-PT2H
ACTION:DISPLAY
DESCRIPTION:Lanier Orange vs. Lanier White
END:VALARM
END:VEVENT
BEGIN:VEVENT
UID:gabl-73338361-20260415T180000@quickscores.com
DTSTAMP:20260425T134300Z
DTSTART;TZID=America/New_York:20260415T180000
DURATION:PT1H10M0S
SUMMARY:CH Green Camo vs. Lanier Orange
DESCRIPTION:Gabl T-ball - Gwinnett Alliance Baseball League
LOCATION:CHP 6
CATEGORIES:QuickScores, Baseball Game
TRANSP:OPAQUE
BEGIN:VALARM
TRIGGER:-PT2H
ACTION:DISPLAY
DESCRIPTION:CH Green Camo vs. Lanier Orange
END:VALARM
END:VEVENT
BEGIN:VEVENT
UID:gabl-73338337-20260416T180000@quickscores.com
DTSTAMP:20260425T134300Z
DTSTART;TZID=America/New_York:20260416T180000
DURATION:PT1H10M0S
SUMMARY:PTR Green vs. Lanier Orange
DESCRIPTION:Rain out 3/16 --- Gabl T-ball - Gwinnett Alliance Baseball League
LOCATION:PTR 1
CATEGORIES:QuickScores, Baseball Game
TRANSP:OPAQUE
BEGIN:VALARM
TRIGGER:-PT2H
ACTION:DISPLAY
DESCRIPTION:PTR Green vs. Lanier Orange
END:VALARM
END:VEVENT
BEGIN:VEVENT
UID:gabl-73338367-20260422T180000@quickscores.com
DTSTAMP:20260425T134300Z
DTSTART;TZID=America/New_York:20260422T180000
DURATION:PT1H10M0S
SUMMARY:Lanier Orange vs. Lanier Grey
DESCRIPTION:Gabl T-ball - Gwinnett Alliance Baseball League
LOCATION:EER 1
CATEGORIES:QuickScores, Baseball Game
TRANSP:OPAQUE
BEGIN:VALARM
TRIGGER:-PT2H
ACTION:DISPLAY
DESCRIPTION:Lanier Orange vs. Lanier Grey
END:VALARM
END:VEVENT
BEGIN:VEVENT
UID:gabl-73338371-20260425T113000@quickscores.com
DTSTAMP:20260425T134300Z
DTSTART;TZID=America/New_York:20260425T113000
DURATION:PT1H10M0S
SUMMARY:CH Green vs. Lanier Orange
DESCRIPTION:Gabl T-ball - Gwinnett Alliance Baseball League
LOCATION:CHP 6
CATEGORIES:QuickScores, Baseball Game
TRANSP:OPAQUE
BEGIN:VALARM
TRIGGER:-PT2H
ACTION:DISPLAY
DESCRIPTION:CH Green vs. Lanier Orange
END:VALARM
END:VEVENT
BEGIN:VEVENT
UID:gabl-73338377-20260429T180000@quickscores.com
DTSTAMP:20260425T134300Z
DTSTART;TZID=America/New_York:20260429T180000
DURATION:PT1H10M0S
SUMMARY:CH Grey vs. Lanier Orange
DESCRIPTION:Gabl T-ball - Gwinnett Alliance Baseball League
LOCATION:CHP 6
CATEGORIES:QuickScores, Baseball Game
TRANSP:OPAQUE
BEGIN:VALARM
TRIGGER:-PT2H
ACTION:DISPLAY
DESCRIPTION:CH Grey vs. Lanier Orange
END:VALARM
END:VEVENT
BEGIN:VEVENT
UID:gabl-73338382-20260502T090000@quickscores.com
DTSTAMP:20260425T134300Z
DTSTART;TZID=America/New_York:20260502T090000
DURATION:PT1H10M0S
SUMMARY:Lanier Orange vs. PTR Bagwell
DESCRIPTION:Gabl T-ball - Gwinnett Alliance Baseball League
LOCATION:EER 1
CATEGORIES:QuickScores, Baseball Game
TRANSP:OPAQUE
BEGIN:VALARM
TRIGGER:-PT2H
ACTION:DISPLAY
DESCRIPTION:Lanier Orange vs. PTR Bagwell
END:VALARM
END:VEVENT
BEGIN:VEVENT
UID:gabl-73338385-20260505T180000@quickscores.com
DTSTAMP:20260425T134300Z
DTSTART;TZID=America/New_York:20260505T180000
DURATION:PT1H10M0S
SUMMARY:Lanier Grey vs. Lanier Orange
DESCRIPTION:Gabl T-ball - Gwinnett Alliance Baseball League
LOCATION:EER 1
CATEGORIES:QuickScores, Baseball Game
TRANSP:OPAQUE
BEGIN:VALARM
TRIGGER:-PT2H
ACTION:DISPLAY
DESCRIPTION:Lanier Grey vs. Lanier Orange
END:VALARM
END:VEVENT
BEGIN:VEVENT
UID:gabl-73338386-20260506T180000@quickscores.com
DTSTAMP:20260425T134300Z
DTSTART;TZID=America/New_York:20260506T180000
DURATION:PT1H10M0S
SUMMARY:Lanier Orange vs. CH Black Camo
DESCRIPTION:Gabl T-ball - Gwinnett Alliance Baseball League
LOCATION:EER 1
CATEGORIES:QuickScores, Baseball Game
TRANSP:OPAQUE
BEGIN:VALARM
TRIGGER:-PT2H
ACTION:DISPLAY
DESCRIPTION:Lanier Orange vs. CH Black Camo
END:VALARM
END:VEVENT
END:VCALENDAR
