BEGIN:VCALENDAR
VERSION:2.0
PRODID:-//QuickScores.com//BQ Dynamic iCal Creator//EN
METHOD:PUBLISH
X-WR-CALNAME:PTR Green - Gabl T-ball - Spring 2026
X-WR-CALDESC:QuickScores game calendar
X-PUBLISHED-TTL:PT24H
REFRESH-INTERVAL;VALUE=DURATION:PT24H
CALSCALE:GREGORIAN
BEGIN:VTIMEZONE
TZID:America/New_York
X-LIC-LOCATION:America/New_York
BEGIN:DAYLIGHT
TZNAME:EDT
TZOFFSETFROM:-0500
TZOFFSETTO:-0400
DTSTART:19700308T020000
RRULE:FREQ=YEARLY;BYMONTH=3;BYDAY=2SU
END:DAYLIGHT
BEGIN:STANDARD
TZNAME:EST
TZOFFSETFROM:-0400
TZOFFSETTO:-0500
DTSTART:19701101T020000
RRULE:FREQ=YEARLY;BYMONTH=11;BYDAY=1SU
END:STANDARD
END:VTIMEZONE
BEGIN:VEVENT
UID:gabl-73338340-20260319T180000@quickscores.com
DTSTAMP:20260425T132200Z
DTSTART;TZID=America/New_York:20260319T180000
DURATION:PT1H10M0S
SUMMARY:PTR Green vs. CH Black Camo
DESCRIPTION:Gabl T-ball - Gwinnett Alliance Baseball League
LOCATION:PTR 1
CATEGORIES:QuickScores, Baseball Game
TRANSP:OPAQUE
BEGIN:VALARM
TRIGGER:-PT2H
ACTION:DISPLAY
DESCRIPTION:PTR Green vs. CH Black Camo
END:VALARM
END:VEVENT
BEGIN:VEVENT
UID:gabl-73338343-20260323T180000@quickscores.com
DTSTAMP:20260425T132200Z
DTSTART;TZID=America/New_York:20260323T180000
DURATION:PT1H10M0S
SUMMARY:PTR Green vs. Lanier Grey
DESCRIPTION:Gabl T-ball - Gwinnett Alliance Baseball League
LOCATION:PTR 1
CATEGORIES:QuickScores, Baseball Game
TRANSP:OPAQUE
BEGIN:VALARM
TRIGGER:-PT2H
ACTION:DISPLAY
DESCRIPTION:PTR Green vs. Lanier Grey
END:VALARM
END:VEVENT
BEGIN:VEVENT
UID:gabl-73338351-20260328T130000@quickscores.com
DTSTAMP:20260425T132200Z
DTSTART;TZID=America/New_York:20260328T130000
DURATION:PT1H10M0S
SUMMARY:PTR Green vs. CH Grey
DESCRIPTION:Gabl T-ball - Gwinnett Alliance Baseball League
LOCATION:PTR 1
CATEGORIES:QuickScores, Baseball Game
TRANSP:OPAQUE
BEGIN:VALARM
TRIGGER:-PT2H
ACTION:DISPLAY
DESCRIPTION:PTR Green vs. CH Grey
END:VALARM
END:VEVENT
BEGIN:VEVENT
UID:gabl-73338356-20260402T180000@quickscores.com
DTSTAMP:20260425T132200Z
DTSTART;TZID=America/New_York:20260402T180000
DURATION:PT1H10M0S
SUMMARY:PTR Bagwell vs. PTR Green
DESCRIPTION:Gabl T-ball - Gwinnett Alliance Baseball League
LOCATION:PTR 1
CATEGORIES:QuickScores, Baseball Game
TRANSP:OPAQUE
BEGIN:VALARM
TRIGGER:-PT2H
ACTION:DISPLAY
DESCRIPTION:PTR Bagwell vs. PTR Green
END:VALARM
END:VEVENT
BEGIN:VEVENT
UID:gabl-73338358-20260414T180000@quickscores.com
DTSTAMP:20260425T132200Z
DTSTART;TZID=America/New_York:20260414T180000
DURATION:PT1H10M0S
SUMMARY:PTR Sanchez vs. PTR Green
DESCRIPTION:Gabl T-ball - Gwinnett Alliance Baseball League
LOCATION:PTR 1
CATEGORIES:QuickScores, Baseball Game
TRANSP:OPAQUE
BEGIN:VALARM
TRIGGER:-PT2H
ACTION:DISPLAY
DESCRIPTION:PTR Sanchez vs. PTR Green
END:VALARM
END:VEVENT
BEGIN:VEVENT
UID:gabl-73338337-20260416T180000@quickscores.com
DTSTAMP:20260425T132200Z
DTSTART;TZID=America/New_York:20260416T180000
DURATION:PT1H10M0S
SUMMARY:PTR Green vs. Lanier Orange
DESCRIPTION:Rain out 3/16 --- Gabl T-ball - Gwinnett Alliance Baseball League
LOCATION:PTR 1
CATEGORIES:QuickScores, Baseball Game
TRANSP:OPAQUE
BEGIN:VALARM
TRIGGER:-PT2H
ACTION:DISPLAY
DESCRIPTION:PTR Green vs. Lanier Orange
END:VALARM
END:VEVENT
BEGIN:VEVENT
UID:gabl-73338364-20260418T103000@quickscores.com
DTSTAMP:20260425T132200Z
DTSTART;TZID=America/New_York:20260418T103000
DURATION:PT1H10M0S
SUMMARY:PTR Green vs. CH Green
DESCRIPTION:Gabl T-ball - Gwinnett Alliance Baseball League
LOCATION:PTR 1
CATEGORIES:QuickScores, Baseball Game
TRANSP:OPAQUE
BEGIN:VALARM
TRIGGER:-PT2H
ACTION:DISPLAY
DESCRIPTION:PTR Green vs. CH Green
END:VALARM
END:VEVENT
BEGIN:VEVENT
UID:gabl-73338366-20260421T180000@quickscores.com
DTSTAMP:20260425T132200Z
DTSTART;TZID=America/New_York:20260421T180000
DURATION:PT1H10M0S
SUMMARY:Lanier White vs. PTR Green
DESCRIPTION:Gabl T-ball - Gwinnett Alliance Baseball League
LOCATION:EER 1
CATEGORIES:QuickScores, Baseball Game
TRANSP:OPAQUE
BEGIN:VALARM
TRIGGER:-PT2H
ACTION:DISPLAY
DESCRIPTION:Lanier White vs. PTR Green
END:VALARM
END:VEVENT
BEGIN:VEVENT
UID:gabl-73338374-20260427T191500@quickscores.com
DTSTAMP:20260425T132200Z
DTSTART;TZID=America/New_York:20260427T191500
DURATION:PT1H10M0S
SUMMARY:CH Black Camo vs. PTR Green
DESCRIPTION:Moved from CH to PTR --- Gabl T-ball - Gwinnett Alliance Baseball League
LOCATION:PTR 1
CATEGORIES:QuickScores, Baseball Game
TRANSP:OPAQUE
BEGIN:VALARM
TRIGGER:-PT2H
ACTION:DISPLAY
DESCRIPTION:CH Black Camo vs. PTR Green
END:VALARM
END:VEVENT
BEGIN:VEVENT
UID:gabl-73338381-20260501T180000@quickscores.com
DTSTAMP:20260425T132200Z
DTSTART;TZID=America/New_York:20260501T180000
DURATION:PT1H10M0S
SUMMARY:CH Green vs. PTR Green
DESCRIPTION:Gabl T-ball - Gwinnett Alliance Baseball League
LOCATION:CHP 6
CATEGORIES:QuickScores, Baseball Game
TRANSP:OPAQUE
BEGIN:VALARM
TRIGGER:-PT2H
ACTION:DISPLAY
DESCRIPTION:CH Green vs. PTR Green
END:VALARM
END:VEVENT
BEGIN:VEVENT
UID:gabl-73338378-20260504T180000@quickscores.com
DTSTAMP:20260425T132200Z
DTSTART;TZID=America/New_York:20260504T180000
DURATION:PT1H10M0S
SUMMARY:PTR Green vs. Lanier White
DESCRIPTION:Gabl T-ball - Gwinnett Alliance Baseball League
LOCATION:EER 1
CATEGORIES:QuickScores, Baseball Game
TRANSP:OPAQUE
BEGIN:VALARM
TRIGGER:-PT2H
ACTION:DISPLAY
DESCRIPTION:PTR Green vs. Lanier White
END:VALARM
END:VEVENT
BEGIN:VEVENT
UID:gabl-73338331-20260507T180000@quickscores.com
DTSTAMP:20260425T132200Z
DTSTART;TZID=America/New_York:20260507T180000
DURATION:PT1H10M0S
SUMMARY:CH Green Camo vs. PTR Green
DESCRIPTION:Gabl T-ball - Gwinnett Alliance Baseball League
LOCATION:CHP 6
CATEGORIES:QuickScores, Baseball Game
TRANSP:OPAQUE
BEGIN:VALARM
TRIGGER:-PT2H
ACTION:DISPLAY
DESCRIPTION:CH Green Camo vs. PTR Green
END:VALARM
END:VEVENT
END:VCALENDAR
