BEGIN:VCALENDAR
VERSION:2.0
PRODID:-//QuickScores.com//BQ Dynamic iCal Creator//EN
METHOD:PUBLISH
X-WR-CALNAME:CH Green Camo - Gabl T-ball - Spring 2026
X-WR-CALDESC:QuickScores game calendar
X-PUBLISHED-TTL:PT24H
REFRESH-INTERVAL;VALUE=DURATION:PT24H
CALSCALE:GREGORIAN
BEGIN:VTIMEZONE
TZID:America/New_York
X-LIC-LOCATION:America/New_York
BEGIN:DAYLIGHT
TZNAME:EDT
TZOFFSETFROM:-0500
TZOFFSETTO:-0400
DTSTART:19700308T020000
RRULE:FREQ=YEARLY;BYMONTH=3;BYDAY=2SU
END:DAYLIGHT
BEGIN:STANDARD
TZNAME:EST
TZOFFSETFROM:-0400
TZOFFSETTO:-0500
DTSTART:19701101T020000
RRULE:FREQ=YEARLY;BYMONTH=11;BYDAY=1SU
END:STANDARD
END:VTIMEZONE
BEGIN:VEVENT
UID:gabl-73338330-20260307T110000@quickscores.com
DTSTAMP:20260425T115700Z
DTSTART;TZID=America/New_York:20260307T110000
DURATION:PT1H10M0S
SUMMARY:CH Green Camo vs. PTR Bagwell
DESCRIPTION:Gabl T-ball - Gwinnett Alliance Baseball League
LOCATION:CHP 6
CATEGORIES:QuickScores, Baseball Game
TRANSP:OPAQUE
BEGIN:VALARM
TRIGGER:-PT2H
ACTION:DISPLAY
DESCRIPTION:CH Green Camo vs. PTR Bagwell
END:VALARM
END:VEVENT
BEGIN:VEVENT
UID:gabl-73338334-20260313T180000@quickscores.com
DTSTAMP:20260425T115700Z
DTSTART;TZID=America/New_York:20260313T180000
DURATION:PT1H10M0S
SUMMARY:CH Green vs. CH Green Camo
DESCRIPTION:Gabl T-ball - Gwinnett Alliance Baseball League
LOCATION:CHP 6
CATEGORIES:QuickScores, Baseball Game
TRANSP:OPAQUE
BEGIN:VALARM
TRIGGER:-PT2H
ACTION:DISPLAY
DESCRIPTION:CH Green vs. CH Green Camo
END:VALARM
END:VEVENT
BEGIN:VEVENT
UID:gabl-73338342-20260321T100000@quickscores.com
DTSTAMP:20260425T115700Z
DTSTART;TZID=America/New_York:20260321T100000
DURATION:PT1H10M0S
SUMMARY:CH Green Camo vs. CH Grey
DESCRIPTION:Gabl T-ball - Gwinnett Alliance Baseball League
LOCATION:EER 1
CATEGORIES:QuickScores, Baseball Game
TRANSP:OPAQUE
BEGIN:VALARM
TRIGGER:-PT2H
ACTION:DISPLAY
DESCRIPTION:CH Green Camo vs. CH Grey
END:VALARM
END:VEVENT
BEGIN:VEVENT
UID:gabl-73338350-20260328T100000@quickscores.com
DTSTAMP:20260425T115700Z
DTSTART;TZID=America/New_York:20260328T100000
DURATION:PT1H10M0S
SUMMARY:PTR Bagwell vs. CH Green Camo
DESCRIPTION:Gabl T-ball - Gwinnett Alliance Baseball League
LOCATION:PTR 1
CATEGORIES:QuickScores, Baseball Game
TRANSP:OPAQUE
BEGIN:VALARM
TRIGGER:-PT2H
ACTION:DISPLAY
DESCRIPTION:PTR Bagwell vs. CH Green Camo
END:VALARM
END:VEVENT
BEGIN:VEVENT
UID:gabl-73338355-20260402T180000@quickscores.com
DTSTAMP:20260425T115700Z
DTSTART;TZID=America/New_York:20260402T180000
DURATION:PT1H10M0S
SUMMARY:CH Green Camo vs. Lanier Grey
DESCRIPTION:Gabl T-ball - Gwinnett Alliance Baseball League
LOCATION:CHP 6
CATEGORIES:QuickScores, Baseball Game
TRANSP:OPAQUE
BEGIN:VALARM
TRIGGER:-PT2H
ACTION:DISPLAY
DESCRIPTION:CH Green Camo vs. Lanier Grey
END:VALARM
END:VEVENT
BEGIN:VEVENT
UID:gabl-73338361-20260415T180000@quickscores.com
DTSTAMP:20260425T115700Z
DTSTART;TZID=America/New_York:20260415T180000
DURATION:PT1H10M0S
SUMMARY:CH Green Camo vs. Lanier Orange
DESCRIPTION:Gabl T-ball - Gwinnett Alliance Baseball League
LOCATION:CHP 6
CATEGORIES:QuickScores, Baseball Game
TRANSP:OPAQUE
BEGIN:VALARM
TRIGGER:-PT2H
ACTION:DISPLAY
DESCRIPTION:CH Green Camo vs. Lanier Orange
END:VALARM
END:VEVENT
BEGIN:VEVENT
UID:gabl-73338373-20260418T120000@quickscores.com
DTSTAMP:20260425T115700Z
DTSTART;TZID=America/New_York:20260418T120000
DURATION:PT1H10M0S
SUMMARY:CH Grey vs. CH Green Camo
DESCRIPTION:Gabl T-ball - Gwinnett Alliance Baseball League
LOCATION:PTR 1
CATEGORIES:QuickScores, Baseball Game
TRANSP:OPAQUE
BEGIN:VALARM
TRIGGER:-PT2H
ACTION:DISPLAY
DESCRIPTION:CH Grey vs. CH Green Camo
END:VALARM
END:VEVENT
BEGIN:VEVENT
UID:gabl-73338372-20260425T130000@quickscores.com
DTSTAMP:20260425T115700Z
DTSTART;TZID=America/New_York:20260425T130000
DURATION:PT1H10M0S
SUMMARY:PTR Sanchez vs. CH Green Camo
DESCRIPTION:Gabl T-ball - Gwinnett Alliance Baseball League
LOCATION:CHP 6
CATEGORIES:QuickScores, Baseball Game
TRANSP:OPAQUE
BEGIN:VALARM
TRIGGER:-PT2H
ACTION:DISPLAY
DESCRIPTION:PTR Sanchez vs. CH Green Camo
END:VALARM
END:VEVENT
BEGIN:VEVENT
UID:gabl-73338376-20260428T180000@quickscores.com
DTSTAMP:20260425T115700Z
DTSTART;TZID=America/New_York:20260428T180000
DURATION:PT1H10M0S
SUMMARY:Lanier White vs. CH Green Camo
DESCRIPTION:Gabl T-ball - Gwinnett Alliance Baseball League
LOCATION:EER 1
CATEGORIES:QuickScores, Baseball Game
TRANSP:OPAQUE
BEGIN:VALARM
TRIGGER:-PT2H
ACTION:DISPLAY
DESCRIPTION:Lanier White vs. CH Green Camo
END:VALARM
END:VEVENT
BEGIN:VEVENT
UID:gabl-73338379-20260430T180000@quickscores.com
DTSTAMP:20260425T115700Z
DTSTART;TZID=America/New_York:20260430T180000
DURATION:PT1H10M0S
SUMMARY:CH Black Camo vs. CH Green Camo
DESCRIPTION:Gabl T-ball - Gwinnett Alliance Baseball League
LOCATION:CHP 6
CATEGORIES:QuickScores, Baseball Game
TRANSP:OPAQUE
BEGIN:VALARM
TRIGGER:-PT2H
ACTION:DISPLAY
DESCRIPTION:CH Black Camo vs. CH Green Camo
END:VALARM
END:VEVENT
BEGIN:VEVENT
UID:gabl-73338331-20260507T180000@quickscores.com
DTSTAMP:20260425T115700Z
DTSTART;TZID=America/New_York:20260507T180000
DURATION:PT1H10M0S
SUMMARY:CH Green Camo vs. PTR Green
DESCRIPTION:Gabl T-ball - Gwinnett Alliance Baseball League
LOCATION:CHP 6
CATEGORIES:QuickScores, Baseball Game
TRANSP:OPAQUE
BEGIN:VALARM
TRIGGER:-PT2H
ACTION:DISPLAY
DESCRIPTION:CH Green Camo vs. PTR Green
END:VALARM
END:VEVENT
BEGIN:VEVENT
UID:gabl-73338389-20260509T100000@quickscores.com
DTSTAMP:20260425T115700Z
DTSTART;TZID=America/New_York:20260509T100000
DURATION:PT1H10M0S
SUMMARY:CH Green Camo vs. Lanier White
DESCRIPTION:Gabl T-ball - Gwinnett Alliance Baseball League
LOCATION:CHP 6
CATEGORIES:QuickScores, Baseball Game
TRANSP:OPAQUE
BEGIN:VALARM
TRIGGER:-PT2H
ACTION:DISPLAY
DESCRIPTION:CH Green Camo vs. Lanier White
END:VALARM
END:VEVENT
END:VCALENDAR
