BEGIN:VCALENDAR
VERSION:2.0
PRODID:-//QuickScores.com//BQ Dynamic iCal Creator//EN
METHOD:PUBLISH
X-WR-CALNAME:BC - 12u Baseball Spring - Spring 2026
X-WR-CALDESC:QuickScores game calendar
X-PUBLISHED-TTL:PT24H
REFRESH-INTERVAL;VALUE=DURATION:PT24H
CALSCALE:GREGORIAN
BEGIN:VTIMEZONE
TZID:America/Denver
X-LIC-LOCATION:America/Denver
BEGIN:DAYLIGHT
TZNAME:MDT
TZOFFSETFROM:-0700
TZOFFSETTO:-0600
DTSTART:19700308T020000
RRULE:FREQ=YEARLY;BYMONTH=3;BYDAY=2SU
END:DAYLIGHT
BEGIN:STANDARD
TZNAME:MST
TZOFFSETFROM:-0600
TZOFFSETTO:-0700
DTSTART:19701101T020000
RRULE:FREQ=YEARLY;BYMONTH=11;BYDAY=1SU
END:STANDARD
END:VTIMEZONE
BEGIN:VEVENT
UID:epcounty-73757201-20260404T131500@quickscores.com
DTSTAMP:20260425T095600Z
DTSTART;TZID=America/Denver:20260404T131500
DURATION:PT1H0M0S
SUMMARY:BC vs. El Paso Baseball Crew
DESCRIPTION:12u Baseball Spring - El Paso County Sportspark
LOCATION:Field 8
CATEGORIES:QuickScores, Baseball - Youth Game
TRANSP:OPAQUE
BEGIN:VALARM
TRIGGER:-PT2H
ACTION:DISPLAY
DESCRIPTION:BC vs. El Paso Baseball Crew
END:VALARM
END:VEVENT
BEGIN:VEVENT
UID:epcounty-73757190-20260404T144000@quickscores.com
DTSTAMP:20260425T095600Z
DTSTART;TZID=America/Denver:20260404T144000
DURATION:PT1H0M0S
SUMMARY:Los Gatos vs. BC
DESCRIPTION:12u Baseball Spring - El Paso County Sportspark
LOCATION:Field 8
CATEGORIES:QuickScores, Baseball - Youth Game
TRANSP:OPAQUE
BEGIN:VALARM
TRIGGER:-PT2H
ACTION:DISPLAY
DESCRIPTION:Los Gatos vs. BC
END:VALARM
END:VEVENT
BEGIN:VEVENT
UID:epcounty-73757236-20260414T180000@quickscores.com
DTSTAMP:20260425T095600Z
DTSTART;TZID=America/Denver:20260414T180000
DURATION:PT1H0M0S
SUMMARY:BC vs. TX Coyotes
DESCRIPTION:12u Baseball Spring - El Paso County Sportspark
LOCATION:Field 9
CATEGORIES:QuickScores, Baseball - Youth Game
TRANSP:OPAQUE
BEGIN:VALARM
TRIGGER:-PT2H
ACTION:DISPLAY
DESCRIPTION:BC vs. TX Coyotes
END:VALARM
END:VEVENT
BEGIN:VEVENT
UID:epcounty-73757223-20260418T131500@quickscores.com
DTSTAMP:20260425T095600Z
DTSTART;TZID=America/Denver:20260418T131500
DURATION:PT1H0M0S
SUMMARY:Future Stars vs. BC
DESCRIPTION:12u Baseball Spring - El Paso County Sportspark
LOCATION:Field 10
CATEGORIES:QuickScores, Baseball - Youth Game
TRANSP:OPAQUE
BEGIN:VALARM
TRIGGER:-PT2H
ACTION:DISPLAY
DESCRIPTION:Future Stars vs. BC
END:VALARM
END:VEVENT
BEGIN:VEVENT
UID:epcounty-73757242-20260421T180000@quickscores.com
DTSTAMP:20260425T095600Z
DTSTART;TZID=America/Denver:20260421T180000
DURATION:PT1H0M0S
SUMMARY:B17 Legends vs. BC
DESCRIPTION:12u Baseball Spring - El Paso County Sportspark
LOCATION:Field 5
CATEGORIES:QuickScores, Baseball - Youth Game
TRANSP:OPAQUE
BEGIN:VALARM
TRIGGER:-PT2H
ACTION:DISPLAY
DESCRIPTION:B17 Legends vs. BC
END:VALARM
END:VEVENT
BEGIN:VEVENT
UID:epcounty-73757257-20260428T180000@quickscores.com
DTSTAMP:20260425T095600Z
DTSTART;TZID=America/Denver:20260428T180000
DURATION:PT1H0M0S
SUMMARY:BC vs. Dodgers
DESCRIPTION:12u Baseball Spring - El Paso County Sportspark
LOCATION:Field 7
CATEGORIES:QuickScores, Baseball - Youth Game
TRANSP:OPAQUE
BEGIN:VALARM
TRIGGER:-PT2H
ACTION:DISPLAY
DESCRIPTION:BC vs. Dodgers
END:VALARM
END:VEVENT
BEGIN:VEVENT
UID:epcounty-73757279-20260509T131500@quickscores.com
DTSTAMP:20260425T095600Z
DTSTART;TZID=America/Denver:20260509T131500
DURATION:PT1H0M0S
SUMMARY:TX Mariachis vs. BC
DESCRIPTION:12u Baseball Spring - El Paso County Sportspark
LOCATION:Field 7
CATEGORIES:QuickScores, Baseball - Youth Game
TRANSP:OPAQUE
BEGIN:VALARM
TRIGGER:-PT2H
ACTION:DISPLAY
DESCRIPTION:TX Mariachis vs. BC
END:VALARM
END:VEVENT
BEGIN:VEVENT
UID:epcounty-73757270-20260509T144000@quickscores.com
DTSTAMP:20260425T095600Z
DTSTART;TZID=America/Denver:20260509T144000
DURATION:PT1H0M0S
SUMMARY:BC vs. Desert Boyz
DESCRIPTION:12u Baseball Spring - El Paso County Sportspark
LOCATION:Field 7
CATEGORIES:QuickScores, Baseball - Youth Game
TRANSP:OPAQUE
BEGIN:VALARM
TRIGGER:-PT2H
ACTION:DISPLAY
DESCRIPTION:BC vs. Desert Boyz
END:VALARM
END:VEVENT
BEGIN:VEVENT
UID:epcounty-73757300-20260516T144000@quickscores.com
DTSTAMP:20260425T095600Z
DTSTART;TZID=America/Denver:20260516T144000
DURATION:PT1H0M0S
SUMMARY:EP Laser Show vs. BC
DESCRIPTION:12u Baseball Spring - El Paso County Sportspark
LOCATION:Field 8
CATEGORIES:QuickScores, Baseball - Youth Game
TRANSP:OPAQUE
BEGIN:VALARM
TRIGGER:-PT2H
ACTION:DISPLAY
DESCRIPTION:EP Laser Show vs. BC
END:VALARM
END:VEVENT
BEGIN:VEVENT
UID:epcounty-73757289-20260516T160500@quickscores.com
DTSTAMP:20260425T095600Z
DTSTART;TZID=America/Denver:20260516T160500
DURATION:PT1H0M0S
SUMMARY:BC vs. Jack City
DESCRIPTION:12u Baseball Spring - El Paso County Sportspark
LOCATION:Field 8
CATEGORIES:QuickScores, Baseball - Youth Game
TRANSP:OPAQUE
BEGIN:VALARM
TRIGGER:-PT2H
ACTION:DISPLAY
DESCRIPTION:BC vs. Jack City
END:VALARM
END:VEVENT
BEGIN:VEVENT
UID:epcounty-73757322-20260519T180000@quickscores.com
DTSTAMP:20260425T095600Z
DTSTART;TZID=America/Denver:20260519T180000
DURATION:PT1H0M0S
SUMMARY:Swarm vs. BC
DESCRIPTION:12u Baseball Spring - El Paso County Sportspark
LOCATION:Field 8
CATEGORIES:QuickScores, Baseball - Youth Game
TRANSP:OPAQUE
BEGIN:VALARM
TRIGGER:-PT2H
ACTION:DISPLAY
DESCRIPTION:Swarm vs. BC
END:VALARM
END:VEVENT
BEGIN:VEVENT
UID:epcounty-73757308-20260523T165000@quickscores.com
DTSTAMP:20260425T095600Z
DTSTART;TZID=America/Denver:20260523T165000
DURATION:PT1H0M0S
SUMMARY:BC vs. Texas Raised
DESCRIPTION:12u Baseball Spring - El Paso County Sportspark
LOCATION:Ascarate Field 4
CATEGORIES:QuickScores, Baseball - Youth Game
TRANSP:OPAQUE
BEGIN:VALARM
TRIGGER:-PT2H
ACTION:DISPLAY
DESCRIPTION:BC vs. Texas Raised
END:VALARM
END:VEVENT
BEGIN:VEVENT
UID:epcounty-73757326-20260526T180000@quickscores.com
DTSTAMP:20260425T095600Z
DTSTART;TZID=America/Denver:20260526T180000
DURATION:PT1H0M0S
SUMMARY:BC vs. Authentic
DESCRIPTION:12u Baseball Spring - El Paso County Sportspark
LOCATION:Field 6
CATEGORIES:QuickScores, Baseball - Youth Game
TRANSP:OPAQUE
BEGIN:VALARM
TRIGGER:-PT2H
ACTION:DISPLAY
DESCRIPTION:BC vs. Authentic
END:VALARM
END:VEVENT
BEGIN:VEVENT
UID:epcounty-73757335-20260530T131500@quickscores.com
DTSTAMP:20260425T095600Z
DTSTART;TZID=America/Denver:20260530T131500
DURATION:PT1H0M0S
SUMMARY:EP Bombers vs. BC
DESCRIPTION:12u Baseball Spring - El Paso County Sportspark
LOCATION:Field 6
CATEGORIES:QuickScores, Baseball - Youth Game
TRANSP:OPAQUE
BEGIN:VALARM
TRIGGER:-PT2H
ACTION:DISPLAY
DESCRIPTION:EP Bombers vs. BC
END:VALARM
END:VEVENT
END:VCALENDAR
