BEGIN:VCALENDAR
VERSION:2.0
PRODID:-//QuickScores.com//BQ Dynamic iCal Creator//EN
METHOD:PUBLISH
X-WR-CALNAME:El Paso Baseball Crew - 12u Baseball Spring - Spring 2026
X-WR-CALDESC:QuickScores game calendar
X-PUBLISHED-TTL:PT24H
REFRESH-INTERVAL;VALUE=DURATION:PT24H
CALSCALE:GREGORIAN
BEGIN:VTIMEZONE
TZID:America/Denver
X-LIC-LOCATION:America/Denver
BEGIN:DAYLIGHT
TZNAME:MDT
TZOFFSETFROM:-0700
TZOFFSETTO:-0600
DTSTART:19700308T020000
RRULE:FREQ=YEARLY;BYMONTH=3;BYDAY=2SU
END:DAYLIGHT
BEGIN:STANDARD
TZNAME:MST
TZOFFSETFROM:-0600
TZOFFSETTO:-0700
DTSTART:19701101T020000
RRULE:FREQ=YEARLY;BYMONTH=11;BYDAY=1SU
END:STANDARD
END:VTIMEZONE
BEGIN:VEVENT
UID:epcounty-73757173-20260324T180000@quickscores.com
DTSTAMP:20260424T035400Z
DTSTART;TZID=America/Denver:20260324T180000
DURATION:PT1H0M0S
SUMMARY:EP Blue Sox vs. El Paso Baseball Crew
DESCRIPTION:12u Baseball Spring - El Paso County Sportspark
LOCATION:Field 8
CATEGORIES:QuickScores, Baseball - Youth Game
TRANSP:OPAQUE
BEGIN:VALARM
TRIGGER:-PT2H
ACTION:DISPLAY
DESCRIPTION:EP Blue Sox vs. El Paso Baseball Crew
END:VALARM
END:VEVENT
BEGIN:VEVENT
UID:epcounty-73757192-20260404T115000@quickscores.com
DTSTAMP:20260424T035400Z
DTSTART;TZID=America/Denver:20260404T115000
DURATION:PT1H0M0S
SUMMARY:El Paso Baseball Crew vs. Dodgers
DESCRIPTION:12u Baseball Spring - El Paso County Sportspark
LOCATION:Field 8
CATEGORIES:QuickScores, Baseball - Youth Game
TRANSP:OPAQUE
BEGIN:VALARM
TRIGGER:-PT2H
ACTION:DISPLAY
DESCRIPTION:El Paso Baseball Crew vs. Dodgers
END:VALARM
END:VEVENT
BEGIN:VEVENT
UID:epcounty-73757201-20260404T131500@quickscores.com
DTSTAMP:20260424T035400Z
DTSTART;TZID=America/Denver:20260404T131500
DURATION:PT1H0M0S
SUMMARY:BC vs. El Paso Baseball Crew
DESCRIPTION:12u Baseball Spring - El Paso County Sportspark
LOCATION:Field 8
CATEGORIES:QuickScores, Baseball - Youth Game
TRANSP:OPAQUE
BEGIN:VALARM
TRIGGER:-PT2H
ACTION:DISPLAY
DESCRIPTION:BC vs. El Paso Baseball Crew
END:VALARM
END:VEVENT
BEGIN:VEVENT
UID:epcounty-73757234-20260418T131500@quickscores.com
DTSTAMP:20260424T035400Z
DTSTART;TZID=America/Denver:20260418T131500
DURATION:PT1H0M0S
SUMMARY:Jack City vs. El Paso Baseball Crew
DESCRIPTION:12u Baseball Spring - El Paso County Sportspark
LOCATION:Field 7
CATEGORIES:QuickScores, Baseball - Youth Game
TRANSP:OPAQUE
BEGIN:VALARM
TRIGGER:-PT2H
ACTION:DISPLAY
DESCRIPTION:Jack City vs. El Paso Baseball Crew
END:VALARM
END:VEVENT
BEGIN:VEVENT
UID:epcounty-73757227-20260418T144000@quickscores.com
DTSTAMP:20260424T035400Z
DTSTART;TZID=America/Denver:20260418T144000
DURATION:PT1H0M0S
SUMMARY:El Paso Baseball Crew vs. B17 Legends
DESCRIPTION:12u Baseball Spring - El Paso County Sportspark
LOCATION:Field 8
CATEGORIES:QuickScores, Baseball - Youth Game
TRANSP:OPAQUE
BEGIN:VALARM
TRIGGER:-PT2H
ACTION:DISPLAY
DESCRIPTION:El Paso Baseball Crew vs. B17 Legends
END:VALARM
END:VEVENT
BEGIN:VEVENT
UID:epcounty-73757240-20260421T180000@quickscores.com
DTSTAMP:20260424T035400Z
DTSTART;TZID=America/Denver:20260421T180000
DURATION:PT1H0M0S
SUMMARY:El Paso Baseball Crew vs. Texas Raised
DESCRIPTION:12u Baseball Spring - El Paso County Sportspark
LOCATION:Field 9
CATEGORIES:QuickScores, Baseball - Youth Game
TRANSP:OPAQUE
BEGIN:VALARM
TRIGGER:-PT2H
ACTION:DISPLAY
DESCRIPTION:El Paso Baseball Crew vs. Texas Raised
END:VALARM
END:VEVENT
BEGIN:VEVENT
UID:epcounty-73757285-20260505T180000@quickscores.com
DTSTAMP:20260424T035400Z
DTSTART;TZID=America/Denver:20260505T180000
DURATION:PT1H0M0S
SUMMARY:El Paso Baseball Crew vs. Desert Boyz
DESCRIPTION:12u Baseball Spring - El Paso County Sportspark
LOCATION:Field 5
CATEGORIES:QuickScores, Baseball - Youth Game
TRANSP:OPAQUE
BEGIN:VALARM
TRIGGER:-PT2H
ACTION:DISPLAY
DESCRIPTION:El Paso Baseball Crew vs. Desert Boyz
END:VALARM
END:VEVENT
BEGIN:VEVENT
UID:epcounty-73757276-20260509T160500@quickscores.com
DTSTAMP:20260424T035400Z
DTSTART;TZID=America/Denver:20260509T160500
DURATION:PT1H0M0S
SUMMARY:Troopers vs. El Paso Baseball Crew
DESCRIPTION:12u Baseball Spring - El Paso County Sportspark
LOCATION:Field 6
CATEGORIES:QuickScores, Baseball - Youth Game
TRANSP:OPAQUE
BEGIN:VALARM
TRIGGER:-PT2H
ACTION:DISPLAY
DESCRIPTION:Troopers vs. El Paso Baseball Crew
END:VALARM
END:VEVENT
BEGIN:VEVENT
UID:epcounty-73757304-20260512T180000@quickscores.com
DTSTAMP:20260424T035400Z
DTSTART;TZID=America/Denver:20260512T180000
DURATION:PT1H0M0S
SUMMARY:El Paso Baseball Crew vs. Future Stars
DESCRIPTION:12u Baseball Spring - El Paso County Sportspark
LOCATION:Field 9
CATEGORIES:QuickScores, Baseball - Youth Game
TRANSP:OPAQUE
BEGIN:VALARM
TRIGGER:-PT2H
ACTION:DISPLAY
DESCRIPTION:El Paso Baseball Crew vs. Future Stars
END:VALARM
END:VEVENT
BEGIN:VEVENT
UID:epcounty-73757297-20260516T144000@quickscores.com
DTSTAMP:20260424T035400Z
DTSTART;TZID=America/Denver:20260516T144000
DURATION:PT1H0M0S
SUMMARY:El Paso Baseball Crew vs. Texas Majors
DESCRIPTION:12u Baseball Spring - El Paso County Sportspark
LOCATION:Field 6
CATEGORIES:QuickScores, Baseball - Youth Game
TRANSP:OPAQUE
BEGIN:VALARM
TRIGGER:-PT2H
ACTION:DISPLAY
DESCRIPTION:El Paso Baseball Crew vs. Texas Majors
END:VALARM
END:VEVENT
BEGIN:VEVENT
UID:epcounty-73757319-20260519T180000@quickscores.com
DTSTAMP:20260424T035400Z
DTSTART;TZID=America/Denver:20260519T180000
DURATION:PT1H0M0S
SUMMARY:TX Coyotes vs. El Paso Baseball Crew
DESCRIPTION:12u Baseball Spring - El Paso County Sportspark
LOCATION:Field 6
CATEGORIES:QuickScores, Baseball - Youth Game
TRANSP:OPAQUE
BEGIN:VALARM
TRIGGER:-PT2H
ACTION:DISPLAY
DESCRIPTION:TX Coyotes vs. El Paso Baseball Crew
END:VALARM
END:VEVENT
BEGIN:VEVENT
UID:epcounty-73757317-20260523T140000@quickscores.com
DTSTAMP:20260424T035400Z
DTSTART;TZID=America/Denver:20260523T140000
DURATION:PT1H0M0S
SUMMARY:El Paso Baseball Crew vs. Ryder
DESCRIPTION:12u Baseball Spring - El Paso County Sportspark
LOCATION:Ascarate Field 7
CATEGORIES:QuickScores, Baseball - Youth Game
TRANSP:OPAQUE
BEGIN:VALARM
TRIGGER:-PT2H
ACTION:DISPLAY
DESCRIPTION:El Paso Baseball Crew vs. Ryder
END:VALARM
END:VEVENT
BEGIN:VEVENT
UID:epcounty-73757336-20260526T180000@quickscores.com
DTSTAMP:20260424T035400Z
DTSTART;TZID=America/Denver:20260526T180000
DURATION:PT1H0M0S
SUMMARY:Yaquis vs. El Paso Baseball Crew
DESCRIPTION:12u Baseball Spring - El Paso County Sportspark
LOCATION:Field 7
CATEGORIES:QuickScores, Baseball - Youth Game
TRANSP:OPAQUE
BEGIN:VALARM
TRIGGER:-PT2H
ACTION:DISPLAY
DESCRIPTION:Yaquis vs. El Paso Baseball Crew
END:VALARM
END:VEVENT
BEGIN:VEVENT
UID:epcounty-73757327-20260530T144000@quickscores.com
DTSTAMP:20260424T035400Z
DTSTART;TZID=America/Denver:20260530T144000
DURATION:PT1H0M0S
SUMMARY:Los Gatos vs. El Paso Baseball Crew
DESCRIPTION:12u Baseball Spring - El Paso County Sportspark
LOCATION:Field 7
CATEGORIES:QuickScores, Baseball - Youth Game
TRANSP:OPAQUE
BEGIN:VALARM
TRIGGER:-PT2H
ACTION:DISPLAY
DESCRIPTION:Los Gatos vs. El Paso Baseball Crew
END:VALARM
END:VEVENT
END:VCALENDAR
