BEGIN:VCALENDAR
VERSION:2.0
PRODID:-//QuickScores.com//BQ Dynamic iCal Creator//EN
METHOD:PUBLISH
X-WR-CALNAME:Jack City - 12u Baseball Spring - Spring 2026
X-WR-CALDESC:QuickScores game calendar
X-PUBLISHED-TTL:PT24H
REFRESH-INTERVAL;VALUE=DURATION:PT24H
CALSCALE:GREGORIAN
BEGIN:VTIMEZONE
TZID:America/Denver
X-LIC-LOCATION:America/Denver
BEGIN:DAYLIGHT
TZNAME:MDT
TZOFFSETFROM:-0700
TZOFFSETTO:-0600
DTSTART:19700308T020000
RRULE:FREQ=YEARLY;BYMONTH=3;BYDAY=2SU
END:DAYLIGHT
BEGIN:STANDARD
TZNAME:MST
TZOFFSETFROM:-0600
TZOFFSETTO:-0700
DTSTART:19701101T020000
RRULE:FREQ=YEARLY;BYMONTH=11;BYDAY=1SU
END:STANDARD
END:VTIMEZONE
BEGIN:VEVENT
UID:epcounty-73757188-20260404T144000@quickscores.com
DTSTAMP:20260425T132600Z
DTSTART;TZID=America/Denver:20260404T144000
DURATION:PT1H0M0S
SUMMARY:Jack City vs. Future Stars
DESCRIPTION:12u Baseball Spring - El Paso County Sportspark
LOCATION:Field 7
CATEGORIES:QuickScores, Baseball - Youth Game
TRANSP:OPAQUE
BEGIN:VALARM
TRIGGER:-PT2H
ACTION:DISPLAY
DESCRIPTION:Jack City vs. Future Stars
END:VALARM
END:VEVENT
BEGIN:VEVENT
UID:epcounty-73757199-20260404T160500@quickscores.com
DTSTAMP:20260425T132600Z
DTSTART;TZID=America/Denver:20260404T160500
DURATION:PT1H0M0S
SUMMARY:Jack City vs. Los Gatos
DESCRIPTION:12u Baseball Spring - El Paso County Sportspark
LOCATION:Field 7
CATEGORIES:QuickScores, Baseball - Youth Game
TRANSP:OPAQUE
BEGIN:VALARM
TRIGGER:-PT2H
ACTION:DISPLAY
DESCRIPTION:Jack City vs. Los Gatos
END:VALARM
END:VEVENT
BEGIN:VEVENT
UID:epcounty-73757207-20260407T180000@quickscores.com
DTSTAMP:20260425T132600Z
DTSTART;TZID=America/Denver:20260407T180000
DURATION:PT1H0M0S
SUMMARY:EP Bombers vs. Jack City
DESCRIPTION:12u Baseball Spring - El Paso County Sportspark
LOCATION:Field 5
CATEGORIES:QuickScores, Baseball - Youth Game
TRANSP:OPAQUE
BEGIN:VALARM
TRIGGER:-PT2H
ACTION:DISPLAY
DESCRIPTION:EP Bombers vs. Jack City
END:VALARM
END:VEVENT
BEGIN:VEVENT
UID:epcounty-73757221-20260418T115000@quickscores.com
DTSTAMP:20260425T132600Z
DTSTART;TZID=America/Denver:20260418T115000
DURATION:PT1H0M0S
SUMMARY:Desert Boyz vs. Jack City
DESCRIPTION:12u Baseball Spring - El Paso County Sportspark
LOCATION:Field 7
CATEGORIES:QuickScores, Baseball - Youth Game
TRANSP:OPAQUE
BEGIN:VALARM
TRIGGER:-PT2H
ACTION:DISPLAY
DESCRIPTION:Desert Boyz vs. Jack City
END:VALARM
END:VEVENT
BEGIN:VEVENT
UID:epcounty-73757234-20260418T131500@quickscores.com
DTSTAMP:20260425T132600Z
DTSTART;TZID=America/Denver:20260418T131500
DURATION:PT1H0M0S
SUMMARY:Jack City vs. El Paso Baseball Crew
DESCRIPTION:12u Baseball Spring - El Paso County Sportspark
LOCATION:Field 7
CATEGORIES:QuickScores, Baseball - Youth Game
TRANSP:OPAQUE
BEGIN:VALARM
TRIGGER:-PT2H
ACTION:DISPLAY
DESCRIPTION:Jack City vs. El Paso Baseball Crew
END:VALARM
END:VEVENT
BEGIN:VEVENT
UID:epcounty-73757259-20260428T180000@quickscores.com
DTSTAMP:20260425T132600Z
DTSTART;TZID=America/Denver:20260428T180000
DURATION:PT1H0M0S
SUMMARY:Authentic vs. Jack City
DESCRIPTION:12u Baseball Spring - El Paso County Sportspark
LOCATION:Field 8
CATEGORIES:QuickScores, Baseball - Youth Game
TRANSP:OPAQUE
BEGIN:VALARM
TRIGGER:-PT2H
ACTION:DISPLAY
DESCRIPTION:Authentic vs. Jack City
END:VALARM
END:VEVENT
BEGIN:VEVENT
UID:epcounty-73757287-20260505T180000@quickscores.com
DTSTAMP:20260425T132600Z
DTSTART;TZID=America/Denver:20260505T180000
DURATION:PT1H0M0S
SUMMARY:Jack City vs. TX Coyotes
DESCRIPTION:12u Baseball Spring - El Paso County Sportspark
LOCATION:Field 6
CATEGORIES:QuickScores, Baseball - Youth Game
TRANSP:OPAQUE
BEGIN:VALARM
TRIGGER:-PT2H
ACTION:DISPLAY
DESCRIPTION:Jack City vs. TX Coyotes
END:VALARM
END:VEVENT
BEGIN:VEVENT
UID:epcounty-73757268-20260509T131500@quickscores.com
DTSTAMP:20260425T132600Z
DTSTART;TZID=America/Denver:20260509T131500
DURATION:PT1H0M0S
SUMMARY:Texas Raised vs. Jack City
DESCRIPTION:12u Baseball Spring - El Paso County Sportspark
LOCATION:Field 9
CATEGORIES:QuickScores, Baseball - Youth Game
TRANSP:OPAQUE
BEGIN:VALARM
TRIGGER:-PT2H
ACTION:DISPLAY
DESCRIPTION:Texas Raised vs. Jack City
END:VALARM
END:VEVENT
BEGIN:VEVENT
UID:epcounty-73757298-20260512T180000@quickscores.com
DTSTAMP:20260425T132600Z
DTSTART;TZID=America/Denver:20260512T180000
DURATION:PT1H0M0S
SUMMARY:TX Mariachis vs. Jack City
DESCRIPTION:12u Baseball Spring - El Paso County Sportspark
LOCATION:Field 10
CATEGORIES:QuickScores, Baseball - Youth Game
TRANSP:OPAQUE
BEGIN:VALARM
TRIGGER:-PT2H
ACTION:DISPLAY
DESCRIPTION:TX Mariachis vs. Jack City
END:VALARM
END:VEVENT
BEGIN:VEVENT
UID:epcounty-73757289-20260516T160500@quickscores.com
DTSTAMP:20260425T132600Z
DTSTART;TZID=America/Denver:20260516T160500
DURATION:PT1H0M0S
SUMMARY:BC vs. Jack City
DESCRIPTION:12u Baseball Spring - El Paso County Sportspark
LOCATION:Field 8
CATEGORIES:QuickScores, Baseball - Youth Game
TRANSP:OPAQUE
BEGIN:VALARM
TRIGGER:-PT2H
ACTION:DISPLAY
DESCRIPTION:BC vs. Jack City
END:VALARM
END:VEVENT
BEGIN:VEVENT
UID:epcounty-73757323-20260523T152500@quickscores.com
DTSTAMP:20260425T132600Z
DTSTART;TZID=America/Denver:20260523T152500
DURATION:PT1H0M0S
SUMMARY:Jack City vs. B17 Legends
DESCRIPTION:12u Baseball Spring - El Paso County Sportspark
LOCATION:Ascarate Field 10
CATEGORIES:QuickScores, Baseball - Youth Game
TRANSP:OPAQUE
BEGIN:VALARM
TRIGGER:-PT2H
ACTION:DISPLAY
DESCRIPTION:Jack City vs. B17 Legends
END:VALARM
END:VEVENT
BEGIN:VEVENT
UID:epcounty-73757310-20260523T165000@quickscores.com
DTSTAMP:20260425T132600Z
DTSTART;TZID=America/Denver:20260523T165000
DURATION:PT1H0M0S
SUMMARY:Jack City vs. Dodgers
DESCRIPTION:12u Baseball Spring - El Paso County Sportspark
LOCATION:Ascarate Field 10
CATEGORIES:QuickScores, Baseball - Youth Game
TRANSP:OPAQUE
BEGIN:VALARM
TRIGGER:-PT2H
ACTION:DISPLAY
DESCRIPTION:Jack City vs. Dodgers
END:VALARM
END:VEVENT
BEGIN:VEVENT
UID:epcounty-73757343-20260526T180000@quickscores.com
DTSTAMP:20260425T132600Z
DTSTART;TZID=America/Denver:20260526T180000
DURATION:PT1H0M0S
SUMMARY:Jack City vs. Troopers
DESCRIPTION:12u Baseball Spring - El Paso County Sportspark
LOCATION:Field 9
CATEGORIES:QuickScores, Baseball - Youth Game
TRANSP:OPAQUE
BEGIN:VALARM
TRIGGER:-PT2H
ACTION:DISPLAY
DESCRIPTION:Jack City vs. Troopers
END:VALARM
END:VEVENT
BEGIN:VEVENT
UID:epcounty-73757333-20260530T131500@quickscores.com
DTSTAMP:20260425T132600Z
DTSTART;TZID=America/Denver:20260530T131500
DURATION:PT1H0M0S
SUMMARY:EP Laser Show vs. Jack City
DESCRIPTION:12u Baseball Spring - El Paso County Sportspark
LOCATION:Field 10
CATEGORIES:QuickScores, Baseball - Youth Game
TRANSP:OPAQUE
BEGIN:VALARM
TRIGGER:-PT2H
ACTION:DISPLAY
DESCRIPTION:EP Laser Show vs. Jack City
END:VALARM
END:VEVENT
END:VCALENDAR
