BEGIN:VCALENDAR
VERSION:2.0
PRODID:-//QuickScores.com//BQ Dynamic iCal Creator//EN
METHOD:PUBLISH
X-WR-CALNAME:Texas Majors - 12u Baseball Spring - Spring 2026
X-WR-CALDESC:QuickScores game calendar
X-PUBLISHED-TTL:PT24H
REFRESH-INTERVAL;VALUE=DURATION:PT24H
CALSCALE:GREGORIAN
BEGIN:VTIMEZONE
TZID:America/Denver
X-LIC-LOCATION:America/Denver
BEGIN:DAYLIGHT
TZNAME:MDT
TZOFFSETFROM:-0700
TZOFFSETTO:-0600
DTSTART:19700308T020000
RRULE:FREQ=YEARLY;BYMONTH=3;BYDAY=2SU
END:DAYLIGHT
BEGIN:STANDARD
TZNAME:MST
TZOFFSETFROM:-0600
TZOFFSETTO:-0700
DTSTART:19701101T020000
RRULE:FREQ=YEARLY;BYMONTH=11;BYDAY=1SU
END:STANDARD
END:VTIMEZONE
BEGIN:VEVENT
UID:epcounty-73757174-20260324T180000@quickscores.com
DTSTAMP:20260424T022900Z
DTSTART;TZID=America/Denver:20260324T180000
DURATION:PT1H0M0S
SUMMARY:Texas Majors vs. Future Stars
DESCRIPTION:12u Baseball Spring - El Paso County Sportspark
LOCATION:Field 10
CATEGORIES:QuickScores, Baseball - Youth Game
TRANSP:OPAQUE
BEGIN:VALARM
TRIGGER:-PT2H
ACTION:DISPLAY
DESCRIPTION:Texas Majors vs. Future Stars
END:VALARM
END:VEVENT
BEGIN:VEVENT
UID:epcounty-73757202-20260331T180000@quickscores.com
DTSTAMP:20260424T022900Z
DTSTART;TZID=America/Denver:20260331T180000
DURATION:PT1H0M0S
SUMMARY:EP Bombers vs. Texas Majors
DESCRIPTION:12u Baseball Spring - El Paso County Sportspark
LOCATION:Field 10
CATEGORIES:QuickScores, Baseball - Youth Game
TRANSP:OPAQUE
BEGIN:VALARM
TRIGGER:-PT2H
ACTION:DISPLAY
DESCRIPTION:EP Bombers vs. Texas Majors
END:VALARM
END:VEVENT
BEGIN:VEVENT
UID:epcounty-73757193-20260404T131500@quickscores.com
DTSTAMP:20260424T022900Z
DTSTART;TZID=America/Denver:20260404T131500
DURATION:PT1H0M0S
SUMMARY:Texas Majors vs. EP Laser Show
DESCRIPTION:12u Baseball Spring - El Paso County Sportspark
LOCATION:Field 7
CATEGORIES:QuickScores, Baseball - Youth Game
TRANSP:OPAQUE
BEGIN:VALARM
TRIGGER:-PT2H
ACTION:DISPLAY
DESCRIPTION:Texas Majors vs. EP Laser Show
END:VALARM
END:VEVENT
BEGIN:VEVENT
UID:epcounty-73757235-20260418T131500@quickscores.com
DTSTAMP:20260424T022900Z
DTSTART;TZID=America/Denver:20260418T131500
DURATION:PT1H0M0S
SUMMARY:Authentic vs. Texas Majors
DESCRIPTION:12u Baseball Spring - El Paso County Sportspark
LOCATION:Field 9
CATEGORIES:QuickScores, Baseball - Youth Game
TRANSP:OPAQUE
BEGIN:VALARM
TRIGGER:-PT2H
ACTION:DISPLAY
DESCRIPTION:Authentic vs. Texas Majors
END:VALARM
END:VEVENT
BEGIN:VEVENT
UID:epcounty-73757228-20260418T144000@quickscores.com
DTSTAMP:20260424T022900Z
DTSTART;TZID=America/Denver:20260418T144000
DURATION:PT1H0M0S
SUMMARY:Texas Majors vs. TX Mariachis
DESCRIPTION:12u Baseball Spring - El Paso County Sportspark
LOCATION:Field 9
CATEGORIES:QuickScores, Baseball - Youth Game
TRANSP:OPAQUE
BEGIN:VALARM
TRIGGER:-PT2H
ACTION:DISPLAY
DESCRIPTION:Texas Majors vs. TX Mariachis
END:VALARM
END:VEVENT
BEGIN:VEVENT
UID:epcounty-73757255-20260428T180000@quickscores.com
DTSTAMP:20260424T022900Z
DTSTART;TZID=America/Denver:20260428T180000
DURATION:PT1H0M0S
SUMMARY:Texas Majors vs. Texas Raised
DESCRIPTION:12u Baseball Spring - El Paso County Sportspark
LOCATION:Field 5
CATEGORIES:QuickScores, Baseball - Youth Game
TRANSP:OPAQUE
BEGIN:VALARM
TRIGGER:-PT2H
ACTION:DISPLAY
DESCRIPTION:Texas Majors vs. Texas Raised
END:VALARM
END:VEVENT
BEGIN:VEVENT
UID:epcounty-73757286-20260505T180000@quickscores.com
DTSTAMP:20260424T022900Z
DTSTART;TZID=America/Denver:20260505T180000
DURATION:PT1H0M0S
SUMMARY:Texas Majors vs. Swarm
DESCRIPTION:12u Baseball Spring - El Paso County Sportspark
LOCATION:Field 7
CATEGORIES:QuickScores, Baseball - Youth Game
TRANSP:OPAQUE
BEGIN:VALARM
TRIGGER:-PT2H
ACTION:DISPLAY
DESCRIPTION:Texas Majors vs. Swarm
END:VALARM
END:VEVENT
BEGIN:VEVENT
UID:epcounty-73757277-20260509T160500@quickscores.com
DTSTAMP:20260424T022900Z
DTSTART;TZID=America/Denver:20260509T160500
DURATION:PT1H0M0S
SUMMARY:TX Coyotes vs. Texas Majors
DESCRIPTION:12u Baseball Spring - El Paso County Sportspark
LOCATION:Field 7
CATEGORIES:QuickScores, Baseball - Youth Game
TRANSP:OPAQUE
BEGIN:VALARM
TRIGGER:-PT2H
ACTION:DISPLAY
DESCRIPTION:TX Coyotes vs. Texas Majors
END:VALARM
END:VEVENT
BEGIN:VEVENT
UID:epcounty-73757305-20260512T180000@quickscores.com
DTSTAMP:20260424T022900Z
DTSTART;TZID=America/Denver:20260512T180000
DURATION:PT1H0M0S
SUMMARY:Texas Majors vs. Yaquis
DESCRIPTION:12u Baseball Spring - El Paso County Sportspark
LOCATION:Field 6
CATEGORIES:QuickScores, Baseball - Youth Game
TRANSP:OPAQUE
BEGIN:VALARM
TRIGGER:-PT2H
ACTION:DISPLAY
DESCRIPTION:Texas Majors vs. Yaquis
END:VALARM
END:VEVENT
BEGIN:VEVENT
UID:epcounty-73757297-20260516T144000@quickscores.com
DTSTAMP:20260424T022900Z
DTSTART;TZID=America/Denver:20260516T144000
DURATION:PT1H0M0S
SUMMARY:El Paso Baseball Crew vs. Texas Majors
DESCRIPTION:12u Baseball Spring - El Paso County Sportspark
LOCATION:Field 6
CATEGORIES:QuickScores, Baseball - Youth Game
TRANSP:OPAQUE
BEGIN:VALARM
TRIGGER:-PT2H
ACTION:DISPLAY
DESCRIPTION:El Paso Baseball Crew vs. Texas Majors
END:VALARM
END:VEVENT
BEGIN:VEVENT
UID:epcounty-73757316-20260523T140000@quickscores.com
DTSTAMP:20260424T022900Z
DTSTART;TZID=America/Denver:20260523T140000
DURATION:PT1H0M0S
SUMMARY:Los Gatos vs. Texas Majors
DESCRIPTION:12u Baseball Spring - El Paso County Sportspark
LOCATION:Ascarate Field 4
CATEGORIES:QuickScores, Baseball - Youth Game
TRANSP:OPAQUE
BEGIN:VALARM
TRIGGER:-PT2H
ACTION:DISPLAY
DESCRIPTION:Los Gatos vs. Texas Majors
END:VALARM
END:VEVENT
BEGIN:VEVENT
UID:epcounty-73757320-20260523T152500@quickscores.com
DTSTAMP:20260424T022900Z
DTSTART;TZID=America/Denver:20260523T152500
DURATION:PT1H0M0S
SUMMARY:Desert Boyz vs. Texas Majors
DESCRIPTION:12u Baseball Spring - El Paso County Sportspark
LOCATION:Ascarate Field 4
CATEGORIES:QuickScores, Baseball - Youth Game
TRANSP:OPAQUE
BEGIN:VALARM
TRIGGER:-PT2H
ACTION:DISPLAY
DESCRIPTION:Desert Boyz vs. Texas Majors
END:VALARM
END:VEVENT
BEGIN:VEVENT
UID:epcounty-73757339-20260530T131500@quickscores.com
DTSTAMP:20260424T022900Z
DTSTART;TZID=America/Denver:20260530T131500
DURATION:PT1H0M0S
SUMMARY:Ryder vs. Texas Majors
DESCRIPTION:12u Baseball Spring - El Paso County Sportspark
LOCATION:Field 8
CATEGORIES:QuickScores, Baseball - Youth Game
TRANSP:OPAQUE
BEGIN:VALARM
TRIGGER:-PT2H
ACTION:DISPLAY
DESCRIPTION:Ryder vs. Texas Majors
END:VALARM
END:VEVENT
BEGIN:VEVENT
UID:epcounty-73757328-20260530T144000@quickscores.com
DTSTAMP:20260424T022900Z
DTSTART;TZID=America/Denver:20260530T144000
DURATION:PT1H0M0S
SUMMARY:Texas Majors vs. EP Blue Sox
DESCRIPTION:12u Baseball Spring - El Paso County Sportspark
LOCATION:Field 8
CATEGORIES:QuickScores, Baseball - Youth Game
TRANSP:OPAQUE
BEGIN:VALARM
TRIGGER:-PT2H
ACTION:DISPLAY
DESCRIPTION:Texas Majors vs. EP Blue Sox
END:VALARM
END:VEVENT
END:VCALENDAR
