BEGIN:VCALENDAR
VERSION:2.0
PRODID:-//QuickScores.com//BQ Dynamic iCal Creator//EN
METHOD:PUBLISH
X-WR-CALNAME:EP Blue Sox - 12u Baseball Spring - Spring 2026
X-WR-CALDESC:QuickScores game calendar
X-PUBLISHED-TTL:PT24H
REFRESH-INTERVAL;VALUE=DURATION:PT24H
CALSCALE:GREGORIAN
BEGIN:VTIMEZONE
TZID:America/Denver
X-LIC-LOCATION:America/Denver
BEGIN:DAYLIGHT
TZNAME:MDT
TZOFFSETFROM:-0700
TZOFFSETTO:-0600
DTSTART:19700308T020000
RRULE:FREQ=YEARLY;BYMONTH=3;BYDAY=2SU
END:DAYLIGHT
BEGIN:STANDARD
TZNAME:MST
TZOFFSETFROM:-0600
TZOFFSETTO:-0700
DTSTART:19701101T020000
RRULE:FREQ=YEARLY;BYMONTH=11;BYDAY=1SU
END:STANDARD
END:VTIMEZONE
BEGIN:VEVENT
UID:epcounty-73757173-20260324T180000@quickscores.com
DTSTAMP:20260423T222500Z
DTSTART;TZID=America/Denver:20260324T180000
DURATION:PT1H0M0S
SUMMARY:EP Blue Sox vs. El Paso Baseball Crew
DESCRIPTION:12u Baseball Spring - El Paso County Sportspark
LOCATION:Field 8
CATEGORIES:QuickScores, Baseball - Youth Game
TRANSP:OPAQUE
BEGIN:VALARM
TRIGGER:-PT2H
ACTION:DISPLAY
DESCRIPTION:EP Blue Sox vs. El Paso Baseball Crew
END:VALARM
END:VEVENT
BEGIN:VEVENT
UID:epcounty-73757198-20260331T180000@quickscores.com
DTSTAMP:20260423T222500Z
DTSTART;TZID=America/Denver:20260331T180000
DURATION:PT1H0M0S
SUMMARY:Swarm vs. EP Blue Sox
DESCRIPTION:12u Baseball Spring - El Paso County Sportspark
LOCATION:Field 9
CATEGORIES:QuickScores, Baseball - Youth Game
TRANSP:OPAQUE
BEGIN:VALARM
TRIGGER:-PT2H
ACTION:DISPLAY
DESCRIPTION:Swarm vs. EP Blue Sox
END:VALARM
END:VEVENT
BEGIN:VEVENT
UID:epcounty-73757189-20260404T131500@quickscores.com
DTSTAMP:20260423T222500Z
DTSTART;TZID=America/Denver:20260404T131500
DURATION:PT1H0M0S
SUMMARY:EP Blue Sox vs. Authentic
DESCRIPTION:12u Baseball Spring - El Paso County Sportspark
LOCATION:Field 10
CATEGORIES:QuickScores, Baseball - Youth Game
TRANSP:OPAQUE
BEGIN:VALARM
TRIGGER:-PT2H
ACTION:DISPLAY
DESCRIPTION:EP Blue Sox vs. Authentic
END:VALARM
END:VEVENT
BEGIN:VEVENT
UID:epcounty-73757209-20260407T180000@quickscores.com
DTSTAMP:20260423T222500Z
DTSTART;TZID=America/Denver:20260407T180000
DURATION:PT1H0M0S
SUMMARY:EP Blue Sox vs. Troopers
DESCRIPTION:12u Baseball Spring - El Paso County Sportspark
LOCATION:Field 6
CATEGORIES:QuickScores, Baseball - Youth Game
TRANSP:OPAQUE
BEGIN:VALARM
TRIGGER:-PT2H
ACTION:DISPLAY
DESCRIPTION:EP Blue Sox vs. Troopers
END:VALARM
END:VEVENT
BEGIN:VEVENT
UID:epcounty-73757231-20260418T131500@quickscores.com
DTSTAMP:20260423T222500Z
DTSTART;TZID=America/Denver:20260418T131500
DURATION:PT1H0M0S
SUMMARY:EP Blue Sox vs. Yaquis
DESCRIPTION:12u Baseball Spring - El Paso County Sportspark
LOCATION:Field 8
CATEGORIES:QuickScores, Baseball - Youth Game
TRANSP:OPAQUE
BEGIN:VALARM
TRIGGER:-PT2H
ACTION:DISPLAY
DESCRIPTION:EP Blue Sox vs. Yaquis
END:VALARM
END:VEVENT
BEGIN:VEVENT
UID:epcounty-73757224-20260418T144000@quickscores.com
DTSTAMP:20260423T222500Z
DTSTART;TZID=America/Denver:20260418T144000
DURATION:PT1H0M0S
SUMMARY:EP Bombers vs. EP Blue Sox
DESCRIPTION:12u Baseball Spring - El Paso County Sportspark
LOCATION:Field 6
CATEGORIES:QuickScores, Baseball - Youth Game
TRANSP:OPAQUE
BEGIN:VALARM
TRIGGER:-PT2H
ACTION:DISPLAY
DESCRIPTION:EP Bombers vs. EP Blue Sox
END:VALARM
END:VEVENT
BEGIN:VEVENT
UID:epcounty-73757241-20260421T180000@quickscores.com
DTSTAMP:20260423T222500Z
DTSTART;TZID=America/Denver:20260421T180000
DURATION:PT1H0M0S
SUMMARY:EP Blue Sox vs. Los Gatos
DESCRIPTION:12u Baseball Spring - El Paso County Sportspark
LOCATION:Field 7
CATEGORIES:QuickScores, Baseball - Youth Game
TRANSP:OPAQUE
BEGIN:VALARM
TRIGGER:-PT2H
ACTION:DISPLAY
DESCRIPTION:EP Blue Sox vs. Los Gatos
END:VALARM
END:VEVENT
BEGIN:VEVENT
UID:epcounty-73757258-20260428T180000@quickscores.com
DTSTAMP:20260423T222500Z
DTSTART;TZID=America/Denver:20260428T180000
DURATION:PT1H0M0S
SUMMARY:B17 Legends vs. EP Blue Sox
DESCRIPTION:12u Baseball Spring - El Paso County Sportspark
LOCATION:Field 10
CATEGORIES:QuickScores, Baseball - Youth Game
TRANSP:OPAQUE
BEGIN:VALARM
TRIGGER:-PT2H
ACTION:DISPLAY
DESCRIPTION:B17 Legends vs. EP Blue Sox
END:VALARM
END:VEVENT
BEGIN:VEVENT
UID:epcounty-73757282-20260509T144000@quickscores.com
DTSTAMP:20260423T222500Z
DTSTART;TZID=America/Denver:20260509T144000
DURATION:PT1H0M0S
SUMMARY:Texas Raised vs. EP Blue Sox
DESCRIPTION:12u Baseball Spring - El Paso County Sportspark
LOCATION:Field 9
CATEGORIES:QuickScores, Baseball - Youth Game
TRANSP:OPAQUE
BEGIN:VALARM
TRIGGER:-PT2H
ACTION:DISPLAY
DESCRIPTION:Texas Raised vs. EP Blue Sox
END:VALARM
END:VEVENT
BEGIN:VEVENT
UID:epcounty-73757273-20260509T160500@quickscores.com
DTSTAMP:20260423T222500Z
DTSTART;TZID=America/Denver:20260509T160500
DURATION:PT1H0M0S
SUMMARY:EP Blue Sox vs. EP Laser Show
DESCRIPTION:12u Baseball Spring - El Paso County Sportspark
LOCATION:Field 8
CATEGORIES:QuickScores, Baseball - Youth Game
TRANSP:OPAQUE
BEGIN:VALARM
TRIGGER:-PT2H
ACTION:DISPLAY
DESCRIPTION:EP Blue Sox vs. EP Laser Show
END:VALARM
END:VEVENT
BEGIN:VEVENT
UID:epcounty-73757303-20260512T180000@quickscores.com
DTSTAMP:20260423T222500Z
DTSTART;TZID=America/Denver:20260512T180000
DURATION:PT1H0M0S
SUMMARY:Ryder vs. EP Blue Sox
DESCRIPTION:12u Baseball Spring - El Paso County Sportspark
LOCATION:Field 5
CATEGORIES:QuickScores, Baseball - Youth Game
TRANSP:OPAQUE
BEGIN:VALARM
TRIGGER:-PT2H
ACTION:DISPLAY
DESCRIPTION:Ryder vs. EP Blue Sox
END:VALARM
END:VEVENT
BEGIN:VEVENT
UID:epcounty-73757294-20260516T131500@quickscores.com
DTSTAMP:20260423T222500Z
DTSTART;TZID=America/Denver:20260516T131500
DURATION:PT1H0M0S
SUMMARY:EP Blue Sox vs. TX Mariachis
DESCRIPTION:12u Baseball Spring - El Paso County Sportspark
LOCATION:Field 6
CATEGORIES:QuickScores, Baseball - Youth Game
TRANSP:OPAQUE
BEGIN:VALARM
TRIGGER:-PT2H
ACTION:DISPLAY
DESCRIPTION:EP Blue Sox vs. TX Mariachis
END:VALARM
END:VEVENT
BEGIN:VEVENT
UID:epcounty-73757315-20260523T140000@quickscores.com
DTSTAMP:20260423T222500Z
DTSTART;TZID=America/Denver:20260523T140000
DURATION:PT1H0M0S
SUMMARY:TX Coyotes vs. EP Blue Sox
DESCRIPTION:12u Baseball Spring - El Paso County Sportspark
LOCATION:Ascarate Field 9
CATEGORIES:QuickScores, Baseball - Youth Game
TRANSP:OPAQUE
BEGIN:VALARM
TRIGGER:-PT2H
ACTION:DISPLAY
DESCRIPTION:TX Coyotes vs. EP Blue Sox
END:VALARM
END:VEVENT
BEGIN:VEVENT
UID:epcounty-73757328-20260530T144000@quickscores.com
DTSTAMP:20260423T222500Z
DTSTART;TZID=America/Denver:20260530T144000
DURATION:PT1H0M0S
SUMMARY:Texas Majors vs. EP Blue Sox
DESCRIPTION:12u Baseball Spring - El Paso County Sportspark
LOCATION:Field 8
CATEGORIES:QuickScores, Baseball - Youth Game
TRANSP:OPAQUE
BEGIN:VALARM
TRIGGER:-PT2H
ACTION:DISPLAY
DESCRIPTION:Texas Majors vs. EP Blue Sox
END:VALARM
END:VEVENT
END:VCALENDAR
