BEGIN:VCALENDAR
VERSION:2.0
PRODID:-//QuickScores.com//BQ Dynamic iCal Creator//EN
METHOD:PUBLISH
X-WR-CALNAME:EP Bombers - 12u Baseball Spring - Spring 2026
X-WR-CALDESC:QuickScores game calendar
X-PUBLISHED-TTL:PT24H
REFRESH-INTERVAL;VALUE=DURATION:PT24H
CALSCALE:GREGORIAN
BEGIN:VTIMEZONE
TZID:America/Denver
X-LIC-LOCATION:America/Denver
BEGIN:DAYLIGHT
TZNAME:MDT
TZOFFSETFROM:-0700
TZOFFSETTO:-0600
DTSTART:19700308T020000
RRULE:FREQ=YEARLY;BYMONTH=3;BYDAY=2SU
END:DAYLIGHT
BEGIN:STANDARD
TZNAME:MST
TZOFFSETFROM:-0600
TZOFFSETTO:-0700
DTSTART:19701101T020000
RRULE:FREQ=YEARLY;BYMONTH=11;BYDAY=1SU
END:STANDARD
END:VTIMEZONE
BEGIN:VEVENT
UID:epcounty-73757202-20260331T180000@quickscores.com
DTSTAMP:20260424T035400Z
DTSTART;TZID=America/Denver:20260331T180000
DURATION:PT1H0M0S
SUMMARY:EP Bombers vs. Texas Majors
DESCRIPTION:12u Baseball Spring - El Paso County Sportspark
LOCATION:Field 10
CATEGORIES:QuickScores, Baseball - Youth Game
TRANSP:OPAQUE
BEGIN:VALARM
TRIGGER:-PT2H
ACTION:DISPLAY
DESCRIPTION:EP Bombers vs. Texas Majors
END:VALARM
END:VEVENT
BEGIN:VEVENT
UID:epcounty-73757191-20260404T160500@quickscores.com
DTSTAMP:20260424T035400Z
DTSTART;TZID=America/Denver:20260404T160500
DURATION:PT1H0M0S
SUMMARY:Ryder vs. EP Bombers
DESCRIPTION:12u Baseball Spring - El Paso County Sportspark
LOCATION:Field 10
CATEGORIES:QuickScores, Baseball - Youth Game
TRANSP:OPAQUE
BEGIN:VALARM
TRIGGER:-PT2H
ACTION:DISPLAY
DESCRIPTION:Ryder vs. EP Bombers
END:VALARM
END:VEVENT
BEGIN:VEVENT
UID:epcounty-73757207-20260407T180000@quickscores.com
DTSTAMP:20260424T035400Z
DTSTART;TZID=America/Denver:20260407T180000
DURATION:PT1H0M0S
SUMMARY:EP Bombers vs. Jack City
DESCRIPTION:12u Baseball Spring - El Paso County Sportspark
LOCATION:Field 5
CATEGORIES:QuickScores, Baseball - Youth Game
TRANSP:OPAQUE
BEGIN:VALARM
TRIGGER:-PT2H
ACTION:DISPLAY
DESCRIPTION:EP Bombers vs. Jack City
END:VALARM
END:VEVENT
BEGIN:VEVENT
UID:epcounty-73757237-20260414T180000@quickscores.com
DTSTAMP:20260424T035400Z
DTSTART;TZID=America/Denver:20260414T180000
DURATION:PT1H0M0S
SUMMARY:Troopers vs. EP Bombers
DESCRIPTION:12u Baseball Spring - El Paso County Sportspark
LOCATION:Field 7
CATEGORIES:QuickScores, Baseball - Youth Game
TRANSP:OPAQUE
BEGIN:VALARM
TRIGGER:-PT2H
ACTION:DISPLAY
DESCRIPTION:Troopers vs. EP Bombers
END:VALARM
END:VEVENT
BEGIN:VEVENT
UID:epcounty-73757224-20260418T144000@quickscores.com
DTSTAMP:20260424T035400Z
DTSTART;TZID=America/Denver:20260418T144000
DURATION:PT1H0M0S
SUMMARY:EP Bombers vs. EP Blue Sox
DESCRIPTION:12u Baseball Spring - El Paso County Sportspark
LOCATION:Field 6
CATEGORIES:QuickScores, Baseball - Youth Game
TRANSP:OPAQUE
BEGIN:VALARM
TRIGGER:-PT2H
ACTION:DISPLAY
DESCRIPTION:EP Bombers vs. EP Blue Sox
END:VALARM
END:VEVENT
BEGIN:VEVENT
UID:epcounty-73757243-20260421T180000@quickscores.com
DTSTAMP:20260424T035400Z
DTSTART;TZID=America/Denver:20260421T180000
DURATION:PT1H0M0S
SUMMARY:EP Bombers vs. EP Laser Show
DESCRIPTION:12u Baseball Spring - El Paso County Sportspark
LOCATION:Field 6
CATEGORIES:QuickScores, Baseball - Youth Game
TRANSP:OPAQUE
BEGIN:VALARM
TRIGGER:-PT2H
ACTION:DISPLAY
DESCRIPTION:EP Bombers vs. EP Laser Show
END:VALARM
END:VEVENT
BEGIN:VEVENT
UID:epcounty-73757254-20260428T180000@quickscores.com
DTSTAMP:20260424T035400Z
DTSTART;TZID=America/Denver:20260428T180000
DURATION:PT1H0M0S
SUMMARY:EP Bombers vs. Desert Boyz
DESCRIPTION:12u Baseball Spring - El Paso County Sportspark
LOCATION:Field 9
CATEGORIES:QuickScores, Baseball - Youth Game
TRANSP:OPAQUE
BEGIN:VALARM
TRIGGER:-PT2H
ACTION:DISPLAY
DESCRIPTION:EP Bombers vs. Desert Boyz
END:VALARM
END:VEVENT
BEGIN:VEVENT
UID:epcounty-73757271-20260509T131500@quickscores.com
DTSTAMP:20260424T035400Z
DTSTART;TZID=America/Denver:20260509T131500
DURATION:PT1H0M0S
SUMMARY:Yaquis vs. EP Bombers
DESCRIPTION:12u Baseball Spring - El Paso County Sportspark
LOCATION:Field 10
CATEGORIES:QuickScores, Baseball - Youth Game
TRANSP:OPAQUE
BEGIN:VALARM
TRIGGER:-PT2H
ACTION:DISPLAY
DESCRIPTION:Yaquis vs. EP Bombers
END:VALARM
END:VEVENT
BEGIN:VEVENT
UID:epcounty-73757280-20260509T144000@quickscores.com
DTSTAMP:20260424T035400Z
DTSTART;TZID=America/Denver:20260509T144000
DURATION:PT1H0M0S
SUMMARY:B17 Legends vs. EP Bombers
DESCRIPTION:12u Baseball Spring - El Paso County Sportspark
LOCATION:Field 10
CATEGORIES:QuickScores, Baseball - Youth Game
TRANSP:OPAQUE
BEGIN:VALARM
TRIGGER:-PT2H
ACTION:DISPLAY
DESCRIPTION:B17 Legends vs. EP Bombers
END:VALARM
END:VEVENT
BEGIN:VEVENT
UID:epcounty-73757290-20260516T131500@quickscores.com
DTSTAMP:20260424T035400Z
DTSTART;TZID=America/Denver:20260516T131500
DURATION:PT1H0M0S
SUMMARY:Swarm vs. EP Bombers
DESCRIPTION:12u Baseball Spring - El Paso County Sportspark
LOCATION:Field 10
CATEGORIES:QuickScores, Baseball - Youth Game
TRANSP:OPAQUE
BEGIN:VALARM
TRIGGER:-PT2H
ACTION:DISPLAY
DESCRIPTION:Swarm vs. EP Bombers
END:VALARM
END:VEVENT
BEGIN:VEVENT
UID:epcounty-73757301-20260516T144000@quickscores.com
DTSTAMP:20260424T035400Z
DTSTART;TZID=America/Denver:20260516T144000
DURATION:PT1H0M0S
SUMMARY:EP Bombers vs. Dodgers
DESCRIPTION:12u Baseball Spring - El Paso County Sportspark
LOCATION:Field 10
CATEGORIES:QuickScores, Baseball - Youth Game
TRANSP:OPAQUE
BEGIN:VALARM
TRIGGER:-PT2H
ACTION:DISPLAY
DESCRIPTION:EP Bombers vs. Dodgers
END:VALARM
END:VEVENT
BEGIN:VEVENT
UID:epcounty-73757309-20260523T152500@quickscores.com
DTSTAMP:20260424T035400Z
DTSTART;TZID=America/Denver:20260523T152500
DURATION:PT1H0M0S
SUMMARY:Authentic vs. EP Bombers
DESCRIPTION:12u Baseball Spring - El Paso County Sportspark
LOCATION:Ascarate Field 9
CATEGORIES:QuickScores, Baseball - Youth Game
TRANSP:OPAQUE
BEGIN:VALARM
TRIGGER:-PT2H
ACTION:DISPLAY
DESCRIPTION:Authentic vs. EP Bombers
END:VALARM
END:VEVENT
BEGIN:VEVENT
UID:epcounty-73757342-20260526T180000@quickscores.com
DTSTAMP:20260424T035400Z
DTSTART;TZID=America/Denver:20260526T180000
DURATION:PT1H0M0S
SUMMARY:Texas Raised vs. EP Bombers
DESCRIPTION:12u Baseball Spring - El Paso County Sportspark
LOCATION:Field 8
CATEGORIES:QuickScores, Baseball - Youth Game
TRANSP:OPAQUE
BEGIN:VALARM
TRIGGER:-PT2H
ACTION:DISPLAY
DESCRIPTION:Texas Raised vs. EP Bombers
END:VALARM
END:VEVENT
BEGIN:VEVENT
UID:epcounty-73757335-20260530T131500@quickscores.com
DTSTAMP:20260424T035400Z
DTSTART;TZID=America/Denver:20260530T131500
DURATION:PT1H0M0S
SUMMARY:EP Bombers vs. BC
DESCRIPTION:12u Baseball Spring - El Paso County Sportspark
LOCATION:Field 6
CATEGORIES:QuickScores, Baseball - Youth Game
TRANSP:OPAQUE
BEGIN:VALARM
TRIGGER:-PT2H
ACTION:DISPLAY
DESCRIPTION:EP Bombers vs. BC
END:VALARM
END:VEVENT
END:VCALENDAR
