BEGIN:VCALENDAR
VERSION:2.0
PRODID:-//QuickScores.com//BQ Dynamic iCal Creator//EN
METHOD:PUBLISH
X-WR-CALNAME:Dacula - Smith - Teeball 6u - Spring 2026
X-WR-CALDESC:QuickScores game calendar
X-PUBLISHED-TTL:PT24H
REFRESH-INTERVAL;VALUE=DURATION:PT24H
CALSCALE:GREGORIAN
BEGIN:VTIMEZONE
TZID:America/New_York
X-LIC-LOCATION:America/New_York
BEGIN:DAYLIGHT
TZNAME:EDT
TZOFFSETFROM:-0500
TZOFFSETTO:-0400
DTSTART:19700308T020000
RRULE:FREQ=YEARLY;BYMONTH=3;BYDAY=2SU
END:DAYLIGHT
BEGIN:STANDARD
TZNAME:EST
TZOFFSETFROM:-0400
TZOFFSETTO:-0500
DTSTART:19701101T020000
RRULE:FREQ=YEARLY;BYMONTH=11;BYDAY=1SU
END:STANDARD
END:VTIMEZONE
BEGIN:VEVENT
UID:egbl-73067303-20260304T180000@quickscores.com
DTSTAMP:20260419T130300Z
DTSTART;TZID=America/New_York:20260304T180000
DURATION:PT1H10M0S
SUMMARY:Dacula - Smith vs. Grayson - Fickle
DESCRIPTION:Teeball 6u - East Gwinnett Baseball League
LOCATION:Dacula Park - Field 4 (T-Ball / Rookie)
CATEGORIES:QuickScores, ELITE GWINNETT BASEBALL LEAGUE Game
TRANSP:OPAQUE
BEGIN:VALARM
TRIGGER:-PT2H
ACTION:DISPLAY
DESCRIPTION:Dacula - Smith vs. Grayson - Fickle
END:VALARM
END:VEVENT
BEGIN:VEVENT
UID:egbl-73067299-20260307T124000@quickscores.com
DTSTAMP:20260419T130300Z
DTSTART;TZID=America/New_York:20260307T124000
DURATION:PT1H10M0S
SUMMARY:Dacula - Smith vs. Dacula - Parker
DESCRIPTION:Teeball 6u - East Gwinnett Baseball League
LOCATION:Shorty Howell -Field 6 (TeeBall)
CATEGORIES:QuickScores, ELITE GWINNETT BASEBALL LEAGUE Game
TRANSP:OPAQUE
BEGIN:VALARM
TRIGGER:-PT2H
ACTION:DISPLAY
DESCRIPTION:Dacula - Smith vs. Dacula - Parker
END:VALARM
END:VEVENT
BEGIN:VEVENT
UID:egbl-73067309-20260310T192000@quickscores.com
DTSTAMP:20260419T130300Z
DTSTART;TZID=America/New_York:20260310T192000
DURATION:PT1H10M0S
SUMMARY:Dacula - Smith vs. Dacula - Mitchell
DESCRIPTION:WEATHER CANCELLATION --- Teeball 6u - East Gwinnett Baseball League
LOCATION:Bay Creek - Field 8 (TeeBall)
CATEGORIES:QuickScores, ELITE GWINNETT BASEBALL LEAGUE Game
TRANSP:OPAQUE
BEGIN:VALARM
TRIGGER:-PT2H
ACTION:DISPLAY
DESCRIPTION:Dacula - Smith vs. Dacula - Mitchell
END:VALARM
END:VEVENT
BEGIN:VEVENT
UID:egbl-73067311-20260314T124000@quickscores.com
DTSTAMP:20260419T130300Z
DTSTART;TZID=America/New_York:20260314T124000
DURATION:PT1H10M0S
SUMMARY:Lawrenceville - Buggs - Henderson vs. Dacula - Smith
DESCRIPTION:Teeball 6u - East Gwinnett Baseball League
LOCATION:Dacula Park - Field 4 (T-Ball / Rookie)
CATEGORIES:QuickScores, ELITE GWINNETT BASEBALL LEAGUE Game
TRANSP:OPAQUE
BEGIN:VALARM
TRIGGER:-PT2H
ACTION:DISPLAY
DESCRIPTION:Lawrenceville - Buggs - Henderson vs. Dacula - Smith
END:VALARM
END:VEVENT
BEGIN:VEVENT
UID:egbl-73067318-20260321T140000@quickscores.com
DTSTAMP:20260419T130300Z
DTSTART;TZID=America/New_York:20260321T140000
DURATION:PT1H10M0S
SUMMARY:Duluth McLeod vs. Dacula - Smith
DESCRIPTION:Teeball 6u - East Gwinnett Baseball League
LOCATION:Lawrenceville - Field 1
CATEGORIES:QuickScores, ELITE GWINNETT BASEBALL LEAGUE Game
TRANSP:OPAQUE
BEGIN:VALARM
TRIGGER:-PT2H
ACTION:DISPLAY
DESCRIPTION:Duluth McLeod vs. Dacula - Smith
END:VALARM
END:VEVENT
BEGIN:VEVENT
UID:egbl-73067332-20260324T180000@quickscores.com
DTSTAMP:20260419T130300Z
DTSTART;TZID=America/New_York:20260324T180000
DURATION:PT1H10M0S
SUMMARY:Duluth Wright vs. Dacula - Smith
DESCRIPTION:Teeball 6u - East Gwinnett Baseball League
LOCATION:Dacula Park - Field 4 (T-Ball / Rookie)
CATEGORIES:QuickScores, ELITE GWINNETT BASEBALL LEAGUE Game
TRANSP:OPAQUE
BEGIN:VALARM
TRIGGER:-PT2H
ACTION:DISPLAY
DESCRIPTION:Duluth Wright vs. Dacula - Smith
END:VALARM
END:VEVENT
BEGIN:VEVENT
UID:egbl-73067325-20260327T180000@quickscores.com
DTSTAMP:20260419T130300Z
DTSTART;TZID=America/New_York:20260327T180000
DURATION:PT1H10M0S
SUMMARY:Dacula - Smith vs. Lawrenceville - Kronenberg
DESCRIPTION:Teeball 6u - East Gwinnett Baseball League
LOCATION:Lawrenceville - Field 1
CATEGORIES:QuickScores, ELITE GWINNETT BASEBALL LEAGUE Game
TRANSP:OPAQUE
BEGIN:VALARM
TRIGGER:-PT2H
ACTION:DISPLAY
DESCRIPTION:Dacula - Smith vs. Lawrenceville - Kronenberg
END:VALARM
END:VEVENT
BEGIN:VEVENT
UID:egbl-73067338-20260330T180000@quickscores.com
DTSTAMP:20260419T130300Z
DTSTART;TZID=America/New_York:20260330T180000
DURATION:PT1H10M0S
SUMMARY:Grayson - Hardeman-Stone vs. Dacula - Smith
DESCRIPTION:Teeball 6u - East Gwinnett Baseball League
LOCATION:Bay Creek - Field 8 (TeeBall)
CATEGORIES:QuickScores, ELITE GWINNETT BASEBALL LEAGUE Game
TRANSP:OPAQUE
BEGIN:VALARM
TRIGGER:-PT2H
ACTION:DISPLAY
DESCRIPTION:Grayson - Hardeman-Stone vs. Dacula - Smith
END:VALARM
END:VEVENT
BEGIN:VEVENT
UID:egbl-73067343-20260401T180000@quickscores.com
DTSTAMP:20260419T130300Z
DTSTART;TZID=America/New_York:20260401T180000
DURATION:PT1H10M0S
SUMMARY:Dacula - Parker vs. Dacula - Smith
DESCRIPTION:Weather Delay (Mid-Game)Top of the 3rd, 2 Outs, with 12 min left of game time Parker team at bat Ellis is batter Wyatt is on 3rd Micah is on Second and RJ is on First Smiths team is in the Field I do have a picture of score board at start of the lighting alarm and everything is also documented in our team scorebook as well as the main scorebook --- Teeball 6u - East Gwinnett Baseball League
LOCATION:Dacula Park - Field 4 (T-Ball / Rookie)
CATEGORIES:QuickScores, ELITE GWINNETT BASEBALL LEAGUE Game
TRANSP:OPAQUE
BEGIN:VALARM
TRIGGER:-PT2H
ACTION:DISPLAY
DESCRIPTION:Dacula - Parker vs. Dacula - Smith
END:VALARM
END:VEVENT
BEGIN:VEVENT
UID:egbl-73067348-20260415T180000@quickscores.com
DTSTAMP:20260419T130300Z
DTSTART;TZID=America/New_York:20260415T180000
DURATION:PT1H10M0S
SUMMARY:Grayson - Fickle vs. Dacula - Smith
DESCRIPTION:Teeball 6u - East Gwinnett Baseball League
LOCATION:Bay Creek - Field 8 (TeeBall)
CATEGORIES:QuickScores, ELITE GWINNETT BASEBALL LEAGUE Game
TRANSP:OPAQUE
BEGIN:VALARM
TRIGGER:-PT2H
ACTION:DISPLAY
DESCRIPTION:Grayson - Fickle vs. Dacula - Smith
END:VALARM
END:VEVENT
BEGIN:VEVENT
UID:egbl-73067352-20260425T112000@quickscores.com
DTSTAMP:20260419T130300Z
DTSTART;TZID=America/New_York:20260425T112000
DURATION:PT1H10M0S
SUMMARY:Dacula - Smith vs. Lawrenceville - Buggs - Henderson
DESCRIPTION:Teeball 6u - East Gwinnett Baseball League
LOCATION:Dacula Park - Field 4 (T-Ball / Rookie)
CATEGORIES:QuickScores, ELITE GWINNETT BASEBALL LEAGUE Game
TRANSP:OPAQUE
BEGIN:VALARM
TRIGGER:-PT2H
ACTION:DISPLAY
DESCRIPTION:Dacula - Smith vs. Lawrenceville - Buggs - Henderson
END:VALARM
END:VEVENT
BEGIN:VEVENT
UID:egbl-73067321-20260428T180000@quickscores.com
DTSTAMP:20260419T130300Z
DTSTART;TZID=America/New_York:20260428T180000
DURATION:PT2H30M0S
SUMMARY:Dacula - Smith vs. Lawrenceville - Bonner
DESCRIPTION:Teeball 6u - East Gwinnett Baseball League
LOCATION:Dacula Park - Field 4 (T-Ball / Rookie)
CATEGORIES:QuickScores, ELITE GWINNETT BASEBALL LEAGUE Game
TRANSP:OPAQUE
BEGIN:VALARM
TRIGGER:-PT2H
ACTION:DISPLAY
DESCRIPTION:Dacula - Smith vs. Lawrenceville - Bonner
END:VALARM
END:VEVENT
END:VCALENDAR
