BEGIN:VCALENDAR
VERSION:2.0
PRODID:-//QuickScores.com//BQ Dynamic iCal Creator//EN
METHOD:PUBLISH
X-WR-CALNAME:Tallassee - Eayfl Sophomore 8u - Fall 2025
X-WR-CALDESC:QuickScores game calendar
X-PUBLISHED-TTL:PT24H
REFRESH-INTERVAL;VALUE=DURATION:PT24H
CALSCALE:GREGORIAN
BEGIN:VTIMEZONE
TZID:America/Chicago
X-LIC-LOCATION:America/Chicago
BEGIN:DAYLIGHT
TZNAME:CDT
TZOFFSETFROM:-0600
TZOFFSETTO:-0500
DTSTART:19700308T020000
RRULE:FREQ=YEARLY;BYMONTH=3;BYDAY=2SU
END:DAYLIGHT
BEGIN:STANDARD
TZNAME:CST
TZOFFSETFROM:-0500
TZOFFSETTO:-0600
DTSTART:19701101T020000
RRULE:FREQ=YEARLY;BYMONTH=11;BYDAY=1SU
END:STANDARD
END:VTIMEZONE
BEGIN:VEVENT
UID:eayfl-70189298-20250906T100000@quickscores.com
DTSTAMP:20260425T071900Z
DTSTART;TZID=America/Chicago:20250906T100000
DURATION:PT1H0M0S
SUMMARY:Macon County vs. Tallassee
DESCRIPTION:Eayfl Sophomore 8u - East Alabama Youth Football League (EAYFL)
LOCATION:Tallassee
CATEGORIES:QuickScores, Football Game
TRANSP:OPAQUE
BEGIN:VALARM
TRIGGER:-PT2H
ACTION:DISPLAY
DESCRIPTION:Macon County vs. Tallassee
END:VALARM
END:VEVENT
BEGIN:VEVENT
UID:eayfl-70189302-20250913T100000@quickscores.com
DTSTAMP:20260425T071900Z
DTSTART;TZID=America/Chicago:20250913T100000
DURATION:PT1H0M0S
SUMMARY:Tallassee vs. Dadeville
DESCRIPTION:Eayfl Sophomore 8u - East Alabama Youth Football League (EAYFL)
LOCATION:Dadeville
CATEGORIES:QuickScores, Football Game
TRANSP:OPAQUE
BEGIN:VALARM
TRIGGER:-PT2H
ACTION:DISPLAY
DESCRIPTION:Tallassee vs. Dadeville
END:VALARM
END:VEVENT
BEGIN:VEVENT
UID:eayfl-70189306-20250920T100000@quickscores.com
DTSTAMP:20260425T071900Z
DTSTART;TZID=America/Chicago:20250920T100000
DURATION:PT1H0M0S
SUMMARY:Tallassee vs. Camp Hill
DESCRIPTION:Eayfl Sophomore 8u - East Alabama Youth Football League (EAYFL)
LOCATION:Camp Hill
CATEGORIES:QuickScores, Football Game
TRANSP:OPAQUE
BEGIN:VALARM
TRIGGER:-PT2H
ACTION:DISPLAY
DESCRIPTION:Tallassee vs. Camp Hill
END:VALARM
END:VEVENT
BEGIN:VEVENT
UID:eayfl-70189313-20251004T100000@quickscores.com
DTSTAMP:20260425T071900Z
DTSTART;TZID=America/Chicago:20251004T100000
DURATION:PT1H0M0S
SUMMARY:Wetumpka vs. Tallassee
DESCRIPTION:Eayfl Sophomore 8u - East Alabama Youth Football League (EAYFL)
LOCATION:Tallassee
CATEGORIES:QuickScores, Football Game
TRANSP:OPAQUE
BEGIN:VALARM
TRIGGER:-PT2H
ACTION:DISPLAY
DESCRIPTION:Wetumpka vs. Tallassee
END:VALARM
END:VEVENT
BEGIN:VEVENT
UID:eayfl-70189317-20251011T100000@quickscores.com
DTSTAMP:20260425T071900Z
DTSTART;TZID=America/Chicago:20251011T100000
DURATION:PT1H0M0S
SUMMARY:Tallassee vs. Bullock County
DESCRIPTION:Eayfl Sophomore 8u - East Alabama Youth Football League (EAYFL)
LOCATION:Bullock County
CATEGORIES:QuickScores, Football Game
TRANSP:OPAQUE
BEGIN:VALARM
TRIGGER:-PT2H
ACTION:DISPLAY
DESCRIPTION:Tallassee vs. Bullock County
END:VALARM
END:VEVENT
BEGIN:VEVENT
UID:eayfl-70189320-20251018T100000@quickscores.com
DTSTAMP:20260425T071900Z
DTSTART;TZID=America/Chicago:20251018T100000
DURATION:PT1H0M0S
SUMMARY:Reeltown vs. Tallassee
DESCRIPTION:Eayfl Sophomore 8u - East Alabama Youth Football League (EAYFL)
LOCATION:Tallassee
CATEGORIES:QuickScores, Football Game
TRANSP:OPAQUE
BEGIN:VALARM
TRIGGER:-PT2H
ACTION:DISPLAY
DESCRIPTION:Reeltown vs. Tallassee
END:VALARM
END:VEVENT
BEGIN:VEVENT
UID:eayfl-70189324-20251101T120000@quickscores.com
DTSTAMP:20260425T071900Z
DTSTART;TZID=America/Chicago:20251101T120000
DURATION:PT1H0M0S
SUMMARY:[4] Tallassee vs. [5] Reeltown
DESCRIPTION:Eayfl Sophomore 8u - East Alabama Youth Football League (EAYFL)
LOCATION:Reeltown
CATEGORIES:QuickScores, Football Game
TRANSP:OPAQUE
BEGIN:VALARM
TRIGGER:-PT2H
ACTION:DISPLAY
DESCRIPTION:[4] Tallassee vs. [5] Reeltown
END:VALARM
END:VEVENT
END:VCALENDAR
