BEGIN:VCALENDAR
VERSION:2.0
PRODID:-//QuickScores.com//BQ Dynamic iCal Creator//EN
METHOD:PUBLISH
X-WR-CALNAME:Camp Hill - Eayfl Sophomore 8u - Fall 2025
X-WR-CALDESC:QuickScores game calendar
X-PUBLISHED-TTL:PT24H
REFRESH-INTERVAL;VALUE=DURATION:PT24H
CALSCALE:GREGORIAN
BEGIN:VTIMEZONE
TZID:America/Chicago
X-LIC-LOCATION:America/Chicago
BEGIN:DAYLIGHT
TZNAME:CDT
TZOFFSETFROM:-0600
TZOFFSETTO:-0500
DTSTART:19700308T020000
RRULE:FREQ=YEARLY;BYMONTH=3;BYDAY=2SU
END:DAYLIGHT
BEGIN:STANDARD
TZNAME:CST
TZOFFSETFROM:-0500
TZOFFSETTO:-0600
DTSTART:19701101T020000
RRULE:FREQ=YEARLY;BYMONTH=11;BYDAY=1SU
END:STANDARD
END:VTIMEZONE
BEGIN:VEVENT
UID:eayfl-70189301-20250913T100000@quickscores.com
DTSTAMP:20260425T085100Z
DTSTART;TZID=America/Chicago:20250913T100000
DURATION:PT1H0M0S
SUMMARY:Camp Hill vs. Reeltown
DESCRIPTION:Eayfl Sophomore 8u - East Alabama Youth Football League (EAYFL)
LOCATION:Reeltown
CATEGORIES:QuickScores, Football Game
TRANSP:OPAQUE
BEGIN:VALARM
TRIGGER:-PT2H
ACTION:DISPLAY
DESCRIPTION:Camp Hill vs. Reeltown
END:VALARM
END:VEVENT
BEGIN:VEVENT
UID:eayfl-70189306-20250920T100000@quickscores.com
DTSTAMP:20260425T085100Z
DTSTART;TZID=America/Chicago:20250920T100000
DURATION:PT1H0M0S
SUMMARY:Tallassee vs. Camp Hill
DESCRIPTION:Eayfl Sophomore 8u - East Alabama Youth Football League (EAYFL)
LOCATION:Camp Hill
CATEGORIES:QuickScores, Football Game
TRANSP:OPAQUE
BEGIN:VALARM
TRIGGER:-PT2H
ACTION:DISPLAY
DESCRIPTION:Tallassee vs. Camp Hill
END:VALARM
END:VEVENT
BEGIN:VEVENT
UID:eayfl-70189308-20250927T100000@quickscores.com
DTSTAMP:20260425T085100Z
DTSTART;TZID=America/Chicago:20250927T100000
DURATION:PT1H0M0S
SUMMARY:Bullock County vs. Camp Hill
DESCRIPTION:Eayfl Sophomore 8u - East Alabama Youth Football League (EAYFL)
LOCATION:Camp Hill
CATEGORIES:QuickScores, Football Game
TRANSP:OPAQUE
BEGIN:VALARM
TRIGGER:-PT2H
ACTION:DISPLAY
DESCRIPTION:Bullock County vs. Camp Hill
END:VALARM
END:VEVENT
BEGIN:VEVENT
UID:eayfl-70189314-20251004T100000@quickscores.com
DTSTAMP:20260425T085100Z
DTSTART;TZID=America/Chicago:20251004T100000
DURATION:PT1H0M0S
SUMMARY:Camp Hill vs. Macon County
DESCRIPTION:Eayfl Sophomore 8u - East Alabama Youth Football League (EAYFL)
LOCATION:Macon County
CATEGORIES:QuickScores, Football Game
TRANSP:OPAQUE
BEGIN:VALARM
TRIGGER:-PT2H
ACTION:DISPLAY
DESCRIPTION:Camp Hill vs. Macon County
END:VALARM
END:VEVENT
BEGIN:VEVENT
UID:eayfl-70189318-20251011T100000@quickscores.com
DTSTAMP:20260425T085100Z
DTSTART;TZID=America/Chicago:20251011T100000
DURATION:PT1H0M0S
SUMMARY:Camp Hill vs. Dadeville
DESCRIPTION:Eayfl Sophomore 8u - East Alabama Youth Football League (EAYFL)
LOCATION:Dadeville
CATEGORIES:QuickScores, Football Game
TRANSP:OPAQUE
BEGIN:VALARM
TRIGGER:-PT2H
ACTION:DISPLAY
DESCRIPTION:Camp Hill vs. Dadeville
END:VALARM
END:VEVENT
BEGIN:VEVENT
UID:eayfl-70189321-20251018T100000@quickscores.com
DTSTAMP:20260425T085100Z
DTSTART;TZID=America/Chicago:20251018T100000
DURATION:PT1H0M0S
SUMMARY:Wetumpka vs. Camp Hill
DESCRIPTION:Eayfl Sophomore 8u - East Alabama Youth Football League (EAYFL)
LOCATION:Camp Hill
CATEGORIES:QuickScores, Football Game
TRANSP:OPAQUE
BEGIN:VALARM
TRIGGER:-PT2H
ACTION:DISPLAY
DESCRIPTION:Wetumpka vs. Camp Hill
END:VALARM
END:VEVENT
BEGIN:VEVENT
UID:eayfl-70189327-20251108T110000@quickscores.com
DTSTAMP:20260425T085100Z
DTSTART;TZID=America/Chicago:20251108T110000
DURATION:PT1H0M0S
SUMMARY:[1] Camp Hill vs. [5] Reeltown
DESCRIPTION:Eayfl Sophomore 8u - East Alabama Youth Football League (EAYFL)
LOCATION:Wetumpka
CATEGORIES:QuickScores, Football Game
TRANSP:OPAQUE
BEGIN:VALARM
TRIGGER:-PT2H
ACTION:DISPLAY
DESCRIPTION:[1] Camp Hill vs. [5] Reeltown
END:VALARM
END:VEVENT
BEGIN:VEVENT
UID:eayfl-70189329-20251115@quickscores.com
DTSTAMP:20260425T085100Z
DTSTART;TZID=America/Chicago:20251115
SUMMARY:[1] Camp Hill vs. [2] Wetumpka
DESCRIPTION:Eayfl Sophomore 8u - East Alabama Youth Football League (EAYFL)
LOCATION:Bullock County
CATEGORIES:QuickScores, Football Game
TRANSP:OPAQUE
BEGIN:VALARM
TRIGGER:-PT2H
ACTION:DISPLAY
DESCRIPTION:[1] Camp Hill vs. [2] Wetumpka
END:VALARM
END:VEVENT
END:VCALENDAR
