BEGIN:VCALENDAR
VERSION:2.0
PRODID:-//QuickScores.com//BQ Dynamic iCal Creator//EN
METHOD:PUBLISH
X-WR-CALNAME:Camp Hill - Eayfl Sophomores - Fall 2024
X-WR-CALDESC:QuickScores game calendar
X-PUBLISHED-TTL:PT24H
REFRESH-INTERVAL;VALUE=DURATION:PT24H
CALSCALE:GREGORIAN
BEGIN:VTIMEZONE
TZID:America/Chicago
X-LIC-LOCATION:America/Chicago
BEGIN:DAYLIGHT
TZNAME:CDT
TZOFFSETFROM:-0600
TZOFFSETTO:-0500
DTSTART:19700308T020000
RRULE:FREQ=YEARLY;BYMONTH=3;BYDAY=2SU
END:DAYLIGHT
BEGIN:STANDARD
TZNAME:CST
TZOFFSETFROM:-0500
TZOFFSETTO:-0600
DTSTART:19701101T020000
RRULE:FREQ=YEARLY;BYMONTH=11;BYDAY=1SU
END:STANDARD
END:VTIMEZONE
BEGIN:VEVENT
UID:eayfl-65263156-20240907T100000@quickscores.com
DTSTAMP:20260422T023600Z
DTSTART;TZID=America/Chicago:20240907T100000
DURATION:PT1H0M0S
SUMMARY:Camp Hill vs. Wetumpka
DESCRIPTION:Eayfl Sophomores - East Alabama Youth Football League (EAYFL)
LOCATION:Wetumpka
CATEGORIES:QuickScores, Football Game
TRANSP:OPAQUE
BEGIN:VALARM
TRIGGER:-PT2H
ACTION:DISPLAY
DESCRIPTION:Camp Hill vs. Wetumpka
END:VALARM
END:VEVENT
BEGIN:VEVENT
UID:eayfl-65263159-20240914T100000@quickscores.com
DTSTAMP:20260422T023600Z
DTSTART;TZID=America/Chicago:20240914T100000
DURATION:PT1H0M0S
SUMMARY:Reeltown vs. Camp Hill
DESCRIPTION:Eayfl Sophomores - East Alabama Youth Football League (EAYFL)
LOCATION:Camp Hill
CATEGORIES:QuickScores, Football Game
TRANSP:OPAQUE
BEGIN:VALARM
TRIGGER:-PT2H
ACTION:DISPLAY
DESCRIPTION:Reeltown vs. Camp Hill
END:VALARM
END:VEVENT
BEGIN:VEVENT
UID:eayfl-65263164-20240921T100000@quickscores.com
DTSTAMP:20260422T023600Z
DTSTART;TZID=America/Chicago:20240921T100000
DURATION:PT1H0M0S
SUMMARY:Camp Hill vs. Tallassee
DESCRIPTION:Eayfl Sophomores - East Alabama Youth Football League (EAYFL)
LOCATION:Tallassee
CATEGORIES:QuickScores, Football Game
TRANSP:OPAQUE
BEGIN:VALARM
TRIGGER:-PT2H
ACTION:DISPLAY
DESCRIPTION:Camp Hill vs. Tallassee
END:VALARM
END:VEVENT
BEGIN:VEVENT
UID:eayfl-65263166-20240928T100000@quickscores.com
DTSTAMP:20260422T023600Z
DTSTART;TZID=America/Chicago:20240928T100000
DURATION:PT1H0M0S
SUMMARY:Camp Hill vs. Bullock County
DESCRIPTION:Eayfl Sophomores - East Alabama Youth Football League (EAYFL)
LOCATION:Bullock County
CATEGORIES:QuickScores, Football Game
TRANSP:OPAQUE
BEGIN:VALARM
TRIGGER:-PT2H
ACTION:DISPLAY
DESCRIPTION:Camp Hill vs. Bullock County
END:VALARM
END:VEVENT
BEGIN:VEVENT
UID:eayfl-65263171-20241005T100000@quickscores.com
DTSTAMP:20260422T023600Z
DTSTART;TZID=America/Chicago:20241005T100000
DURATION:PT1H0M0S
SUMMARY:Macon County vs. Camp Hill
DESCRIPTION:Eayfl Sophomores - East Alabama Youth Football League (EAYFL)
LOCATION:Camp Hill
CATEGORIES:QuickScores, Football Game
TRANSP:OPAQUE
BEGIN:VALARM
TRIGGER:-PT2H
ACTION:DISPLAY
DESCRIPTION:Macon County vs. Camp Hill
END:VALARM
END:VEVENT
BEGIN:VEVENT
UID:eayfl-65263174-20241012T100000@quickscores.com
DTSTAMP:20260422T023600Z
DTSTART;TZID=America/Chicago:20241012T100000
DURATION:PT1H0M0S
SUMMARY:Dadeville vs. Camp Hill
DESCRIPTION:Eayfl Sophomores - East Alabama Youth Football League (EAYFL)
LOCATION:Camp Hill
CATEGORIES:QuickScores, Football Game
TRANSP:OPAQUE
BEGIN:VALARM
TRIGGER:-PT2H
ACTION:DISPLAY
DESCRIPTION:Dadeville vs. Camp Hill
END:VALARM
END:VEVENT
BEGIN:VEVENT
UID:eayfl-65499868-20241109T110000@quickscores.com
DTSTAMP:20260422T023600Z
DTSTART;TZID=America/Chicago:20241109T110000
DURATION:PT1H0M0S
SUMMARY:[1] Camp Hill vs. [4] Tallassee
DESCRIPTION:Eayfl Sophomores - East Alabama Youth Football League (EAYFL)
LOCATION:Notasulga H.S Field
CATEGORIES:QuickScores, Football Game
TRANSP:OPAQUE
BEGIN:VALARM
TRIGGER:-PT2H
ACTION:DISPLAY
DESCRIPTION:[1] Camp Hill vs. [4] Tallassee
END:VALARM
END:VEVENT
BEGIN:VEVENT
UID:eayfl-65499870-20241116T140000@quickscores.com
DTSTAMP:20260422T023600Z
DTSTART;TZID=America/Chicago:20241116T140000
DURATION:PT1H0M0S
SUMMARY:[1] Camp Hill vs. [2] Reeltown
DESCRIPTION:Eayfl Sophomores - East Alabama Youth Football League (EAYFL)
LOCATION:Dadeville
CATEGORIES:QuickScores, Football Game
TRANSP:OPAQUE
BEGIN:VALARM
TRIGGER:-PT2H
ACTION:DISPLAY
DESCRIPTION:[1] Camp Hill vs. [2] Reeltown
END:VALARM
END:VEVENT
END:VCALENDAR
