BEGIN:VCALENDAR
VERSION:2.0
PRODID:-//QuickScores.com//BQ Dynamic iCal Creator//EN
METHOD:PUBLISH
X-WR-CALNAME:Tallassee - Eayfl Freshmen - Fall 2024
X-WR-CALDESC:QuickScores game calendar
X-PUBLISHED-TTL:PT24H
REFRESH-INTERVAL;VALUE=DURATION:PT24H
CALSCALE:GREGORIAN
BEGIN:VTIMEZONE
TZID:America/Chicago
X-LIC-LOCATION:America/Chicago
BEGIN:DAYLIGHT
TZNAME:CDT
TZOFFSETFROM:-0600
TZOFFSETTO:-0500
DTSTART:19700308T020000
RRULE:FREQ=YEARLY;BYMONTH=3;BYDAY=2SU
END:DAYLIGHT
BEGIN:STANDARD
TZNAME:CST
TZOFFSETFROM:-0500
TZOFFSETTO:-0600
DTSTART:19701101T020000
RRULE:FREQ=YEARLY;BYMONTH=11;BYDAY=1SU
END:STANDARD
END:VTIMEZONE
BEGIN:VEVENT
UID:eayfl-65258481-20240907T090000@quickscores.com
DTSTAMP:20260425T055100Z
DTSTART;TZID=America/Chicago:20240907T090000
DURATION:PT1H0M0S
SUMMARY:Tallassee vs. Reeltown
DESCRIPTION:Eayfl Freshmen - East Alabama Youth Football League (EAYFL)
LOCATION:Reeltown
CATEGORIES:QuickScores, Football Game
TRANSP:OPAQUE
BEGIN:VALARM
TRIGGER:-PT2H
ACTION:DISPLAY
DESCRIPTION:Tallassee vs. Reeltown
END:VALARM
END:VEVENT
BEGIN:VEVENT
UID:eayfl-65258486-20240914T090000@quickscores.com
DTSTAMP:20260425T055100Z
DTSTART;TZID=America/Chicago:20240914T090000
DURATION:PT1H0M0S
SUMMARY:Dadeville vs. Tallassee
DESCRIPTION:Eayfl Freshmen - East Alabama Youth Football League (EAYFL)
LOCATION:Tallassee
CATEGORIES:QuickScores, Football Game
TRANSP:OPAQUE
BEGIN:VALARM
TRIGGER:-PT2H
ACTION:DISPLAY
DESCRIPTION:Dadeville vs. Tallassee
END:VALARM
END:VEVENT
BEGIN:VEVENT
UID:eayfl-65258490-20240921T090000@quickscores.com
DTSTAMP:20260425T055100Z
DTSTART;TZID=America/Chicago:20240921T090000
DURATION:PT1H0M0S
SUMMARY:Camp Hill vs. Tallassee
DESCRIPTION:Eayfl Freshmen - East Alabama Youth Football League (EAYFL)
LOCATION:Tallassee
CATEGORIES:QuickScores, Football Game
TRANSP:OPAQUE
BEGIN:VALARM
TRIGGER:-PT2H
ACTION:DISPLAY
DESCRIPTION:Camp Hill vs. Tallassee
END:VALARM
END:VEVENT
BEGIN:VEVENT
UID:eayfl-65258497-20241005T090000@quickscores.com
DTSTAMP:20260425T055100Z
DTSTART;TZID=America/Chicago:20241005T090000
DURATION:PT1H0M0S
SUMMARY:Tallassee vs. Wetumpka
DESCRIPTION:Eayfl Freshmen - East Alabama Youth Football League (EAYFL)
LOCATION:Wetumpka
CATEGORIES:QuickScores, Football Game
TRANSP:OPAQUE
BEGIN:VALARM
TRIGGER:-PT2H
ACTION:DISPLAY
DESCRIPTION:Tallassee vs. Wetumpka
END:VALARM
END:VEVENT
BEGIN:VEVENT
UID:eayfl-65258501-20241012T090000@quickscores.com
DTSTAMP:20260425T055100Z
DTSTART;TZID=America/Chicago:20241012T090000
DURATION:PT1H0M0S
SUMMARY:Bullock County vs. Tallassee
DESCRIPTION:Eayfl Freshmen - East Alabama Youth Football League (EAYFL)
LOCATION:Tallassee
CATEGORIES:QuickScores, Football Game
TRANSP:OPAQUE
BEGIN:VALARM
TRIGGER:-PT2H
ACTION:DISPLAY
DESCRIPTION:Bullock County vs. Tallassee
END:VALARM
END:VEVENT
BEGIN:VEVENT
UID:eayfl-65258506-20241019T090000@quickscores.com
DTSTAMP:20260425T055100Z
DTSTART;TZID=America/Chicago:20241019T090000
DURATION:PT1H0M0S
SUMMARY:Tallassee vs. Macon County
DESCRIPTION:Eayfl Freshmen - East Alabama Youth Football League (EAYFL)
LOCATION:Macon County
CATEGORIES:QuickScores, Football Game
TRANSP:OPAQUE
BEGIN:VALARM
TRIGGER:-PT2H
ACTION:DISPLAY
DESCRIPTION:Tallassee vs. Macon County
END:VALARM
END:VEVENT
BEGIN:VEVENT
UID:eayfl-65499857-20241102T080000@quickscores.com
DTSTAMP:20260425T055100Z
DTSTART;TZID=America/Chicago:20241102T080000
DURATION:PT1H0M0S
SUMMARY:[4] Tallassee vs. [5] Wetumpka
DESCRIPTION:Eayfl Freshmen - East Alabama Youth Football League (EAYFL)
LOCATION:Notasulga H.S Field
CATEGORIES:QuickScores, Football Game
TRANSP:OPAQUE
BEGIN:VALARM
TRIGGER:-PT2H
ACTION:DISPLAY
DESCRIPTION:[4] Tallassee vs. [5] Wetumpka
END:VALARM
END:VEVENT
BEGIN:VEVENT
UID:eayfl-65499860-20241109T090000@quickscores.com
DTSTAMP:20260425T055100Z
DTSTART;TZID=America/Chicago:20241109T090000
DURATION:PT1H0M0S
SUMMARY:[1] Reeltown vs. [4] Tallassee
DESCRIPTION:Eayfl Freshmen - East Alabama Youth Football League (EAYFL)
LOCATION:Notasulga H.S Field
CATEGORIES:QuickScores, Football Game
TRANSP:OPAQUE
BEGIN:VALARM
TRIGGER:-PT2H
ACTION:DISPLAY
DESCRIPTION:[1] Reeltown vs. [4] Tallassee
END:VALARM
END:VEVENT
END:VCALENDAR
