BEGIN:VCALENDAR
VERSION:2.0
PRODID:-//QuickScores.com//BQ Dynamic iCal Creator//EN
METHOD:PUBLISH
X-WR-CALNAME:Coach Salazar - 2009-2010 - Spring 2019
X-WR-CALDESC:QuickScores game calendar
X-PUBLISHED-TTL:PT24H
REFRESH-INTERVAL;VALUE=DURATION:PT24H
CALSCALE:GREGORIAN
BEGIN:VTIMEZONE
TZID:America/Chicago
X-LIC-LOCATION:America/Chicago
BEGIN:DAYLIGHT
TZNAME:CDT
TZOFFSETFROM:-0600
TZOFFSETTO:-0500
DTSTART:19700308T020000
RRULE:FREQ=YEARLY;BYMONTH=3;BYDAY=2SU
END:DAYLIGHT
BEGIN:STANDARD
TZNAME:CST
TZOFFSETFROM:-0500
TZOFFSETTO:-0600
DTSTART:19701101T020000
RRULE:FREQ=YEARLY;BYMONTH=11;BYDAY=1SU
END:STANDARD
END:VTIMEZONE
BEGIN:VEVENT
UID:dysa-41721131-20190404T184500@quickscores.com
DTSTAMP:20260424T050800Z
DTSTART;TZID=America/Chicago:20190404T184500
DURATION:PT1H0M0S
SUMMARY:Coach Salazar vs. Coach Howell
DESCRIPTION:2009-2010 - Decatur Youth Soccer Association --- Ref (2): Christopher Robinson
LOCATION:SOA (Point Mallard) - #13
CATEGORIES:QuickScores, Soccer - Youth Game
TRANSP:OPAQUE
BEGIN:VALARM
TRIGGER:-PT2H
ACTION:DISPLAY
DESCRIPTION:Coach Salazar vs. Coach Howell
END:VALARM
END:VEVENT
BEGIN:VEVENT
UID:dysa-41721135-20190409T184500@quickscores.com
DTSTAMP:20260424T050800Z
DTSTART;TZID=America/Chicago:20190409T184500
DURATION:PT1H0M0S
SUMMARY:Coach Thompson vs. Coach Salazar
DESCRIPTION:2009-2010 - Decatur Youth Soccer Association --- Ref (2): Christopher Robinson
LOCATION:SOA (Point Mallard) -  #14
CATEGORIES:QuickScores, Soccer - Youth Game
TRANSP:OPAQUE
BEGIN:VALARM
TRIGGER:-PT2H
ACTION:DISPLAY
DESCRIPTION:Coach Thompson vs. Coach Salazar
END:VALARM
END:VEVENT
BEGIN:VEVENT
UID:dysa-41721139-20190416T174500@quickscores.com
DTSTAMP:20260424T050800Z
DTSTART;TZID=America/Chicago:20190416T174500
DURATION:PT1H0M0S
SUMMARY:Coach Salazar vs. Coach Lancaster
DESCRIPTION:2009-2010 - Decatur Youth Soccer Association --- Ref (3): Kalisa barnett
LOCATION:SOA (Point Mallard) - #13
CATEGORIES:QuickScores, Soccer - Youth Game
TRANSP:OPAQUE
BEGIN:VALARM
TRIGGER:-PT2H
ACTION:DISPLAY
DESCRIPTION:Coach Salazar vs. Coach Lancaster
END:VALARM
END:VEVENT
BEGIN:VEVENT
UID:dysa-41721143-20190423T174500@quickscores.com
DTSTAMP:20260424T050800Z
DTSTART;TZID=America/Chicago:20190423T174500
DURATION:PT1H0M0S
SUMMARY:Coach Beever vs. Coach Salazar
DESCRIPTION:2009-2010 - Decatur Youth Soccer Association
LOCATION:SOA (Point Mallard) -  #14
CATEGORIES:QuickScores, Soccer - Youth Game
TRANSP:OPAQUE
BEGIN:VALARM
TRIGGER:-PT2H
ACTION:DISPLAY
DESCRIPTION:Coach Beever vs. Coach Salazar
END:VALARM
END:VEVENT
BEGIN:VEVENT
UID:dysa-41721147-20190425T184500@quickscores.com
DTSTAMP:20260424T050800Z
DTSTART;TZID=America/Chicago:20190425T184500
DURATION:PT1H0M0S
SUMMARY:Coach Salazar vs. Coach Ramirez
DESCRIPTION:2009-2010 - Decatur Youth Soccer Association --- Ref (2): Christopher Robinson
LOCATION:SOA (Point Mallard) - #13
CATEGORIES:QuickScores, Soccer - Youth Game
TRANSP:OPAQUE
BEGIN:VALARM
TRIGGER:-PT2H
ACTION:DISPLAY
DESCRIPTION:Coach Salazar vs. Coach Ramirez
END:VALARM
END:VEVENT
BEGIN:VEVENT
UID:dysa-41721151-20190430T184500@quickscores.com
DTSTAMP:20260424T050800Z
DTSTART;TZID=America/Chicago:20190430T184500
DURATION:PT1H0M0S
SUMMARY:Coach Howard vs. Coach Salazar
DESCRIPTION:2009-2010 - Decatur Youth Soccer Association --- Ref (3): Kalisa barnett
LOCATION:JARC - U21
CATEGORIES:QuickScores, Soccer - Youth Game
TRANSP:OPAQUE
BEGIN:VALARM
TRIGGER:-PT2H
ACTION:DISPLAY
DESCRIPTION:Coach Howard vs. Coach Salazar
END:VALARM
END:VEVENT
BEGIN:VEVENT
UID:dysa-41721155-20190507T184500@quickscores.com
DTSTAMP:20260424T050800Z
DTSTART;TZID=America/Chicago:20190507T184500
DURATION:PT1H0M0S
SUMMARY:Coach Salazar vs. Coach Foley
DESCRIPTION:2009-2010 - Decatur Youth Soccer Association --- Ref (2): Christopher Robinson
LOCATION:JARC - U21
CATEGORIES:QuickScores, Soccer - Youth Game
TRANSP:OPAQUE
BEGIN:VALARM
TRIGGER:-PT2H
ACTION:DISPLAY
DESCRIPTION:Coach Salazar vs. Coach Foley
END:VALARM
END:VEVENT
BEGIN:VEVENT
UID:dysa-41721159-20190514T174500@quickscores.com
DTSTAMP:20260424T050800Z
DTSTART;TZID=America/Chicago:20190514T174500
DURATION:PT1H0M0S
SUMMARY:Coach Howell vs. Coach Salazar
DESCRIPTION:2009-2010 - Decatur Youth Soccer Association --- Ref (2): Christopher Robinson
LOCATION:JARC - U20
CATEGORIES:QuickScores, Soccer - Youth Game
TRANSP:OPAQUE
BEGIN:VALARM
TRIGGER:-PT2H
ACTION:DISPLAY
DESCRIPTION:Coach Howell vs. Coach Salazar
END:VALARM
END:VEVENT
END:VCALENDAR
