BEGIN:VCALENDAR
VERSION:2.0
PRODID:-//QuickScores.com//BQ Dynamic iCal Creator//EN
METHOD:PUBLISH
X-WR-CALNAME:MC Legends U12B Grey - U11/12 Boys X - Frosty Cup 2026
X-WR-CALDESC:QuickScores game calendar
X-PUBLISHED-TTL:PT24H
REFRESH-INTERVAL;VALUE=DURATION:PT24H
CALSCALE:GREGORIAN
BEGIN:VTIMEZONE
TZID:America/Chicago
X-LIC-LOCATION:America/Chicago
BEGIN:DAYLIGHT
TZNAME:CDT
TZOFFSETFROM:-0600
TZOFFSETTO:-0500
DTSTART:19700308T020000
RRULE:FREQ=YEARLY;BYMONTH=3;BYDAY=2SU
END:DAYLIGHT
BEGIN:STANDARD
TZNAME:CST
TZOFFSETFROM:-0500
TZOFFSETTO:-0600
DTSTART:19701101T020000
RRULE:FREQ=YEARLY;BYMONTH=11;BYDAY=1SU
END:STANDARD
END:VTIMEZONE
BEGIN:VEVENT
UID:dusc-72790209-20260214T110000@quickscores.com
DTSTAMP:20260422T192900Z
DTSTART;TZID=America/Chicago:20260214T110000
DURATION:PT0H45M0S
SUMMARY:MSC U11/12B vs. MC Legends U12B Grey
DESCRIPTION:U11/12 Boys X - Dakota United Soccer Club
LOCATION:SANFORD 1 - Fort Abraham Lincoln Foundation
CATEGORIES:QuickScores, Soccer - Youth Game
TRANSP:OPAQUE
BEGIN:VALARM
TRIGGER:-PT2H
ACTION:DISPLAY
DESCRIPTION:MSC U11/12B vs. MC Legends U12B Grey
END:VALARM
END:VEVENT
BEGIN:VEVENT
UID:dusc-72790211-20260214T170000@quickscores.com
DTSTAMP:20260422T192900Z
DTSTART;TZID=America/Chicago:20260214T170000
DURATION:PT0H45M0S
SUMMARY:MC Legends U12B Grey vs. Bricks U11/12B B
DESCRIPTION:U11/12 Boys X - Dakota United Soccer Club
LOCATION:SANFORD 1 - Fort Abraham Lincoln Foundation
CATEGORIES:QuickScores, Soccer - Youth Game
TRANSP:OPAQUE
BEGIN:VALARM
TRIGGER:-PT2H
ACTION:DISPLAY
DESCRIPTION:MC Legends U12B Grey vs. Bricks U11/12B B
END:VALARM
END:VEVENT
BEGIN:VEVENT
UID:dusc-72790318-20260215T093000@quickscores.com
DTSTAMP:20260422T192900Z
DTSTART;TZID=America/Chicago:20260215T093000
DURATION:PT0H45M0S
SUMMARY:[A1] MC Legends U12B Grey vs. [B2] WUFC U11/12B White
DESCRIPTION:U11/12 Boys X - Dakota United Soccer Club
LOCATION:SANFORD 1 - Fort Abraham Lincoln Foundation
CATEGORIES:QuickScores, Soccer - Youth Game
TRANSP:OPAQUE
BEGIN:VALARM
TRIGGER:-PT2H
ACTION:DISPLAY
DESCRIPTION:[A1] MC Legends U12B Grey vs. [B2] WUFC U11/12B White
END:VALARM
END:VEVENT
END:VCALENDAR
