BEGIN:VCALENDAR
VERSION:2.0
PRODID:-//QuickScores.com//BQ Dynamic iCal Creator//EN
METHOD:PUBLISH
X-WR-CALNAME:MSC U16/17G - U17 Girls - Frosty Cup 2026
X-WR-CALDESC:QuickScores game calendar
X-PUBLISHED-TTL:PT24H
REFRESH-INTERVAL;VALUE=DURATION:PT24H
CALSCALE:GREGORIAN
BEGIN:VTIMEZONE
TZID:America/Chicago
X-LIC-LOCATION:America/Chicago
BEGIN:DAYLIGHT
TZNAME:CDT
TZOFFSETFROM:-0600
TZOFFSETTO:-0500
DTSTART:19700308T020000
RRULE:FREQ=YEARLY;BYMONTH=3;BYDAY=2SU
END:DAYLIGHT
BEGIN:STANDARD
TZNAME:CST
TZOFFSETFROM:-0500
TZOFFSETTO:-0600
DTSTART:19701101T020000
RRULE:FREQ=YEARLY;BYMONTH=11;BYDAY=1SU
END:STANDARD
END:VTIMEZONE
BEGIN:VEVENT
UID:dusc-72795048-20260213T221500@quickscores.com
DTSTAMP:20260425T185600Z
DTSTART;TZID=America/Chicago:20260213T221500
DURATION:PT0H45M0S
SUMMARY:Magic U17G Black vs. MSC U16/17G
DESCRIPTION:U17 Girls - Dakota United Soccer Club
LOCATION:DOME 3 - Basin Electric
CATEGORIES:QuickScores, Soccer - Youth Game
TRANSP:OPAQUE
BEGIN:VALARM
TRIGGER:-PT2H
ACTION:DISPLAY
DESCRIPTION:Magic U17G Black vs. MSC U16/17G
END:VALARM
END:VEVENT
BEGIN:VEVENT
UID:dusc-72795051-20260214T140000@quickscores.com
DTSTAMP:20260425T185600Z
DTSTART;TZID=America/Chicago:20260214T140000
DURATION:PT0H45M0S
SUMMARY:WUFC U17G vs. MSC U16/17G
DESCRIPTION:U17 Girls - Dakota United Soccer Club
LOCATION:DOME 3 - Basin Electric
CATEGORIES:QuickScores, Soccer - Youth Game
TRANSP:OPAQUE
BEGIN:VALARM
TRIGGER:-PT2H
ACTION:DISPLAY
DESCRIPTION:WUFC U17G vs. MSC U16/17G
END:VALARM
END:VEVENT
BEGIN:VEVENT
UID:dusc-72795047-20260214T204500@quickscores.com
DTSTAMP:20260425T185600Z
DTSTART;TZID=America/Chicago:20260214T204500
DURATION:PT0H45M0S
SUMMARY:MSC U16/17G vs. Magic U17G Green
DESCRIPTION:U17 Girls - Dakota United Soccer Club
LOCATION:DOME 3 - Basin Electric
CATEGORIES:QuickScores, Soccer - Youth Game
TRANSP:OPAQUE
BEGIN:VALARM
TRIGGER:-PT2H
ACTION:DISPLAY
DESCRIPTION:MSC U16/17G vs. Magic U17G Green
END:VALARM
END:VEVENT
BEGIN:VEVENT
UID:dusc-72795055-20260215T153000@quickscores.com
DTSTAMP:20260425T185600Z
DTSTART;TZID=America/Chicago:20260215T153000
DURATION:PT0H45M0S
SUMMARY:[1] Magic U17G Black vs. [2] MSC U16/17G
DESCRIPTION:U17 Girls - Dakota United Soccer Club
LOCATION:DOME 2 - Bismarck Mandan CVB
CATEGORIES:QuickScores, Soccer - Youth Game
TRANSP:OPAQUE
BEGIN:VALARM
TRIGGER:-PT2H
ACTION:DISPLAY
DESCRIPTION:[1] Magic U17G Black vs. [2] MSC U16/17G
END:VALARM
END:VEVENT
END:VCALENDAR
