BEGIN:VCALENDAR
VERSION:2.0
PRODID:-//QuickScores.com//BQ Dynamic iCal Creator//EN
METHOD:PUBLISH
X-WR-CALNAME:Brady Lindley - Jr Jazz Kindergarten - Winter 2025-2026
X-WR-CALDESC:QuickScores game calendar
X-PUBLISHED-TTL:PT24H
REFRESH-INTERVAL;VALUE=DURATION:PT24H
CALSCALE:GREGORIAN
BEGIN:VTIMEZONE
TZID:America/Denver
X-LIC-LOCATION:America/Denver
BEGIN:DAYLIGHT
TZNAME:MDT
TZOFFSETFROM:-0700
TZOFFSETTO:-0600
DTSTART:19700308T020000
RRULE:FREQ=YEARLY;BYMONTH=3;BYDAY=2SU
END:DAYLIGHT
BEGIN:STANDARD
TZNAME:MST
TZOFFSETFROM:-0600
TZOFFSETTO:-0700
DTSTART:19701101T020000
RRULE:FREQ=YEARLY;BYMONTH=11;BYDAY=1SU
END:STANDARD
END:VTIMEZONE
BEGIN:VEVENT
UID:draper-72089293-20260108T200000@quickscores.com
DTSTAMP:20260421T001000Z
DTSTART;TZID=America/Denver:20260108T200000
DURATION:PT1H0M0S
SUMMARY:Trevor Slater vs. Brady Lindley
DESCRIPTION:Jr Jazz Kindergarten - Draper City UT Parks and Recreation
LOCATION:Willow Springs West
CATEGORIES:QuickScores, Basketball - Youth Game
TRANSP:OPAQUE
BEGIN:VALARM
TRIGGER:-PT2H
ACTION:DISPLAY
DESCRIPTION:Trevor Slater vs. Brady Lindley
END:VALARM
END:VEVENT
BEGIN:VEVENT
UID:draper-72089300-20260115T200000@quickscores.com
DTSTAMP:20260421T001000Z
DTSTART;TZID=America/Denver:20260115T200000
DURATION:PT1H0M0S
SUMMARY:Nia Farrar vs. Brady Lindley
DESCRIPTION:Jr Jazz Kindergarten - Draper City UT Parks and Recreation
LOCATION:Willow Springs East
CATEGORIES:QuickScores, Basketball - Youth Game
TRANSP:OPAQUE
BEGIN:VALARM
TRIGGER:-PT2H
ACTION:DISPLAY
DESCRIPTION:Nia Farrar vs. Brady Lindley
END:VALARM
END:VEVENT
BEGIN:VEVENT
UID:draper-72089310-20260122T180000@quickscores.com
DTSTAMP:20260421T001000Z
DTSTART;TZID=America/Denver:20260122T180000
DURATION:PT1H0M0S
SUMMARY:Josh Landry vs. Brady Lindley
DESCRIPTION:Jr Jazz Kindergarten - Draper City UT Parks and Recreation
LOCATION:Willow Springs East
CATEGORIES:QuickScores, Basketball - Youth Game
TRANSP:OPAQUE
BEGIN:VALARM
TRIGGER:-PT2H
ACTION:DISPLAY
DESCRIPTION:Josh Landry vs. Brady Lindley
END:VALARM
END:VEVENT
BEGIN:VEVENT
UID:draper-72089317-20260129T170000@quickscores.com
DTSTAMP:20260421T001000Z
DTSTART;TZID=America/Denver:20260129T170000
DURATION:PT1H0M0S
SUMMARY:John Koelliker vs. Brady Lindley
DESCRIPTION:Jr Jazz Kindergarten - Draper City UT Parks and Recreation
LOCATION:Willow Springs West
CATEGORIES:QuickScores, Basketball - Youth Game
TRANSP:OPAQUE
BEGIN:VALARM
TRIGGER:-PT2H
ACTION:DISPLAY
DESCRIPTION:John Koelliker vs. Brady Lindley
END:VALARM
END:VEVENT
BEGIN:VEVENT
UID:draper-72089327-20260205T190000@quickscores.com
DTSTAMP:20260421T001000Z
DTSTART;TZID=America/Denver:20260205T190000
DURATION:PT1H0M0S
SUMMARY:Brady Lindley vs. Chris Cassity
DESCRIPTION:Jr Jazz Kindergarten - Draper City UT Parks and Recreation
LOCATION:Willow Springs West
CATEGORIES:QuickScores, Basketball - Youth Game
TRANSP:OPAQUE
BEGIN:VALARM
TRIGGER:-PT2H
ACTION:DISPLAY
DESCRIPTION:Brady Lindley vs. Chris Cassity
END:VALARM
END:VEVENT
BEGIN:VEVENT
UID:draper-72089334-20260212T180000@quickscores.com
DTSTAMP:20260421T001000Z
DTSTART;TZID=America/Denver:20260212T180000
DURATION:PT1H0M0S
SUMMARY:Brady Lindley vs. Eric Emery
DESCRIPTION:Jr Jazz Kindergarten - Draper City UT Parks and Recreation
LOCATION:Willow Springs West
CATEGORIES:QuickScores, Basketball - Youth Game
TRANSP:OPAQUE
BEGIN:VALARM
TRIGGER:-PT2H
ACTION:DISPLAY
DESCRIPTION:Brady Lindley vs. Eric Emery
END:VALARM
END:VEVENT
BEGIN:VEVENT
UID:draper-72089344-20260219T170000@quickscores.com
DTSTAMP:20260421T001000Z
DTSTART;TZID=America/Denver:20260219T170000
DURATION:PT1H0M0S
SUMMARY:Brady Lindley vs. Wilson Simons
DESCRIPTION:Jr Jazz Kindergarten - Draper City UT Parks and Recreation
LOCATION:Willow Springs East
CATEGORIES:QuickScores, Basketball - Youth Game
TRANSP:OPAQUE
BEGIN:VALARM
TRIGGER:-PT2H
ACTION:DISPLAY
DESCRIPTION:Brady Lindley vs. Wilson Simons
END:VALARM
END:VEVENT
BEGIN:VEVENT
UID:draper-72089351-20260305T190000@quickscores.com
DTSTAMP:20260421T001000Z
DTSTART;TZID=America/Denver:20260305T190000
DURATION:PT1H0M0S
SUMMARY:Brady Lindley vs. Carson Wentlander
DESCRIPTION:Jr Jazz Kindergarten - Draper City UT Parks and Recreation
LOCATION:Willow Springs East
CATEGORIES:QuickScores, Basketball - Youth Game
TRANSP:OPAQUE
BEGIN:VALARM
TRIGGER:-PT2H
ACTION:DISPLAY
DESCRIPTION:Brady Lindley vs. Carson Wentlander
END:VALARM
END:VEVENT
END:VCALENDAR
