BEGIN:VCALENDAR
VERSION:2.0
PRODID:-//QuickScores.com//BQ Dynamic iCal Creator//EN
METHOD:PUBLISH
X-WR-CALNAME:Wilson Simons - Jr Jazz Kindergarten - Winter 2025-2026
X-WR-CALDESC:QuickScores game calendar
X-PUBLISHED-TTL:PT24H
REFRESH-INTERVAL;VALUE=DURATION:PT24H
CALSCALE:GREGORIAN
BEGIN:VTIMEZONE
TZID:America/Denver
X-LIC-LOCATION:America/Denver
BEGIN:DAYLIGHT
TZNAME:MDT
TZOFFSETFROM:-0700
TZOFFSETTO:-0600
DTSTART:19700308T020000
RRULE:FREQ=YEARLY;BYMONTH=3;BYDAY=2SU
END:DAYLIGHT
BEGIN:STANDARD
TZNAME:MST
TZOFFSETFROM:-0600
TZOFFSETTO:-0700
DTSTART:19701101T020000
RRULE:FREQ=YEARLY;BYMONTH=11;BYDAY=1SU
END:STANDARD
END:VTIMEZONE
BEGIN:VEVENT
UID:draper-72089299-20260108T180000@quickscores.com
DTSTAMP:20260420T142200Z
DTSTART;TZID=America/Denver:20260108T180000
DURATION:PT1H0M0S
SUMMARY:Wilson Simons vs. Carson Wentlander
DESCRIPTION:Jr Jazz Kindergarten - Draper City UT Parks and Recreation
LOCATION:Willow Springs West
CATEGORIES:QuickScores, Basketball - Youth Game
TRANSP:OPAQUE
BEGIN:VALARM
TRIGGER:-PT2H
ACTION:DISPLAY
DESCRIPTION:Wilson Simons vs. Carson Wentlander
END:VALARM
END:VEVENT
BEGIN:VEVENT
UID:draper-72089307-20260115T180000@quickscores.com
DTSTAMP:20260420T142200Z
DTSTART;TZID=America/Denver:20260115T180000
DURATION:PT1H0M0S
SUMMARY:Wilson Simons vs. Dan Herbas
DESCRIPTION:Jr Jazz Kindergarten - Draper City UT Parks and Recreation
LOCATION:Willow Springs West
CATEGORIES:QuickScores, Basketball - Youth Game
TRANSP:OPAQUE
BEGIN:VALARM
TRIGGER:-PT2H
ACTION:DISPLAY
DESCRIPTION:Wilson Simons vs. Dan Herbas
END:VALARM
END:VEVENT
BEGIN:VEVENT
UID:draper-72089314-20260122T190000@quickscores.com
DTSTAMP:20260420T142200Z
DTSTART;TZID=America/Denver:20260122T190000
DURATION:PT1H0M0S
SUMMARY:Eric Emery vs. Wilson Simons
DESCRIPTION:Jr Jazz Kindergarten - Draper City UT Parks and Recreation
LOCATION:Willow Springs West
CATEGORIES:QuickScores, Basketball - Youth Game
TRANSP:OPAQUE
BEGIN:VALARM
TRIGGER:-PT2H
ACTION:DISPLAY
DESCRIPTION:Eric Emery vs. Wilson Simons
END:VALARM
END:VEVENT
BEGIN:VEVENT
UID:draper-72089322-20260129T180000@quickscores.com
DTSTAMP:20260420T142200Z
DTSTART;TZID=America/Denver:20260129T180000
DURATION:PT1H0M0S
SUMMARY:Matt Emadi vs. Wilson Simons
DESCRIPTION:Jr Jazz Kindergarten - Draper City UT Parks and Recreation
LOCATION:Willow Springs East
CATEGORIES:QuickScores, Basketball - Youth Game
TRANSP:OPAQUE
BEGIN:VALARM
TRIGGER:-PT2H
ACTION:DISPLAY
DESCRIPTION:Matt Emadi vs. Wilson Simons
END:VALARM
END:VEVENT
BEGIN:VEVENT
UID:draper-72089329-20260205T200000@quickscores.com
DTSTAMP:20260420T142200Z
DTSTART;TZID=America/Denver:20260205T200000
DURATION:PT1H0M0S
SUMMARY:John Koelliker vs. Wilson Simons
DESCRIPTION:Jr Jazz Kindergarten - Draper City UT Parks and Recreation
LOCATION:Willow Springs West
CATEGORIES:QuickScores, Basketball - Youth Game
TRANSP:OPAQUE
BEGIN:VALARM
TRIGGER:-PT2H
ACTION:DISPLAY
DESCRIPTION:John Koelliker vs. Wilson Simons
END:VALARM
END:VEVENT
BEGIN:VEVENT
UID:draper-72089337-20260212T200000@quickscores.com
DTSTAMP:20260420T142200Z
DTSTART;TZID=America/Denver:20260212T200000
DURATION:PT1H0M0S
SUMMARY:Wilson Simons vs. Dexter Davies
DESCRIPTION:Jr Jazz Kindergarten - Draper City UT Parks and Recreation
LOCATION:Willow Springs West
CATEGORIES:QuickScores, Basketball - Youth Game
TRANSP:OPAQUE
BEGIN:VALARM
TRIGGER:-PT2H
ACTION:DISPLAY
DESCRIPTION:Wilson Simons vs. Dexter Davies
END:VALARM
END:VEVENT
BEGIN:VEVENT
UID:draper-72089344-20260219T170000@quickscores.com
DTSTAMP:20260420T142200Z
DTSTART;TZID=America/Denver:20260219T170000
DURATION:PT1H0M0S
SUMMARY:Brady Lindley vs. Wilson Simons
DESCRIPTION:Jr Jazz Kindergarten - Draper City UT Parks and Recreation
LOCATION:Willow Springs East
CATEGORIES:QuickScores, Basketball - Youth Game
TRANSP:OPAQUE
BEGIN:VALARM
TRIGGER:-PT2H
ACTION:DISPLAY
DESCRIPTION:Brady Lindley vs. Wilson Simons
END:VALARM
END:VEVENT
BEGIN:VEVENT
UID:draper-72089352-20260305T170000@quickscores.com
DTSTAMP:20260420T142200Z
DTSTART;TZID=America/Denver:20260305T170000
DURATION:PT1H0M0S
SUMMARY:Wilson Simons vs. Lisa Grow
DESCRIPTION:Jr Jazz Kindergarten - Draper City UT Parks and Recreation
LOCATION:Willow Springs West
CATEGORIES:QuickScores, Basketball - Youth Game
TRANSP:OPAQUE
BEGIN:VALARM
TRIGGER:-PT2H
ACTION:DISPLAY
DESCRIPTION:Wilson Simons vs. Lisa Grow
END:VALARM
END:VEVENT
END:VCALENDAR
