BEGIN:VCALENDAR
VERSION:2.0
PRODID:-//QuickScores.com//BQ Dynamic iCal Creator//EN
METHOD:PUBLISH
X-WR-CALNAME:Josh Landry - Jr Jazz Kindergarten - Winter 2025-2026
X-WR-CALDESC:QuickScores game calendar
X-PUBLISHED-TTL:PT24H
REFRESH-INTERVAL;VALUE=DURATION:PT24H
CALSCALE:GREGORIAN
BEGIN:VTIMEZONE
TZID:America/Denver
X-LIC-LOCATION:America/Denver
BEGIN:DAYLIGHT
TZNAME:MDT
TZOFFSETFROM:-0700
TZOFFSETTO:-0600
DTSTART:19700308T020000
RRULE:FREQ=YEARLY;BYMONTH=3;BYDAY=2SU
END:DAYLIGHT
BEGIN:STANDARD
TZNAME:MST
TZOFFSETFROM:-0600
TZOFFSETTO:-0700
DTSTART:19701101T020000
RRULE:FREQ=YEARLY;BYMONTH=11;BYDAY=1SU
END:STANDARD
END:VTIMEZONE
BEGIN:VEVENT
UID:draper-72089295-20260108T170000@quickscores.com
DTSTAMP:20260420T124300Z
DTSTART;TZID=America/Denver:20260108T170000
DURATION:PT1H0M0S
SUMMARY:John Koelliker vs. Josh Landry
DESCRIPTION:Jr Jazz Kindergarten - Draper City UT Parks and Recreation
LOCATION:Willow Springs West
CATEGORIES:QuickScores, Basketball - Youth Game
TRANSP:OPAQUE
BEGIN:VALARM
TRIGGER:-PT2H
ACTION:DISPLAY
DESCRIPTION:John Koelliker vs. Josh Landry
END:VALARM
END:VEVENT
BEGIN:VEVENT
UID:draper-72089304-20260115T190000@quickscores.com
DTSTAMP:20260420T124300Z
DTSTART;TZID=America/Denver:20260115T190000
DURATION:PT1H0M0S
SUMMARY:Josh Landry vs. Eric Emery
DESCRIPTION:Jr Jazz Kindergarten - Draper City UT Parks and Recreation
LOCATION:Willow Springs East
CATEGORIES:QuickScores, Basketball - Youth Game
TRANSP:OPAQUE
BEGIN:VALARM
TRIGGER:-PT2H
ACTION:DISPLAY
DESCRIPTION:Josh Landry vs. Eric Emery
END:VALARM
END:VEVENT
BEGIN:VEVENT
UID:draper-72089310-20260122T180000@quickscores.com
DTSTAMP:20260420T124300Z
DTSTART;TZID=America/Denver:20260122T180000
DURATION:PT1H0M0S
SUMMARY:Josh Landry vs. Brady Lindley
DESCRIPTION:Jr Jazz Kindergarten - Draper City UT Parks and Recreation
LOCATION:Willow Springs East
CATEGORIES:QuickScores, Basketball - Youth Game
TRANSP:OPAQUE
BEGIN:VALARM
TRIGGER:-PT2H
ACTION:DISPLAY
DESCRIPTION:Josh Landry vs. Brady Lindley
END:VALARM
END:VEVENT
BEGIN:VEVENT
UID:draper-72089321-20260129T190000@quickscores.com
DTSTAMP:20260420T124300Z
DTSTART;TZID=America/Denver:20260129T190000
DURATION:PT1H0M0S
SUMMARY:Carson Wentlander vs. Josh Landry
DESCRIPTION:Jr Jazz Kindergarten - Draper City UT Parks and Recreation
LOCATION:Willow Springs West
CATEGORIES:QuickScores, Basketball - Youth Game
TRANSP:OPAQUE
BEGIN:VALARM
TRIGGER:-PT2H
ACTION:DISPLAY
DESCRIPTION:Carson Wentlander vs. Josh Landry
END:VALARM
END:VEVENT
BEGIN:VEVENT
UID:draper-72089325-20260205T180000@quickscores.com
DTSTAMP:20260420T124300Z
DTSTART;TZID=America/Denver:20260205T180000
DURATION:PT1H0M0S
SUMMARY:Josh Landry vs. Trevor Slater
DESCRIPTION:Jr Jazz Kindergarten - Draper City UT Parks and Recreation
LOCATION:Willow Springs West
CATEGORIES:QuickScores, Basketball - Youth Game
TRANSP:OPAQUE
BEGIN:VALARM
TRIGGER:-PT2H
ACTION:DISPLAY
DESCRIPTION:Josh Landry vs. Trevor Slater
END:VALARM
END:VEVENT
BEGIN:VEVENT
UID:draper-72089338-20260212T200000@quickscores.com
DTSTAMP:20260420T124300Z
DTSTART;TZID=America/Denver:20260212T200000
DURATION:PT1H0M0S
SUMMARY:Josh Landry vs. Dan Herbas
DESCRIPTION:Jr Jazz Kindergarten - Draper City UT Parks and Recreation
LOCATION:Willow Springs East
CATEGORIES:QuickScores, Basketball - Youth Game
TRANSP:OPAQUE
BEGIN:VALARM
TRIGGER:-PT2H
ACTION:DISPLAY
DESCRIPTION:Josh Landry vs. Dan Herbas
END:VALARM
END:VEVENT
BEGIN:VEVENT
UID:draper-72089340-20260219T180000@quickscores.com
DTSTAMP:20260420T124300Z
DTSTART;TZID=America/Denver:20260219T180000
DURATION:PT1H0M0S
SUMMARY:Nia Farrar vs. Josh Landry
DESCRIPTION:Jr Jazz Kindergarten - Draper City UT Parks and Recreation
LOCATION:Willow Springs West
CATEGORIES:QuickScores, Basketball - Youth Game
TRANSP:OPAQUE
BEGIN:VALARM
TRIGGER:-PT2H
ACTION:DISPLAY
DESCRIPTION:Nia Farrar vs. Josh Landry
END:VALARM
END:VEVENT
BEGIN:VEVENT
UID:draper-72089355-20260305T200000@quickscores.com
DTSTAMP:20260420T124300Z
DTSTART;TZID=America/Denver:20260305T200000
DURATION:PT1H0M0S
SUMMARY:Matt Emadi vs. Josh Landry
DESCRIPTION:Jr Jazz Kindergarten - Draper City UT Parks and Recreation
LOCATION:Willow Springs West
CATEGORIES:QuickScores, Basketball - Youth Game
TRANSP:OPAQUE
BEGIN:VALARM
TRIGGER:-PT2H
ACTION:DISPLAY
DESCRIPTION:Matt Emadi vs. Josh Landry
END:VALARM
END:VEVENT
END:VCALENDAR
