BEGIN:VCALENDAR
VERSION:2.0
PRODID:-//QuickScores.com//BQ Dynamic iCal Creator//EN
METHOD:PUBLISH
X-WR-CALNAME:Realize Athletics - Flag Football - Fall 2025
X-WR-CALDESC:QuickScores game calendar
X-PUBLISHED-TTL:PT24H
REFRESH-INTERVAL;VALUE=DURATION:PT24H
CALSCALE:GREGORIAN
BEGIN:VTIMEZONE
TZID:America/Chicago
X-LIC-LOCATION:America/Chicago
BEGIN:DAYLIGHT
TZNAME:CDT
TZOFFSETFROM:-0600
TZOFFSETTO:-0500
DTSTART:19700308T020000
RRULE:FREQ=YEARLY;BYMONTH=3;BYDAY=2SU
END:DAYLIGHT
BEGIN:STANDARD
TZNAME:CST
TZOFFSETFROM:-0500
TZOFFSETTO:-0600
DTSTART:19701101T020000
RRULE:FREQ=YEARLY;BYMONTH=11;BYDAY=1SU
END:STANDARD
END:VTIMEZONE
BEGIN:VEVENT
UID:dixonil-71044588-20250921T090000@quickscores.com
DTSTAMP:20260419T210200Z
DTSTART;TZID=America/Chicago:20250921T090000
DURATION:PT1H0M0S
SUMMARY:BTA vs. Realize Athletics
DESCRIPTION:Flag Football - Dixon Park District
LOCATION:West Field
CATEGORIES:QuickScores, Flag Football - Adult Game
TRANSP:OPAQUE
BEGIN:VALARM
TRIGGER:-PT2H
ACTION:DISPLAY
DESCRIPTION:BTA vs. Realize Athletics
END:VALARM
END:VEVENT
BEGIN:VEVENT
UID:dixonil-71044592-20250928T090000@quickscores.com
DTSTAMP:20260419T210200Z
DTSTART;TZID=America/Chicago:20250928T090000
DURATION:PT1H0M0S
SUMMARY:Realize Athletics vs. Royal Palms
DESCRIPTION:Flag Football - Dixon Park District
LOCATION:West Field
CATEGORIES:QuickScores, Flag Football - Adult Game
TRANSP:OPAQUE
BEGIN:VALARM
TRIGGER:-PT2H
ACTION:DISPLAY
DESCRIPTION:Realize Athletics vs. Royal Palms
END:VALARM
END:VEVENT
BEGIN:VEVENT
UID:dixonil-71044595-20251005T100000@quickscores.com
DTSTAMP:20260419T210200Z
DTSTART;TZID=America/Chicago:20251005T100000
DURATION:PT1H0M0S
SUMMARY:Bzzzz Lemonade vs. Realize Athletics
DESCRIPTION:Flag Football - Dixon Park District
LOCATION:West Field
CATEGORIES:QuickScores, Flag Football - Adult Game
TRANSP:OPAQUE
BEGIN:VALARM
TRIGGER:-PT2H
ACTION:DISPLAY
DESCRIPTION:Bzzzz Lemonade vs. Realize Athletics
END:VALARM
END:VEVENT
BEGIN:VEVENT
UID:dixonil-71044599-20251012T090000@quickscores.com
DTSTAMP:20260419T210200Z
DTSTART;TZID=America/Chicago:20251012T090000
DURATION:PT1H0M0S
SUMMARY:Realize Athletics vs. Terminators
DESCRIPTION:Flag Football - Dixon Park District
LOCATION:West Field
CATEGORIES:QuickScores, Flag Football - Adult Game
TRANSP:OPAQUE
BEGIN:VALARM
TRIGGER:-PT2H
ACTION:DISPLAY
DESCRIPTION:Realize Athletics vs. Terminators
END:VALARM
END:VEVENT
BEGIN:VEVENT
UID:dixonil-71044602-20251019T100000@quickscores.com
DTSTAMP:20260419T210200Z
DTSTART;TZID=America/Chicago:20251019T100000
DURATION:PT1H0M0S
SUMMARY:Realize Athletics vs. Goon Squad
DESCRIPTION:Flag Football - Dixon Park District
LOCATION:West Field
CATEGORIES:QuickScores, Flag Football - Adult Game
TRANSP:OPAQUE
BEGIN:VALARM
TRIGGER:-PT2H
ACTION:DISPLAY
DESCRIPTION:Realize Athletics vs. Goon Squad
END:VALARM
END:VEVENT
BEGIN:VEVENT
UID:dixonil-71044606-20251026T090000@quickscores.com
DTSTAMP:20260419T210200Z
DTSTART;TZID=America/Chicago:20251026T090000
DURATION:PT1H0M0S
SUMMARY:Primetime vs. Realize Athletics
DESCRIPTION:Flag Football - Dixon Park District
LOCATION:West Field
CATEGORIES:QuickScores, Flag Football - Adult Game
TRANSP:OPAQUE
BEGIN:VALARM
TRIGGER:-PT2H
ACTION:DISPLAY
DESCRIPTION:Primetime vs. Realize Athletics
END:VALARM
END:VEVENT
BEGIN:VEVENT
UID:dixonil-71044609-20251102T100000@quickscores.com
DTSTAMP:20260419T210200Z
DTSTART;TZID=America/Chicago:20251102T100000
DURATION:PT1H0M0S
SUMMARY:B&B vs. Realize Athletics
DESCRIPTION:Flag Football - Dixon Park District
LOCATION:West Field
CATEGORIES:QuickScores, Flag Football - Adult Game
TRANSP:OPAQUE
BEGIN:VALARM
TRIGGER:-PT2H
ACTION:DISPLAY
DESCRIPTION:B&B vs. Realize Athletics
END:VALARM
END:VEVENT
BEGIN:VEVENT
UID:dixonil-71044616-20251109T100000@quickscores.com
DTSTAMP:20260419T210200Z
DTSTART;TZID=America/Chicago:20251109T100000
DURATION:PT1H0M0S
SUMMARY:Realize Athletics vs. BTA
DESCRIPTION:Flag Football - Dixon Park District
LOCATION:West Field
CATEGORIES:QuickScores, Flag Football - Adult Game
TRANSP:OPAQUE
BEGIN:VALARM
TRIGGER:-PT2H
ACTION:DISPLAY
DESCRIPTION:Realize Athletics vs. BTA
END:VALARM
END:VEVENT
BEGIN:VEVENT
UID:dixonil-71784309-20251116T080000@quickscores.com
DTSTAMP:20260419T210200Z
DTSTART;TZID=America/Chicago:20251116T080000
DURATION:PT1H0M0S
SUMMARY:[3] Realize Athletics vs. [6] Terminators
DESCRIPTION:Flag Football - Dixon Park District
LOCATION:East Field
CATEGORIES:QuickScores, Flag Football - Adult Game
TRANSP:OPAQUE
BEGIN:VALARM
TRIGGER:-PT2H
ACTION:DISPLAY
DESCRIPTION:[3] Realize Athletics vs. [6] Terminators
END:VALARM
END:VEVENT
END:VCALENDAR
