BEGIN:VCALENDAR
VERSION:2.0
PRODID:-//QuickScores.com//BQ Dynamic iCal Creator//EN
METHOD:PUBLISH
X-WR-CALNAME:(SW) Wallace - (central Park/ University Hills Ymca) Spring Basketball League - 10-11y Boys - Spring 2026
X-WR-CALDESC:QuickScores game calendar
X-PUBLISHED-TTL:PT24H
REFRESH-INTERVAL;VALUE=DURATION:PT24H
CALSCALE:GREGORIAN
BEGIN:VTIMEZONE
TZID:America/Denver
X-LIC-LOCATION:America/Denver
BEGIN:DAYLIGHT
TZNAME:MDT
TZOFFSETFROM:-0700
TZOFFSETTO:-0600
DTSTART:19700308T020000
RRULE:FREQ=YEARLY;BYMONTH=3;BYDAY=2SU
END:DAYLIGHT
BEGIN:STANDARD
TZNAME:MST
TZOFFSETFROM:-0600
TZOFFSETTO:-0700
DTSTART:19701101T020000
RRULE:FREQ=YEARLY;BYMONTH=11;BYDAY=1SU
END:STANDARD
END:VTIMEZONE
BEGIN:VEVENT
UID:denverymca-74291513-20260407T183000@quickscores.com
DTSTAMP:20260421T223300Z
DTSTART;TZID=America/Denver:20260407T183000
DURATION:PT1H0M0S
SUMMARY:Practice: (SW) Wallace
DESCRIPTION:(central Park/ University Hills Ymca) Spring Basketball League - 10-11y Boys - YMCA of Metropolitan Denver - Youth Sports
LOCATION:Southwest YMCA - Court 1
CATEGORIES:QuickScores, Basketball League Game
TRANSP:OPAQUE
BEGIN:VALARM
TRIGGER:-PT2H
ACTION:DISPLAY
DESCRIPTION:Practice: (SW) Wallace
END:VALARM
END:VEVENT
BEGIN:VEVENT
UID:denverymca-74226142-20260411T133000@quickscores.com
DTSTAMP:20260421T223300Z
DTSTART;TZID=America/Denver:20260411T133000
DURATION:PT1H0M0S
SUMMARY:(CP) Freeman vs. (SW) Wallace
DESCRIPTION:(central Park/ University Hills Ymca) Spring Basketball League - 10-11y Boys - YMCA of Metropolitan Denver - Youth Sports
LOCATION:Southwest YMCA Full Court
CATEGORIES:QuickScores, Basketball League Game
TRANSP:OPAQUE
BEGIN:VALARM
TRIGGER:-PT2H
ACTION:DISPLAY
DESCRIPTION:(CP) Freeman vs. (SW) Wallace
END:VALARM
END:VEVENT
BEGIN:VEVENT
UID:denverymca-74291514-20260414T183000@quickscores.com
DTSTAMP:20260421T223300Z
DTSTART;TZID=America/Denver:20260414T183000
DURATION:PT1H0M0S
SUMMARY:Practice: (SW) Wallace
DESCRIPTION:(central Park/ University Hills Ymca) Spring Basketball League - 10-11y Boys - YMCA of Metropolitan Denver - Youth Sports
LOCATION:Southwest YMCA - Court 1
CATEGORIES:QuickScores, Basketball League Game
TRANSP:OPAQUE
BEGIN:VALARM
TRIGGER:-PT2H
ACTION:DISPLAY
DESCRIPTION:Practice: (SW) Wallace
END:VALARM
END:VEVENT
BEGIN:VEVENT
UID:denverymca-74226144-20260418T090000@quickscores.com
DTSTAMP:20260421T223300Z
DTSTART;TZID=America/Denver:20260418T090000
DURATION:PT1H0M0S
SUMMARY:(SW) Wallace vs. (UH) Glynn
DESCRIPTION:(central Park/ University Hills Ymca) Spring Basketball League - 10-11y Boys - YMCA of Metropolitan Denver - Youth Sports
LOCATION:Rocky Mountain Prep - Fletcher
CATEGORIES:QuickScores, Basketball League Game
TRANSP:OPAQUE
BEGIN:VALARM
TRIGGER:-PT2H
ACTION:DISPLAY
DESCRIPTION:(SW) Wallace vs. (UH) Glynn
END:VALARM
END:VEVENT
BEGIN:VEVENT
UID:denverymca-74291515-20260421T183000@quickscores.com
DTSTAMP:20260421T223300Z
DTSTART;TZID=America/Denver:20260421T183000
DURATION:PT1H0M0S
SUMMARY:Practice: (SW) Wallace
DESCRIPTION:(central Park/ University Hills Ymca) Spring Basketball League - 10-11y Boys - YMCA of Metropolitan Denver - Youth Sports
LOCATION:Southwest YMCA - Court 1
CATEGORIES:QuickScores, Basketball League Game
TRANSP:OPAQUE
BEGIN:VALARM
TRIGGER:-PT2H
ACTION:DISPLAY
DESCRIPTION:Practice: (SW) Wallace
END:VALARM
END:VEVENT
BEGIN:VEVENT
UID:denverymca-74226147-20260425T100000@quickscores.com
DTSTAMP:20260421T223300Z
DTSTART;TZID=America/Denver:20260425T100000
DURATION:PT1H0M0S
SUMMARY:(UH) Klein vs. (SW) Wallace
DESCRIPTION:(central Park/ University Hills Ymca) Spring Basketball League - 10-11y Boys - YMCA of Metropolitan Denver - Youth Sports
LOCATION:Rocky Mountain Prep - Fletcher
CATEGORIES:QuickScores, Basketball League Game
TRANSP:OPAQUE
BEGIN:VALARM
TRIGGER:-PT2H
ACTION:DISPLAY
DESCRIPTION:(UH) Klein vs. (SW) Wallace
END:VALARM
END:VEVENT
BEGIN:VEVENT
UID:denverymca-74291516-20260428T183000@quickscores.com
DTSTAMP:20260421T223300Z
DTSTART;TZID=America/Denver:20260428T183000
DURATION:PT1H0M0S
SUMMARY:Practice: (SW) Wallace
DESCRIPTION:(central Park/ University Hills Ymca) Spring Basketball League - 10-11y Boys - YMCA of Metropolitan Denver - Youth Sports
LOCATION:Southwest YMCA - Court 1
CATEGORIES:QuickScores, Basketball League Game
TRANSP:OPAQUE
BEGIN:VALARM
TRIGGER:-PT2H
ACTION:DISPLAY
DESCRIPTION:Practice: (SW) Wallace
END:VALARM
END:VEVENT
BEGIN:VEVENT
UID:denverymca-74226150-20260502T090000@quickscores.com
DTSTAMP:20260421T223300Z
DTSTART;TZID=America/Denver:20260502T090000
DURATION:PT1H0M0S
SUMMARY:(SW) Wallace vs. (UH) Murphy
DESCRIPTION:(central Park/ University Hills Ymca) Spring Basketball League - 10-11y Boys - YMCA of Metropolitan Denver - Youth Sports
LOCATION:Rocky Mountain Prep - Fletcher
CATEGORIES:QuickScores, Basketball League Game
TRANSP:OPAQUE
BEGIN:VALARM
TRIGGER:-PT2H
ACTION:DISPLAY
DESCRIPTION:(SW) Wallace vs. (UH) Murphy
END:VALARM
END:VEVENT
BEGIN:VEVENT
UID:denverymca-74291517-20260505T183000@quickscores.com
DTSTAMP:20260421T223300Z
DTSTART;TZID=America/Denver:20260505T183000
DURATION:PT1H0M0S
SUMMARY:Practice: (SW) Wallace
DESCRIPTION:(central Park/ University Hills Ymca) Spring Basketball League - 10-11y Boys - YMCA of Metropolitan Denver - Youth Sports
LOCATION:Southwest YMCA - Court 1
CATEGORIES:QuickScores, Basketball League Game
TRANSP:OPAQUE
BEGIN:VALARM
TRIGGER:-PT2H
ACTION:DISPLAY
DESCRIPTION:Practice: (SW) Wallace
END:VALARM
END:VEVENT
BEGIN:VEVENT
UID:denverymca-74226152-20260509T123000@quickscores.com
DTSTAMP:20260421T223300Z
DTSTART;TZID=America/Denver:20260509T123000
DURATION:PT1H0M0S
SUMMARY:(UH) Sawyer vs. (SW) Wallace
DESCRIPTION:(central Park/ University Hills Ymca) Spring Basketball League - 10-11y Boys - YMCA of Metropolitan Denver - Youth Sports
LOCATION:Southwest YMCA Full Court
CATEGORIES:QuickScores, Basketball League Game
TRANSP:OPAQUE
BEGIN:VALARM
TRIGGER:-PT2H
ACTION:DISPLAY
DESCRIPTION:(UH) Sawyer vs. (SW) Wallace
END:VALARM
END:VEVENT
BEGIN:VEVENT
UID:denverymca-74291518-20260512T183000@quickscores.com
DTSTAMP:20260421T223300Z
DTSTART;TZID=America/Denver:20260512T183000
DURATION:PT1H0M0S
SUMMARY:Practice: (SW) Wallace
DESCRIPTION:(central Park/ University Hills Ymca) Spring Basketball League - 10-11y Boys - YMCA of Metropolitan Denver - Youth Sports
LOCATION:Southwest YMCA - Court 1
CATEGORIES:QuickScores, Basketball League Game
TRANSP:OPAQUE
BEGIN:VALARM
TRIGGER:-PT2H
ACTION:DISPLAY
DESCRIPTION:Practice: (SW) Wallace
END:VALARM
END:VEVENT
BEGIN:VEVENT
UID:denverymca-74226157-20260516T090000@quickscores.com
DTSTAMP:20260421T223300Z
DTSTART;TZID=America/Denver:20260516T090000
DURATION:PT1H0M0S
SUMMARY:(SW) Wallace vs. (CP) Freeman
DESCRIPTION:(central Park/ University Hills Ymca) Spring Basketball League - 10-11y Boys - YMCA of Metropolitan Denver - Youth Sports
LOCATION:Rocky Mountain Prep - Fletcher
CATEGORIES:QuickScores, Basketball League Game
TRANSP:OPAQUE
BEGIN:VALARM
TRIGGER:-PT2H
ACTION:DISPLAY
DESCRIPTION:(SW) Wallace vs. (CP) Freeman
END:VALARM
END:VEVENT
BEGIN:VEVENT
UID:denverymca-74291519-20260519T183000@quickscores.com
DTSTAMP:20260421T223300Z
DTSTART;TZID=America/Denver:20260519T183000
DURATION:PT1H0M0S
SUMMARY:Practice: (SW) Wallace
DESCRIPTION:(central Park/ University Hills Ymca) Spring Basketball League - 10-11y Boys - YMCA of Metropolitan Denver - Youth Sports
LOCATION:Southwest YMCA - Court 1
CATEGORIES:QuickScores, Basketball League Game
TRANSP:OPAQUE
BEGIN:VALARM
TRIGGER:-PT2H
ACTION:DISPLAY
DESCRIPTION:Practice: (SW) Wallace
END:VALARM
END:VEVENT
BEGIN:VEVENT
UID:denverymca-74291520-20260526T183000@quickscores.com
DTSTAMP:20260421T223300Z
DTSTART;TZID=America/Denver:20260526T183000
DURATION:PT1H0M0S
SUMMARY:Practice: (SW) Wallace
DESCRIPTION:(central Park/ University Hills Ymca) Spring Basketball League - 10-11y Boys - YMCA of Metropolitan Denver - Youth Sports
LOCATION:Southwest YMCA - Court 1
CATEGORIES:QuickScores, Basketball League Game
TRANSP:OPAQUE
BEGIN:VALARM
TRIGGER:-PT2H
ACTION:DISPLAY
DESCRIPTION:Practice: (SW) Wallace
END:VALARM
END:VEVENT
BEGIN:VEVENT
UID:denverymca-74226160-20260530T133000@quickscores.com
DTSTAMP:20260421T223300Z
DTSTART;TZID=America/Denver:20260530T133000
DURATION:PT1H0M0S
SUMMARY:(UH) Sawyer vs. (SW) Wallace
DESCRIPTION:(central Park/ University Hills Ymca) Spring Basketball League - 10-11y Boys - YMCA of Metropolitan Denver - Youth Sports
LOCATION:Southwest YMCA Full Court
CATEGORIES:QuickScores, Basketball League Game
TRANSP:OPAQUE
BEGIN:VALARM
TRIGGER:-PT2H
ACTION:DISPLAY
DESCRIPTION:(UH) Sawyer vs. (SW) Wallace
END:VALARM
END:VEVENT
BEGIN:VEVENT
UID:denverymca-74291521-20260602T183000@quickscores.com
DTSTAMP:20260421T223300Z
DTSTART;TZID=America/Denver:20260602T183000
DURATION:PT1H0M0S
SUMMARY:Practice: (SW) Wallace
DESCRIPTION:(central Park/ University Hills Ymca) Spring Basketball League - 10-11y Boys - YMCA of Metropolitan Denver - Youth Sports
LOCATION:Southwest YMCA - Court 1
CATEGORIES:QuickScores, Basketball League Game
TRANSP:OPAQUE
BEGIN:VALARM
TRIGGER:-PT2H
ACTION:DISPLAY
DESCRIPTION:Practice: (SW) Wallace
END:VALARM
END:VEVENT
BEGIN:VEVENT
UID:denverymca-74226162-20260606T123000@quickscores.com
DTSTAMP:20260421T223300Z
DTSTART;TZID=America/Denver:20260606T123000
DURATION:PT1H0M0S
SUMMARY:(SW) Wallace vs. (UH) Klein
DESCRIPTION:(central Park/ University Hills Ymca) Spring Basketball League - 10-11y Boys - YMCA of Metropolitan Denver - Youth Sports
LOCATION:Southwest YMCA Full Court
CATEGORIES:QuickScores, Basketball League Game
TRANSP:OPAQUE
BEGIN:VALARM
TRIGGER:-PT2H
ACTION:DISPLAY
DESCRIPTION:(SW) Wallace vs. (UH) Klein
END:VALARM
END:VEVENT
END:VCALENDAR
