BEGIN:VCALENDAR
VERSION:2.0
PRODID:-//QuickScores.com//BQ Dynamic iCal Creator//EN
METHOD:PUBLISH
X-WR-CALNAME:(CP) Freeman - (central Park/ University Hills Ymca) Spring Basketball League - 10-11y Boys - Spring 2026
X-WR-CALDESC:QuickScores game calendar
X-PUBLISHED-TTL:PT24H
REFRESH-INTERVAL;VALUE=DURATION:PT24H
CALSCALE:GREGORIAN
BEGIN:VTIMEZONE
TZID:America/Denver
X-LIC-LOCATION:America/Denver
BEGIN:DAYLIGHT
TZNAME:MDT
TZOFFSETFROM:-0700
TZOFFSETTO:-0600
DTSTART:19700308T020000
RRULE:FREQ=YEARLY;BYMONTH=3;BYDAY=2SU
END:DAYLIGHT
BEGIN:STANDARD
TZNAME:MST
TZOFFSETFROM:-0600
TZOFFSETTO:-0700
DTSTART:19701101T020000
RRULE:FREQ=YEARLY;BYMONTH=11;BYDAY=1SU
END:STANDARD
END:VTIMEZONE
BEGIN:VEVENT
UID:denverymca-74266319-20260410T183000@quickscores.com
DTSTAMP:20260425T180000Z
DTSTART;TZID=America/Denver:20260410T183000
DURATION:PT1H0M0S
SUMMARY:Practice: (CP) Freeman
DESCRIPTION:(central Park/ University Hills Ymca) Spring Basketball League - 10-11y Boys - YMCA of Metropolitan Denver - Youth Sports
LOCATION:Rocky Mountain Prep - Fletcher
CATEGORIES:QuickScores, Basketball League Game
TRANSP:OPAQUE
BEGIN:VALARM
TRIGGER:-PT2H
ACTION:DISPLAY
DESCRIPTION:Practice: (CP) Freeman
END:VALARM
END:VEVENT
BEGIN:VEVENT
UID:denverymca-74226142-20260411T133000@quickscores.com
DTSTAMP:20260425T180000Z
DTSTART;TZID=America/Denver:20260411T133000
DURATION:PT1H0M0S
SUMMARY:(CP) Freeman vs. (SW) Wallace
DESCRIPTION:(central Park/ University Hills Ymca) Spring Basketball League - 10-11y Boys - YMCA of Metropolitan Denver - Youth Sports
LOCATION:Southwest YMCA Full Court
CATEGORIES:QuickScores, Basketball League Game
TRANSP:OPAQUE
BEGIN:VALARM
TRIGGER:-PT2H
ACTION:DISPLAY
DESCRIPTION:(CP) Freeman vs. (SW) Wallace
END:VALARM
END:VEVENT
BEGIN:VEVENT
UID:denverymca-74266320-20260417T183000@quickscores.com
DTSTAMP:20260425T180000Z
DTSTART;TZID=America/Denver:20260417T183000
DURATION:PT1H0M0S
SUMMARY:Practice: (CP) Freeman
DESCRIPTION:(central Park/ University Hills Ymca) Spring Basketball League - 10-11y Boys - YMCA of Metropolitan Denver - Youth Sports
LOCATION:Rocky Mountain Prep - Fletcher
CATEGORIES:QuickScores, Basketball League Game
TRANSP:OPAQUE
BEGIN:VALARM
TRIGGER:-PT2H
ACTION:DISPLAY
DESCRIPTION:Practice: (CP) Freeman
END:VALARM
END:VEVENT
BEGIN:VEVENT
UID:denverymca-74226145-20260418T123000@quickscores.com
DTSTAMP:20260425T180000Z
DTSTART;TZID=America/Denver:20260418T123000
DURATION:PT1H0M0S
SUMMARY:(CP) Freeman vs. (UH) Klein
DESCRIPTION:Game Location Change --- (central Park/ University Hills Ymca) Spring Basketball League - 10-11y Boys - YMCA of Metropolitan Denver - Youth Sports
LOCATION:Glendale
CATEGORIES:QuickScores, Basketball League Game
TRANSP:OPAQUE
BEGIN:VALARM
TRIGGER:-PT2H
ACTION:DISPLAY
DESCRIPTION:(CP) Freeman vs. (UH) Klein
END:VALARM
END:VEVENT
BEGIN:VEVENT
UID:denverymca-74266321-20260424T183000@quickscores.com
DTSTAMP:20260425T180000Z
DTSTART;TZID=America/Denver:20260424T183000
DURATION:PT1H0M0S
SUMMARY:Practice: (CP) Freeman
DESCRIPTION:(central Park/ University Hills Ymca) Spring Basketball League - 10-11y Boys - YMCA of Metropolitan Denver - Youth Sports
LOCATION:Rocky Mountain Prep - Fletcher
CATEGORIES:QuickScores, Basketball League Game
TRANSP:OPAQUE
BEGIN:VALARM
TRIGGER:-PT2H
ACTION:DISPLAY
DESCRIPTION:Practice: (CP) Freeman
END:VALARM
END:VEVENT
BEGIN:VEVENT
UID:denverymca-74226148-20260425T133000@quickscores.com
DTSTAMP:20260425T180000Z
DTSTART;TZID=America/Denver:20260425T133000
DURATION:PT1H0M0S
SUMMARY:(UH) Murphy vs. (CP) Freeman
DESCRIPTION:(central Park/ University Hills Ymca) Spring Basketball League - 10-11y Boys - YMCA of Metropolitan Denver - Youth Sports
LOCATION:Southwest YMCA Full Court
CATEGORIES:QuickScores, Basketball League Game
TRANSP:OPAQUE
BEGIN:VALARM
TRIGGER:-PT2H
ACTION:DISPLAY
DESCRIPTION:(UH) Murphy vs. (CP) Freeman
END:VALARM
END:VEVENT
BEGIN:VEVENT
UID:denverymca-74266322-20260501T183000@quickscores.com
DTSTAMP:20260425T180000Z
DTSTART;TZID=America/Denver:20260501T183000
DURATION:PT1H0M0S
SUMMARY:Practice: (CP) Freeman
DESCRIPTION:(central Park/ University Hills Ymca) Spring Basketball League - 10-11y Boys - YMCA of Metropolitan Denver - Youth Sports
LOCATION:Rocky Mountain Prep - Fletcher
CATEGORIES:QuickScores, Basketball League Game
TRANSP:OPAQUE
BEGIN:VALARM
TRIGGER:-PT2H
ACTION:DISPLAY
DESCRIPTION:Practice: (CP) Freeman
END:VALARM
END:VEVENT
BEGIN:VEVENT
UID:denverymca-74226149-20260502T123000@quickscores.com
DTSTAMP:20260425T180000Z
DTSTART;TZID=America/Denver:20260502T123000
DURATION:PT1H0M0S
SUMMARY:(CP) Freeman vs. (UH) Sawyer
DESCRIPTION:Game Location Change --- (central Park/ University Hills Ymca) Spring Basketball League - 10-11y Boys - YMCA of Metropolitan Denver - Youth Sports
LOCATION:Glendale
CATEGORIES:QuickScores, Basketball League Game
TRANSP:OPAQUE
BEGIN:VALARM
TRIGGER:-PT2H
ACTION:DISPLAY
DESCRIPTION:(CP) Freeman vs. (UH) Sawyer
END:VALARM
END:VEVENT
BEGIN:VEVENT
UID:denverymca-74266323-20260508T183000@quickscores.com
DTSTAMP:20260425T180000Z
DTSTART;TZID=America/Denver:20260508T183000
DURATION:PT1H0M0S
SUMMARY:Practice: (CP) Freeman
DESCRIPTION:(central Park/ University Hills Ymca) Spring Basketball League - 10-11y Boys - YMCA of Metropolitan Denver - Youth Sports
LOCATION:Rocky Mountain Prep - Fletcher
CATEGORIES:QuickScores, Basketball League Game
TRANSP:OPAQUE
BEGIN:VALARM
TRIGGER:-PT2H
ACTION:DISPLAY
DESCRIPTION:Practice: (CP) Freeman
END:VALARM
END:VEVENT
BEGIN:VEVENT
UID:denverymca-74226153-20260509T100000@quickscores.com
DTSTAMP:20260425T180000Z
DTSTART;TZID=America/Denver:20260509T100000
DURATION:PT1H0M0S
SUMMARY:(UH) Glynn vs. (CP) Freeman
DESCRIPTION:(central Park/ University Hills Ymca) Spring Basketball League - 10-11y Boys - YMCA of Metropolitan Denver - Youth Sports
LOCATION:Rocky Mountain Prep - Fletcher
CATEGORIES:QuickScores, Basketball League Game
TRANSP:OPAQUE
BEGIN:VALARM
TRIGGER:-PT2H
ACTION:DISPLAY
DESCRIPTION:(UH) Glynn vs. (CP) Freeman
END:VALARM
END:VEVENT
BEGIN:VEVENT
UID:denverymca-74266324-20260515T183000@quickscores.com
DTSTAMP:20260425T180000Z
DTSTART;TZID=America/Denver:20260515T183000
DURATION:PT1H0M0S
SUMMARY:Practice: (CP) Freeman
DESCRIPTION:(central Park/ University Hills Ymca) Spring Basketball League - 10-11y Boys - YMCA of Metropolitan Denver - Youth Sports
LOCATION:Rocky Mountain Prep - Fletcher
CATEGORIES:QuickScores, Basketball League Game
TRANSP:OPAQUE
BEGIN:VALARM
TRIGGER:-PT2H
ACTION:DISPLAY
DESCRIPTION:Practice: (CP) Freeman
END:VALARM
END:VEVENT
BEGIN:VEVENT
UID:denverymca-74226157-20260516T090000@quickscores.com
DTSTAMP:20260425T180000Z
DTSTART;TZID=America/Denver:20260516T090000
DURATION:PT1H0M0S
SUMMARY:(SW) Wallace vs. (CP) Freeman
DESCRIPTION:(central Park/ University Hills Ymca) Spring Basketball League - 10-11y Boys - YMCA of Metropolitan Denver - Youth Sports
LOCATION:Rocky Mountain Prep - Fletcher
CATEGORIES:QuickScores, Basketball League Game
TRANSP:OPAQUE
BEGIN:VALARM
TRIGGER:-PT2H
ACTION:DISPLAY
DESCRIPTION:(SW) Wallace vs. (CP) Freeman
END:VALARM
END:VEVENT
BEGIN:VEVENT
UID:denverymca-74266325-20260522T183000@quickscores.com
DTSTAMP:20260425T180000Z
DTSTART;TZID=America/Denver:20260522T183000
DURATION:PT1H0M0S
SUMMARY:Practice: (CP) Freeman
DESCRIPTION:(central Park/ University Hills Ymca) Spring Basketball League - 10-11y Boys - YMCA of Metropolitan Denver - Youth Sports
LOCATION:Rocky Mountain Prep - Fletcher
CATEGORIES:QuickScores, Basketball League Game
TRANSP:OPAQUE
BEGIN:VALARM
TRIGGER:-PT2H
ACTION:DISPLAY
DESCRIPTION:Practice: (CP) Freeman
END:VALARM
END:VEVENT
BEGIN:VEVENT
UID:denverymca-74266326-20260529T183000@quickscores.com
DTSTAMP:20260425T180000Z
DTSTART;TZID=America/Denver:20260529T183000
DURATION:PT1H0M0S
SUMMARY:Practice: (CP) Freeman
DESCRIPTION:(central Park/ University Hills Ymca) Spring Basketball League - 10-11y Boys - YMCA of Metropolitan Denver - Youth Sports
LOCATION:Rocky Mountain Prep - Fletcher
CATEGORIES:QuickScores, Basketball League Game
TRANSP:OPAQUE
BEGIN:VALARM
TRIGGER:-PT2H
ACTION:DISPLAY
DESCRIPTION:Practice: (CP) Freeman
END:VALARM
END:VEVENT
BEGIN:VEVENT
UID:denverymca-74226159-20260530T123000@quickscores.com
DTSTAMP:20260425T180000Z
DTSTART;TZID=America/Denver:20260530T123000
DURATION:PT1H0M0S
SUMMARY:(UH) Klein vs. (CP) Freeman
DESCRIPTION:(central Park/ University Hills Ymca) Spring Basketball League - 10-11y Boys - YMCA of Metropolitan Denver - Youth Sports
LOCATION:Southwest YMCA Full Court
CATEGORIES:QuickScores, Basketball League Game
TRANSP:OPAQUE
BEGIN:VALARM
TRIGGER:-PT2H
ACTION:DISPLAY
DESCRIPTION:(UH) Klein vs. (CP) Freeman
END:VALARM
END:VEVENT
BEGIN:VEVENT
UID:denverymca-74266327-20260605T183000@quickscores.com
DTSTAMP:20260425T180000Z
DTSTART;TZID=America/Denver:20260605T183000
DURATION:PT1H0M0S
SUMMARY:Practice: (CP) Freeman
DESCRIPTION:(central Park/ University Hills Ymca) Spring Basketball League - 10-11y Boys - YMCA of Metropolitan Denver - Youth Sports
LOCATION:Rocky Mountain Prep - Fletcher
CATEGORIES:QuickScores, Basketball League Game
TRANSP:OPAQUE
BEGIN:VALARM
TRIGGER:-PT2H
ACTION:DISPLAY
DESCRIPTION:Practice: (CP) Freeman
END:VALARM
END:VEVENT
BEGIN:VEVENT
UID:denverymca-74226163-20260606T133000@quickscores.com
DTSTAMP:20260425T180000Z
DTSTART;TZID=America/Denver:20260606T133000
DURATION:PT1H0M0S
SUMMARY:(CP) Freeman vs. (UH) Murphy
DESCRIPTION:(central Park/ University Hills Ymca) Spring Basketball League - 10-11y Boys - YMCA of Metropolitan Denver - Youth Sports
LOCATION:Southwest YMCA Full Court
CATEGORIES:QuickScores, Basketball League Game
TRANSP:OPAQUE
BEGIN:VALARM
TRIGGER:-PT2H
ACTION:DISPLAY
DESCRIPTION:(CP) Freeman vs. (UH) Murphy
END:VALARM
END:VEVENT
END:VCALENDAR
