BEGIN:VCALENDAR
VERSION:2.0
PRODID:-//QuickScores.com//BQ Dynamic iCal Creator//EN
METHOD:PUBLISH
X-WR-CALNAME:(UH) Murphy - (central Park/ University Hills Ymca) Spring Basketball League - 10-11y Boys - Spring 2026
X-WR-CALDESC:QuickScores game calendar
X-PUBLISHED-TTL:PT24H
REFRESH-INTERVAL;VALUE=DURATION:PT24H
CALSCALE:GREGORIAN
BEGIN:VTIMEZONE
TZID:America/Denver
X-LIC-LOCATION:America/Denver
BEGIN:DAYLIGHT
TZNAME:MDT
TZOFFSETFROM:-0700
TZOFFSETTO:-0600
DTSTART:19700308T020000
RRULE:FREQ=YEARLY;BYMONTH=3;BYDAY=2SU
END:DAYLIGHT
BEGIN:STANDARD
TZNAME:MST
TZOFFSETFROM:-0600
TZOFFSETTO:-0700
DTSTART:19701101T020000
RRULE:FREQ=YEARLY;BYMONTH=11;BYDAY=1SU
END:STANDARD
END:VTIMEZONE
BEGIN:VEVENT
UID:denverymca-74054045-20260406T180000@quickscores.com
DTSTAMP:20260423T123400Z
DTSTART;TZID=America/Denver:20260406T180000
DURATION:PT1H0M0S
SUMMARY:Practice: (UH) Murphy
DESCRIPTION:(central Park/ University Hills Ymca) Spring Basketball League - 10-11y Boys - YMCA of Metropolitan Denver - Youth Sports
LOCATION:University Hills - YMCA - Court 1
CATEGORIES:QuickScores, Basketball League Game
TRANSP:OPAQUE
BEGIN:VALARM
TRIGGER:-PT2H
ACTION:DISPLAY
DESCRIPTION:Practice: (UH) Murphy
END:VALARM
END:VEVENT
BEGIN:VEVENT
UID:denverymca-74226141-20260411T100000@quickscores.com
DTSTAMP:20260423T123400Z
DTSTART;TZID=America/Denver:20260411T100000
DURATION:PT1H0M0S
SUMMARY:(UH) Murphy vs. (UH) Glynn
DESCRIPTION:(central Park/ University Hills Ymca) Spring Basketball League - 10-11y Boys - YMCA of Metropolitan Denver - Youth Sports
LOCATION:Rocky Mountain Prep - Fletcher
CATEGORIES:QuickScores, Basketball League Game
TRANSP:OPAQUE
BEGIN:VALARM
TRIGGER:-PT2H
ACTION:DISPLAY
DESCRIPTION:(UH) Murphy vs. (UH) Glynn
END:VALARM
END:VEVENT
BEGIN:VEVENT
UID:denverymca-74054046-20260413T180000@quickscores.com
DTSTAMP:20260423T123400Z
DTSTART;TZID=America/Denver:20260413T180000
DURATION:PT1H0M0S
SUMMARY:Practice: (UH) Murphy
DESCRIPTION:(central Park/ University Hills Ymca) Spring Basketball League - 10-11y Boys - YMCA of Metropolitan Denver - Youth Sports
LOCATION:University Hills - YMCA - Court 1
CATEGORIES:QuickScores, Basketball League Game
TRANSP:OPAQUE
BEGIN:VALARM
TRIGGER:-PT2H
ACTION:DISPLAY
DESCRIPTION:Practice: (UH) Murphy
END:VALARM
END:VEVENT
BEGIN:VEVENT
UID:denverymca-74226143-20260418T233000@quickscores.com
DTSTAMP:20260423T123400Z
DTSTART;TZID=America/Denver:20260418T233000
DURATION:PT1H0M0S
SUMMARY:(UH) Sawyer vs. (UH) Murphy
DESCRIPTION:Game Location Change --- (central Park/ University Hills Ymca) Spring Basketball League - 10-11y Boys - YMCA of Metropolitan Denver - Youth Sports
LOCATION:Glendale
CATEGORIES:QuickScores, Basketball League Game
TRANSP:OPAQUE
BEGIN:VALARM
TRIGGER:-PT2H
ACTION:DISPLAY
DESCRIPTION:(UH) Sawyer vs. (UH) Murphy
END:VALARM
END:VEVENT
BEGIN:VEVENT
UID:denverymca-74054047-20260420T180000@quickscores.com
DTSTAMP:20260423T123400Z
DTSTART;TZID=America/Denver:20260420T180000
DURATION:PT1H0M0S
SUMMARY:Practice: (UH) Murphy
DESCRIPTION:(central Park/ University Hills Ymca) Spring Basketball League - 10-11y Boys - YMCA of Metropolitan Denver - Youth Sports
LOCATION:University Hills - YMCA - Court 1
CATEGORIES:QuickScores, Basketball League Game
TRANSP:OPAQUE
BEGIN:VALARM
TRIGGER:-PT2H
ACTION:DISPLAY
DESCRIPTION:Practice: (UH) Murphy
END:VALARM
END:VEVENT
BEGIN:VEVENT
UID:denverymca-74226148-20260425T133000@quickscores.com
DTSTAMP:20260423T123400Z
DTSTART;TZID=America/Denver:20260425T133000
DURATION:PT1H0M0S
SUMMARY:(UH) Murphy vs. (CP) Freeman
DESCRIPTION:(central Park/ University Hills Ymca) Spring Basketball League - 10-11y Boys - YMCA of Metropolitan Denver - Youth Sports
LOCATION:Southwest YMCA Full Court
CATEGORIES:QuickScores, Basketball League Game
TRANSP:OPAQUE
BEGIN:VALARM
TRIGGER:-PT2H
ACTION:DISPLAY
DESCRIPTION:(UH) Murphy vs. (CP) Freeman
END:VALARM
END:VEVENT
BEGIN:VEVENT
UID:denverymca-74054048-20260427T180000@quickscores.com
DTSTAMP:20260423T123400Z
DTSTART;TZID=America/Denver:20260427T180000
DURATION:PT1H0M0S
SUMMARY:Practice: (UH) Murphy
DESCRIPTION:(central Park/ University Hills Ymca) Spring Basketball League - 10-11y Boys - YMCA of Metropolitan Denver - Youth Sports
LOCATION:University Hills - YMCA - Court 1
CATEGORIES:QuickScores, Basketball League Game
TRANSP:OPAQUE
BEGIN:VALARM
TRIGGER:-PT2H
ACTION:DISPLAY
DESCRIPTION:Practice: (UH) Murphy
END:VALARM
END:VEVENT
BEGIN:VEVENT
UID:denverymca-74226150-20260502T090000@quickscores.com
DTSTAMP:20260423T123400Z
DTSTART;TZID=America/Denver:20260502T090000
DURATION:PT1H0M0S
SUMMARY:(SW) Wallace vs. (UH) Murphy
DESCRIPTION:(central Park/ University Hills Ymca) Spring Basketball League - 10-11y Boys - YMCA of Metropolitan Denver - Youth Sports
LOCATION:Rocky Mountain Prep - Fletcher
CATEGORIES:QuickScores, Basketball League Game
TRANSP:OPAQUE
BEGIN:VALARM
TRIGGER:-PT2H
ACTION:DISPLAY
DESCRIPTION:(SW) Wallace vs. (UH) Murphy
END:VALARM
END:VEVENT
BEGIN:VEVENT
UID:denverymca-74054049-20260504T180000@quickscores.com
DTSTAMP:20260423T123400Z
DTSTART;TZID=America/Denver:20260504T180000
DURATION:PT1H0M0S
SUMMARY:Practice: (UH) Murphy
DESCRIPTION:(central Park/ University Hills Ymca) Spring Basketball League - 10-11y Boys - YMCA of Metropolitan Denver - Youth Sports
LOCATION:University Hills - YMCA - Court 1
CATEGORIES:QuickScores, Basketball League Game
TRANSP:OPAQUE
BEGIN:VALARM
TRIGGER:-PT2H
ACTION:DISPLAY
DESCRIPTION:Practice: (UH) Murphy
END:VALARM
END:VEVENT
BEGIN:VEVENT
UID:denverymca-74226154-20260509T133000@quickscores.com
DTSTAMP:20260423T123400Z
DTSTART;TZID=America/Denver:20260509T133000
DURATION:PT1H0M0S
SUMMARY:(UH) Murphy vs. (UH) Klein
DESCRIPTION:(central Park/ University Hills Ymca) Spring Basketball League - 10-11y Boys - YMCA of Metropolitan Denver - Youth Sports
LOCATION:Southwest YMCA Full Court
CATEGORIES:QuickScores, Basketball League Game
TRANSP:OPAQUE
BEGIN:VALARM
TRIGGER:-PT2H
ACTION:DISPLAY
DESCRIPTION:(UH) Murphy vs. (UH) Klein
END:VALARM
END:VEVENT
BEGIN:VEVENT
UID:denverymca-74054050-20260511T180000@quickscores.com
DTSTAMP:20260423T123400Z
DTSTART;TZID=America/Denver:20260511T180000
DURATION:PT1H0M0S
SUMMARY:Practice: (UH) Murphy
DESCRIPTION:(central Park/ University Hills Ymca) Spring Basketball League - 10-11y Boys - YMCA of Metropolitan Denver - Youth Sports
LOCATION:University Hills - YMCA - Court 1
CATEGORIES:QuickScores, Basketball League Game
TRANSP:OPAQUE
BEGIN:VALARM
TRIGGER:-PT2H
ACTION:DISPLAY
DESCRIPTION:Practice: (UH) Murphy
END:VALARM
END:VEVENT
BEGIN:VEVENT
UID:denverymca-74226156-20260516T233000@quickscores.com
DTSTAMP:20260423T123400Z
DTSTART;TZID=America/Denver:20260516T233000
DURATION:PT1H0M0S
SUMMARY:(UH) Glynn vs. (UH) Murphy
DESCRIPTION:Game Location Change --- (central Park/ University Hills Ymca) Spring Basketball League - 10-11y Boys - YMCA of Metropolitan Denver - Youth Sports
LOCATION:Glendale
CATEGORIES:QuickScores, Basketball League Game
TRANSP:OPAQUE
BEGIN:VALARM
TRIGGER:-PT2H
ACTION:DISPLAY
DESCRIPTION:(UH) Glynn vs. (UH) Murphy
END:VALARM
END:VEVENT
BEGIN:VEVENT
UID:denverymca-74054051-20260518T180000@quickscores.com
DTSTAMP:20260423T123400Z
DTSTART;TZID=America/Denver:20260518T180000
DURATION:PT1H0M0S
SUMMARY:Practice: (UH) Murphy
DESCRIPTION:(central Park/ University Hills Ymca) Spring Basketball League - 10-11y Boys - YMCA of Metropolitan Denver - Youth Sports
LOCATION:University Hills - YMCA - Court 1
CATEGORIES:QuickScores, Basketball League Game
TRANSP:OPAQUE
BEGIN:VALARM
TRIGGER:-PT2H
ACTION:DISPLAY
DESCRIPTION:Practice: (UH) Murphy
END:VALARM
END:VEVENT
BEGIN:VEVENT
UID:denverymca-74054052-20260525T180000@quickscores.com
DTSTAMP:20260423T123400Z
DTSTART;TZID=America/Denver:20260525T180000
DURATION:PT1H0M0S
SUMMARY:Practice: (UH) Murphy
DESCRIPTION:(central Park/ University Hills Ymca) Spring Basketball League - 10-11y Boys - YMCA of Metropolitan Denver - Youth Sports
LOCATION:University Hills - YMCA - Court 1
CATEGORIES:QuickScores, Basketball League Game
TRANSP:OPAQUE
BEGIN:VALARM
TRIGGER:-PT2H
ACTION:DISPLAY
DESCRIPTION:Practice: (UH) Murphy
END:VALARM
END:VEVENT
BEGIN:VEVENT
UID:denverymca-74226158-20260530T100000@quickscores.com
DTSTAMP:20260423T123400Z
DTSTART;TZID=America/Denver:20260530T100000
DURATION:PT1H0M0S
SUMMARY:(UH) Murphy vs. (UH) Glynn
DESCRIPTION:(central Park/ University Hills Ymca) Spring Basketball League - 10-11y Boys - YMCA of Metropolitan Denver - Youth Sports
LOCATION:Rocky Mountain Prep - Fletcher
CATEGORIES:QuickScores, Basketball League Game
TRANSP:OPAQUE
BEGIN:VALARM
TRIGGER:-PT2H
ACTION:DISPLAY
DESCRIPTION:(UH) Murphy vs. (UH) Glynn
END:VALARM
END:VEVENT
BEGIN:VEVENT
UID:denverymca-74054053-20260601T180000@quickscores.com
DTSTAMP:20260423T123400Z
DTSTART;TZID=America/Denver:20260601T180000
DURATION:PT1H0M0S
SUMMARY:Practice: (UH) Murphy
DESCRIPTION:(central Park/ University Hills Ymca) Spring Basketball League - 10-11y Boys - YMCA of Metropolitan Denver - Youth Sports
LOCATION:University Hills - YMCA - Court 1
CATEGORIES:QuickScores, Basketball League Game
TRANSP:OPAQUE
BEGIN:VALARM
TRIGGER:-PT2H
ACTION:DISPLAY
DESCRIPTION:Practice: (UH) Murphy
END:VALARM
END:VEVENT
BEGIN:VEVENT
UID:denverymca-74226163-20260606T133000@quickscores.com
DTSTAMP:20260423T123400Z
DTSTART;TZID=America/Denver:20260606T133000
DURATION:PT1H0M0S
SUMMARY:(CP) Freeman vs. (UH) Murphy
DESCRIPTION:(central Park/ University Hills Ymca) Spring Basketball League - 10-11y Boys - YMCA of Metropolitan Denver - Youth Sports
LOCATION:Southwest YMCA Full Court
CATEGORIES:QuickScores, Basketball League Game
TRANSP:OPAQUE
BEGIN:VALARM
TRIGGER:-PT2H
ACTION:DISPLAY
DESCRIPTION:(CP) Freeman vs. (UH) Murphy
END:VALARM
END:VEVENT
END:VCALENDAR
