BEGIN:VCALENDAR
VERSION:2.0
PRODID:-//QuickScores.com//BQ Dynamic iCal Creator//EN
METHOD:PUBLISH
X-WR-CALNAME:(UH) Klein - (central Park/ University Hills Ymca) Spring Basketball League - 10-11y Boys - Spring 2026
X-WR-CALDESC:QuickScores game calendar
X-PUBLISHED-TTL:PT24H
REFRESH-INTERVAL;VALUE=DURATION:PT24H
CALSCALE:GREGORIAN
BEGIN:VTIMEZONE
TZID:America/Denver
X-LIC-LOCATION:America/Denver
BEGIN:DAYLIGHT
TZNAME:MDT
TZOFFSETFROM:-0700
TZOFFSETTO:-0600
DTSTART:19700308T020000
RRULE:FREQ=YEARLY;BYMONTH=3;BYDAY=2SU
END:DAYLIGHT
BEGIN:STANDARD
TZNAME:MST
TZOFFSETFROM:-0600
TZOFFSETTO:-0700
DTSTART:19701101T020000
RRULE:FREQ=YEARLY;BYMONTH=11;BYDAY=1SU
END:STANDARD
END:VTIMEZONE
BEGIN:VEVENT
UID:denverymca-74054054-20260408T170000@quickscores.com
DTSTAMP:20260422T205700Z
DTSTART;TZID=America/Denver:20260408T170000
DURATION:PT1H0M0S
SUMMARY:Practice: (UH) Klein
DESCRIPTION:(central Park/ University Hills Ymca) Spring Basketball League - 10-11y Boys - YMCA of Metropolitan Denver - Youth Sports
LOCATION:Bishop Elementary Basketball Gym
CATEGORIES:QuickScores, Basketball League Game
TRANSP:OPAQUE
BEGIN:VALARM
TRIGGER:-PT2H
ACTION:DISPLAY
DESCRIPTION:Practice: (UH) Klein
END:VALARM
END:VEVENT
BEGIN:VEVENT
UID:denverymca-74226140-20260411T143000@quickscores.com
DTSTAMP:20260422T205700Z
DTSTART;TZID=America/Denver:20260411T143000
DURATION:PT1H0M0S
SUMMARY:(UH) Sawyer vs. (UH) Klein
DESCRIPTION:(central Park/ University Hills Ymca) Spring Basketball League - 10-11y Boys - YMCA of Metropolitan Denver - Youth Sports
LOCATION:Southwest YMCA Full Court
CATEGORIES:QuickScores, Basketball League Game
TRANSP:OPAQUE
BEGIN:VALARM
TRIGGER:-PT2H
ACTION:DISPLAY
DESCRIPTION:(UH) Sawyer vs. (UH) Klein
END:VALARM
END:VEVENT
BEGIN:VEVENT
UID:denverymca-74054055-20260415T170000@quickscores.com
DTSTAMP:20260422T205700Z
DTSTART;TZID=America/Denver:20260415T170000
DURATION:PT1H0M0S
SUMMARY:Practice: (UH) Klein
DESCRIPTION:(central Park/ University Hills Ymca) Spring Basketball League - 10-11y Boys - YMCA of Metropolitan Denver - Youth Sports
LOCATION:Bishop Elementary Basketball Gym
CATEGORIES:QuickScores, Basketball League Game
TRANSP:OPAQUE
BEGIN:VALARM
TRIGGER:-PT2H
ACTION:DISPLAY
DESCRIPTION:Practice: (UH) Klein
END:VALARM
END:VEVENT
BEGIN:VEVENT
UID:denverymca-74226145-20260418T123000@quickscores.com
DTSTAMP:20260422T205700Z
DTSTART;TZID=America/Denver:20260418T123000
DURATION:PT1H0M0S
SUMMARY:(CP) Freeman vs. (UH) Klein
DESCRIPTION:Game Location Change --- (central Park/ University Hills Ymca) Spring Basketball League - 10-11y Boys - YMCA of Metropolitan Denver - Youth Sports
LOCATION:Glendale
CATEGORIES:QuickScores, Basketball League Game
TRANSP:OPAQUE
BEGIN:VALARM
TRIGGER:-PT2H
ACTION:DISPLAY
DESCRIPTION:(CP) Freeman vs. (UH) Klein
END:VALARM
END:VEVENT
BEGIN:VEVENT
UID:denverymca-74054056-20260422T170000@quickscores.com
DTSTAMP:20260422T205700Z
DTSTART;TZID=America/Denver:20260422T170000
DURATION:PT1H0M0S
SUMMARY:Practice: (UH) Klein
DESCRIPTION:(central Park/ University Hills Ymca) Spring Basketball League - 10-11y Boys - YMCA of Metropolitan Denver - Youth Sports
LOCATION:Bishop Elementary Basketball Gym
CATEGORIES:QuickScores, Basketball League Game
TRANSP:OPAQUE
BEGIN:VALARM
TRIGGER:-PT2H
ACTION:DISPLAY
DESCRIPTION:Practice: (UH) Klein
END:VALARM
END:VEVENT
BEGIN:VEVENT
UID:denverymca-74226147-20260425T100000@quickscores.com
DTSTAMP:20260422T205700Z
DTSTART;TZID=America/Denver:20260425T100000
DURATION:PT1H0M0S
SUMMARY:(UH) Klein vs. (SW) Wallace
DESCRIPTION:(central Park/ University Hills Ymca) Spring Basketball League - 10-11y Boys - YMCA of Metropolitan Denver - Youth Sports
LOCATION:Rocky Mountain Prep - Fletcher
CATEGORIES:QuickScores, Basketball League Game
TRANSP:OPAQUE
BEGIN:VALARM
TRIGGER:-PT2H
ACTION:DISPLAY
DESCRIPTION:(UH) Klein vs. (SW) Wallace
END:VALARM
END:VEVENT
BEGIN:VEVENT
UID:denverymca-74054057-20260429T170000@quickscores.com
DTSTAMP:20260422T205700Z
DTSTART;TZID=America/Denver:20260429T170000
DURATION:PT1H0M0S
SUMMARY:Practice: (UH) Klein
DESCRIPTION:(central Park/ University Hills Ymca) Spring Basketball League - 10-11y Boys - YMCA of Metropolitan Denver - Youth Sports
LOCATION:Bishop Elementary Basketball Gym
CATEGORIES:QuickScores, Basketball League Game
TRANSP:OPAQUE
BEGIN:VALARM
TRIGGER:-PT2H
ACTION:DISPLAY
DESCRIPTION:Practice: (UH) Klein
END:VALARM
END:VEVENT
BEGIN:VEVENT
UID:denverymca-74226151-20260502T233000@quickscores.com
DTSTAMP:20260422T205700Z
DTSTART;TZID=America/Denver:20260502T233000
DURATION:PT1H0M0S
SUMMARY:(UH) Klein vs. (UH) Glynn
DESCRIPTION:Game Location Change --- (central Park/ University Hills Ymca) Spring Basketball League - 10-11y Boys - YMCA of Metropolitan Denver - Youth Sports
LOCATION:Glendale
CATEGORIES:QuickScores, Basketball League Game
TRANSP:OPAQUE
BEGIN:VALARM
TRIGGER:-PT2H
ACTION:DISPLAY
DESCRIPTION:(UH) Klein vs. (UH) Glynn
END:VALARM
END:VEVENT
BEGIN:VEVENT
UID:denverymca-74054058-20260506T170000@quickscores.com
DTSTAMP:20260422T205700Z
DTSTART;TZID=America/Denver:20260506T170000
DURATION:PT1H0M0S
SUMMARY:Practice: (UH) Klein
DESCRIPTION:(central Park/ University Hills Ymca) Spring Basketball League - 10-11y Boys - YMCA of Metropolitan Denver - Youth Sports
LOCATION:Bishop Elementary Basketball Gym
CATEGORIES:QuickScores, Basketball League Game
TRANSP:OPAQUE
BEGIN:VALARM
TRIGGER:-PT2H
ACTION:DISPLAY
DESCRIPTION:Practice: (UH) Klein
END:VALARM
END:VEVENT
BEGIN:VEVENT
UID:denverymca-74226154-20260509T133000@quickscores.com
DTSTAMP:20260422T205700Z
DTSTART;TZID=America/Denver:20260509T133000
DURATION:PT1H0M0S
SUMMARY:(UH) Murphy vs. (UH) Klein
DESCRIPTION:(central Park/ University Hills Ymca) Spring Basketball League - 10-11y Boys - YMCA of Metropolitan Denver - Youth Sports
LOCATION:Southwest YMCA Full Court
CATEGORIES:QuickScores, Basketball League Game
TRANSP:OPAQUE
BEGIN:VALARM
TRIGGER:-PT2H
ACTION:DISPLAY
DESCRIPTION:(UH) Murphy vs. (UH) Klein
END:VALARM
END:VEVENT
BEGIN:VEVENT
UID:denverymca-74054059-20260513T170000@quickscores.com
DTSTAMP:20260422T205700Z
DTSTART;TZID=America/Denver:20260513T170000
DURATION:PT1H0M0S
SUMMARY:Practice: (UH) Klein
DESCRIPTION:(central Park/ University Hills Ymca) Spring Basketball League - 10-11y Boys - YMCA of Metropolitan Denver - Youth Sports
LOCATION:Bishop Elementary Basketball Gym
CATEGORIES:QuickScores, Basketball League Game
TRANSP:OPAQUE
BEGIN:VALARM
TRIGGER:-PT2H
ACTION:DISPLAY
DESCRIPTION:Practice: (UH) Klein
END:VALARM
END:VEVENT
BEGIN:VEVENT
UID:denverymca-74226155-20260516T123000@quickscores.com
DTSTAMP:20260422T205700Z
DTSTART;TZID=America/Denver:20260516T123000
DURATION:PT1H0M0S
SUMMARY:(UH) Klein vs. (UH) Sawyer
DESCRIPTION:Game Location Change --- (central Park/ University Hills Ymca) Spring Basketball League - 10-11y Boys - YMCA of Metropolitan Denver - Youth Sports
LOCATION:Glendale
CATEGORIES:QuickScores, Basketball League Game
TRANSP:OPAQUE
BEGIN:VALARM
TRIGGER:-PT2H
ACTION:DISPLAY
DESCRIPTION:(UH) Klein vs. (UH) Sawyer
END:VALARM
END:VEVENT
BEGIN:VEVENT
UID:denverymca-74054060-20260520T170000@quickscores.com
DTSTAMP:20260422T205700Z
DTSTART;TZID=America/Denver:20260520T170000
DURATION:PT1H0M0S
SUMMARY:Practice: (UH) Klein
DESCRIPTION:(central Park/ University Hills Ymca) Spring Basketball League - 10-11y Boys - YMCA of Metropolitan Denver - Youth Sports
LOCATION:Bishop Elementary Basketball Gym
CATEGORIES:QuickScores, Basketball League Game
TRANSP:OPAQUE
BEGIN:VALARM
TRIGGER:-PT2H
ACTION:DISPLAY
DESCRIPTION:Practice: (UH) Klein
END:VALARM
END:VEVENT
BEGIN:VEVENT
UID:denverymca-74054061-20260527T170000@quickscores.com
DTSTAMP:20260422T205700Z
DTSTART;TZID=America/Denver:20260527T170000
DURATION:PT1H0M0S
SUMMARY:Practice: (UH) Klein
DESCRIPTION:(central Park/ University Hills Ymca) Spring Basketball League - 10-11y Boys - YMCA of Metropolitan Denver - Youth Sports
LOCATION:Bishop Elementary Basketball Gym
CATEGORIES:QuickScores, Basketball League Game
TRANSP:OPAQUE
BEGIN:VALARM
TRIGGER:-PT2H
ACTION:DISPLAY
DESCRIPTION:Practice: (UH) Klein
END:VALARM
END:VEVENT
BEGIN:VEVENT
UID:denverymca-74226159-20260530T123000@quickscores.com
DTSTAMP:20260422T205700Z
DTSTART;TZID=America/Denver:20260530T123000
DURATION:PT1H0M0S
SUMMARY:(UH) Klein vs. (CP) Freeman
DESCRIPTION:(central Park/ University Hills Ymca) Spring Basketball League - 10-11y Boys - YMCA of Metropolitan Denver - Youth Sports
LOCATION:Southwest YMCA Full Court
CATEGORIES:QuickScores, Basketball League Game
TRANSP:OPAQUE
BEGIN:VALARM
TRIGGER:-PT2H
ACTION:DISPLAY
DESCRIPTION:(UH) Klein vs. (CP) Freeman
END:VALARM
END:VEVENT
BEGIN:VEVENT
UID:denverymca-74054062-20260603T170000@quickscores.com
DTSTAMP:20260422T205700Z
DTSTART;TZID=America/Denver:20260603T170000
DURATION:PT1H0M0S
SUMMARY:Practice: (UH) Klein
DESCRIPTION:(central Park/ University Hills Ymca) Spring Basketball League - 10-11y Boys - YMCA of Metropolitan Denver - Youth Sports
LOCATION:Bishop Elementary Basketball Gym
CATEGORIES:QuickScores, Basketball League Game
TRANSP:OPAQUE
BEGIN:VALARM
TRIGGER:-PT2H
ACTION:DISPLAY
DESCRIPTION:Practice: (UH) Klein
END:VALARM
END:VEVENT
BEGIN:VEVENT
UID:denverymca-74226162-20260606T123000@quickscores.com
DTSTAMP:20260422T205700Z
DTSTART;TZID=America/Denver:20260606T123000
DURATION:PT1H0M0S
SUMMARY:(SW) Wallace vs. (UH) Klein
DESCRIPTION:(central Park/ University Hills Ymca) Spring Basketball League - 10-11y Boys - YMCA of Metropolitan Denver - Youth Sports
LOCATION:Southwest YMCA Full Court
CATEGORIES:QuickScores, Basketball League Game
TRANSP:OPAQUE
BEGIN:VALARM
TRIGGER:-PT2H
ACTION:DISPLAY
DESCRIPTION:(SW) Wallace vs. (UH) Klein
END:VALARM
END:VEVENT
END:VCALENDAR
