BEGIN:VCALENDAR
VERSION:2.0
PRODID:-//QuickScores.com//BQ Dynamic iCal Creator//EN
METHOD:PUBLISH
X-WR-CALNAME:(UH) Sawyer - (central Park/ University Hills Ymca) Spring Basketball League - 10-11y Boys - Spring 2026
X-WR-CALDESC:QuickScores game calendar
X-PUBLISHED-TTL:PT24H
REFRESH-INTERVAL;VALUE=DURATION:PT24H
CALSCALE:GREGORIAN
BEGIN:VTIMEZONE
TZID:America/Denver
X-LIC-LOCATION:America/Denver
BEGIN:DAYLIGHT
TZNAME:MDT
TZOFFSETFROM:-0700
TZOFFSETTO:-0600
DTSTART:19700308T020000
RRULE:FREQ=YEARLY;BYMONTH=3;BYDAY=2SU
END:DAYLIGHT
BEGIN:STANDARD
TZNAME:MST
TZOFFSETFROM:-0600
TZOFFSETTO:-0700
DTSTART:19701101T020000
RRULE:FREQ=YEARLY;BYMONTH=11;BYDAY=1SU
END:STANDARD
END:VTIMEZONE
BEGIN:VEVENT
UID:denverymca-74054063-20260409T163000@quickscores.com
DTSTAMP:20260425T134100Z
DTSTART;TZID=America/Denver:20260409T163000
DURATION:PT1H0M0S
SUMMARY:Practice: (UH) Sawyer
DESCRIPTION:(central Park/ University Hills Ymca) Spring Basketball League - 10-11y Boys - YMCA of Metropolitan Denver - Youth Sports
LOCATION:University Hills YMCA - Full Court
CATEGORIES:QuickScores, Basketball League Game
TRANSP:OPAQUE
BEGIN:VALARM
TRIGGER:-PT2H
ACTION:DISPLAY
DESCRIPTION:Practice: (UH) Sawyer
END:VALARM
END:VEVENT
BEGIN:VEVENT
UID:denverymca-74226140-20260411T143000@quickscores.com
DTSTAMP:20260425T134100Z
DTSTART;TZID=America/Denver:20260411T143000
DURATION:PT1H0M0S
SUMMARY:(UH) Sawyer vs. (UH) Klein
DESCRIPTION:(central Park/ University Hills Ymca) Spring Basketball League - 10-11y Boys - YMCA of Metropolitan Denver - Youth Sports
LOCATION:Southwest YMCA Full Court
CATEGORIES:QuickScores, Basketball League Game
TRANSP:OPAQUE
BEGIN:VALARM
TRIGGER:-PT2H
ACTION:DISPLAY
DESCRIPTION:(UH) Sawyer vs. (UH) Klein
END:VALARM
END:VEVENT
BEGIN:VEVENT
UID:denverymca-74054064-20260416T163000@quickscores.com
DTSTAMP:20260425T134100Z
DTSTART;TZID=America/Denver:20260416T163000
DURATION:PT1H0M0S
SUMMARY:Practice: (UH) Sawyer
DESCRIPTION:(central Park/ University Hills Ymca) Spring Basketball League - 10-11y Boys - YMCA of Metropolitan Denver - Youth Sports
LOCATION:University Hills YMCA - Full Court
CATEGORIES:QuickScores, Basketball League Game
TRANSP:OPAQUE
BEGIN:VALARM
TRIGGER:-PT2H
ACTION:DISPLAY
DESCRIPTION:Practice: (UH) Sawyer
END:VALARM
END:VEVENT
BEGIN:VEVENT
UID:denverymca-74226143-20260418T233000@quickscores.com
DTSTAMP:20260425T134100Z
DTSTART;TZID=America/Denver:20260418T233000
DURATION:PT1H0M0S
SUMMARY:(UH) Sawyer vs. (UH) Murphy
DESCRIPTION:Game Location Change --- (central Park/ University Hills Ymca) Spring Basketball League - 10-11y Boys - YMCA of Metropolitan Denver - Youth Sports
LOCATION:Glendale
CATEGORIES:QuickScores, Basketball League Game
TRANSP:OPAQUE
BEGIN:VALARM
TRIGGER:-PT2H
ACTION:DISPLAY
DESCRIPTION:(UH) Sawyer vs. (UH) Murphy
END:VALARM
END:VEVENT
BEGIN:VEVENT
UID:denverymca-74054065-20260423T163000@quickscores.com
DTSTAMP:20260425T134100Z
DTSTART;TZID=America/Denver:20260423T163000
DURATION:PT1H0M0S
SUMMARY:Practice: (UH) Sawyer
DESCRIPTION:(central Park/ University Hills Ymca) Spring Basketball League - 10-11y Boys - YMCA of Metropolitan Denver - Youth Sports
LOCATION:University Hills YMCA - Full Court
CATEGORIES:QuickScores, Basketball League Game
TRANSP:OPAQUE
BEGIN:VALARM
TRIGGER:-PT2H
ACTION:DISPLAY
DESCRIPTION:Practice: (UH) Sawyer
END:VALARM
END:VEVENT
BEGIN:VEVENT
UID:denverymca-74226146-20260425T123000@quickscores.com
DTSTAMP:20260425T134100Z
DTSTART;TZID=America/Denver:20260425T123000
DURATION:PT1H0M0S
SUMMARY:(UH) Sawyer vs. (UH) Glynn
DESCRIPTION:(central Park/ University Hills Ymca) Spring Basketball League - 10-11y Boys - YMCA of Metropolitan Denver - Youth Sports
LOCATION:Southwest YMCA Full Court
CATEGORIES:QuickScores, Basketball League Game
TRANSP:OPAQUE
BEGIN:VALARM
TRIGGER:-PT2H
ACTION:DISPLAY
DESCRIPTION:(UH) Sawyer vs. (UH) Glynn
END:VALARM
END:VEVENT
BEGIN:VEVENT
UID:denverymca-74054066-20260430T163000@quickscores.com
DTSTAMP:20260425T134100Z
DTSTART;TZID=America/Denver:20260430T163000
DURATION:PT1H0M0S
SUMMARY:Practice: (UH) Sawyer
DESCRIPTION:(central Park/ University Hills Ymca) Spring Basketball League - 10-11y Boys - YMCA of Metropolitan Denver - Youth Sports
LOCATION:University Hills YMCA - Full Court
CATEGORIES:QuickScores, Basketball League Game
TRANSP:OPAQUE
BEGIN:VALARM
TRIGGER:-PT2H
ACTION:DISPLAY
DESCRIPTION:Practice: (UH) Sawyer
END:VALARM
END:VEVENT
BEGIN:VEVENT
UID:denverymca-74226149-20260502T123000@quickscores.com
DTSTAMP:20260425T134100Z
DTSTART;TZID=America/Denver:20260502T123000
DURATION:PT1H0M0S
SUMMARY:(CP) Freeman vs. (UH) Sawyer
DESCRIPTION:Game Location Change --- (central Park/ University Hills Ymca) Spring Basketball League - 10-11y Boys - YMCA of Metropolitan Denver - Youth Sports
LOCATION:Glendale
CATEGORIES:QuickScores, Basketball League Game
TRANSP:OPAQUE
BEGIN:VALARM
TRIGGER:-PT2H
ACTION:DISPLAY
DESCRIPTION:(CP) Freeman vs. (UH) Sawyer
END:VALARM
END:VEVENT
BEGIN:VEVENT
UID:denverymca-74054067-20260507T163000@quickscores.com
DTSTAMP:20260425T134100Z
DTSTART;TZID=America/Denver:20260507T163000
DURATION:PT1H0M0S
SUMMARY:Practice: (UH) Sawyer
DESCRIPTION:(central Park/ University Hills Ymca) Spring Basketball League - 10-11y Boys - YMCA of Metropolitan Denver - Youth Sports
LOCATION:University Hills YMCA - Full Court
CATEGORIES:QuickScores, Basketball League Game
TRANSP:OPAQUE
BEGIN:VALARM
TRIGGER:-PT2H
ACTION:DISPLAY
DESCRIPTION:Practice: (UH) Sawyer
END:VALARM
END:VEVENT
BEGIN:VEVENT
UID:denverymca-74226152-20260509T123000@quickscores.com
DTSTAMP:20260425T134100Z
DTSTART;TZID=America/Denver:20260509T123000
DURATION:PT1H0M0S
SUMMARY:(UH) Sawyer vs. (SW) Wallace
DESCRIPTION:(central Park/ University Hills Ymca) Spring Basketball League - 10-11y Boys - YMCA of Metropolitan Denver - Youth Sports
LOCATION:Southwest YMCA Full Court
CATEGORIES:QuickScores, Basketball League Game
TRANSP:OPAQUE
BEGIN:VALARM
TRIGGER:-PT2H
ACTION:DISPLAY
DESCRIPTION:(UH) Sawyer vs. (SW) Wallace
END:VALARM
END:VEVENT
BEGIN:VEVENT
UID:denverymca-74054068-20260514T163000@quickscores.com
DTSTAMP:20260425T134100Z
DTSTART;TZID=America/Denver:20260514T163000
DURATION:PT1H0M0S
SUMMARY:Practice: (UH) Sawyer
DESCRIPTION:(central Park/ University Hills Ymca) Spring Basketball League - 10-11y Boys - YMCA of Metropolitan Denver - Youth Sports
LOCATION:University Hills YMCA - Full Court
CATEGORIES:QuickScores, Basketball League Game
TRANSP:OPAQUE
BEGIN:VALARM
TRIGGER:-PT2H
ACTION:DISPLAY
DESCRIPTION:Practice: (UH) Sawyer
END:VALARM
END:VEVENT
BEGIN:VEVENT
UID:denverymca-74226155-20260516T123000@quickscores.com
DTSTAMP:20260425T134100Z
DTSTART;TZID=America/Denver:20260516T123000
DURATION:PT1H0M0S
SUMMARY:(UH) Klein vs. (UH) Sawyer
DESCRIPTION:Game Location Change --- (central Park/ University Hills Ymca) Spring Basketball League - 10-11y Boys - YMCA of Metropolitan Denver - Youth Sports
LOCATION:Glendale
CATEGORIES:QuickScores, Basketball League Game
TRANSP:OPAQUE
BEGIN:VALARM
TRIGGER:-PT2H
ACTION:DISPLAY
DESCRIPTION:(UH) Klein vs. (UH) Sawyer
END:VALARM
END:VEVENT
BEGIN:VEVENT
UID:denverymca-74054069-20260521T163000@quickscores.com
DTSTAMP:20260425T134100Z
DTSTART;TZID=America/Denver:20260521T163000
DURATION:PT1H0M0S
SUMMARY:Practice: (UH) Sawyer
DESCRIPTION:(central Park/ University Hills Ymca) Spring Basketball League - 10-11y Boys - YMCA of Metropolitan Denver - Youth Sports
LOCATION:University Hills YMCA - Full Court
CATEGORIES:QuickScores, Basketball League Game
TRANSP:OPAQUE
BEGIN:VALARM
TRIGGER:-PT2H
ACTION:DISPLAY
DESCRIPTION:Practice: (UH) Sawyer
END:VALARM
END:VEVENT
BEGIN:VEVENT
UID:denverymca-74054070-20260528T163000@quickscores.com
DTSTAMP:20260425T134100Z
DTSTART;TZID=America/Denver:20260528T163000
DURATION:PT1H0M0S
SUMMARY:Practice: (UH) Sawyer
DESCRIPTION:(central Park/ University Hills Ymca) Spring Basketball League - 10-11y Boys - YMCA of Metropolitan Denver - Youth Sports
LOCATION:University Hills YMCA - Full Court
CATEGORIES:QuickScores, Basketball League Game
TRANSP:OPAQUE
BEGIN:VALARM
TRIGGER:-PT2H
ACTION:DISPLAY
DESCRIPTION:Practice: (UH) Sawyer
END:VALARM
END:VEVENT
BEGIN:VEVENT
UID:denverymca-74226160-20260530T133000@quickscores.com
DTSTAMP:20260425T134100Z
DTSTART;TZID=America/Denver:20260530T133000
DURATION:PT1H0M0S
SUMMARY:(UH) Sawyer vs. (SW) Wallace
DESCRIPTION:(central Park/ University Hills Ymca) Spring Basketball League - 10-11y Boys - YMCA of Metropolitan Denver - Youth Sports
LOCATION:Southwest YMCA Full Court
CATEGORIES:QuickScores, Basketball League Game
TRANSP:OPAQUE
BEGIN:VALARM
TRIGGER:-PT2H
ACTION:DISPLAY
DESCRIPTION:(UH) Sawyer vs. (SW) Wallace
END:VALARM
END:VEVENT
BEGIN:VEVENT
UID:denverymca-74054071-20260604T163000@quickscores.com
DTSTAMP:20260425T134100Z
DTSTART;TZID=America/Denver:20260604T163000
DURATION:PT1H0M0S
SUMMARY:Practice: (UH) Sawyer
DESCRIPTION:(central Park/ University Hills Ymca) Spring Basketball League - 10-11y Boys - YMCA of Metropolitan Denver - Youth Sports
LOCATION:University Hills YMCA - Full Court
CATEGORIES:QuickScores, Basketball League Game
TRANSP:OPAQUE
BEGIN:VALARM
TRIGGER:-PT2H
ACTION:DISPLAY
DESCRIPTION:Practice: (UH) Sawyer
END:VALARM
END:VEVENT
BEGIN:VEVENT
UID:denverymca-74226161-20260606T100000@quickscores.com
DTSTAMP:20260425T134100Z
DTSTART;TZID=America/Denver:20260606T100000
DURATION:PT1H0M0S
SUMMARY:(UH) Glynn vs. (UH) Sawyer
DESCRIPTION:(central Park/ University Hills Ymca) Spring Basketball League - 10-11y Boys - YMCA of Metropolitan Denver - Youth Sports
LOCATION:Rocky Mountain Prep - Fletcher
CATEGORIES:QuickScores, Basketball League Game
TRANSP:OPAQUE
BEGIN:VALARM
TRIGGER:-PT2H
ACTION:DISPLAY
DESCRIPTION:(UH) Glynn vs. (UH) Sawyer
END:VALARM
END:VEVENT
END:VCALENDAR
