BEGIN:VCALENDAR
VERSION:2.0
PRODID:-//QuickScores.com//BQ Dynamic iCal Creator//EN
METHOD:PUBLISH
X-WR-CALNAME:Team 2 - Steve P - Youth Soccer 1st And 2nd Grade (u8) - Practices - Spring 2026
X-WR-CALDESC:QuickScores game calendar
X-PUBLISHED-TTL:PT24H
REFRESH-INTERVAL;VALUE=DURATION:PT24H
CALSCALE:GREGORIAN
BEGIN:VTIMEZONE
TZID:America/Chicago
X-LIC-LOCATION:America/Chicago
BEGIN:DAYLIGHT
TZNAME:CDT
TZOFFSETFROM:-0600
TZOFFSETTO:-0500
DTSTART:19700308T020000
RRULE:FREQ=YEARLY;BYMONTH=3;BYDAY=2SU
END:DAYLIGHT
BEGIN:STANDARD
TZNAME:CST
TZOFFSETFROM:-0500
TZOFFSETTO:-0600
DTSTART:19701101T020000
RRULE:FREQ=YEARLY;BYMONTH=11;BYDAY=1SU
END:STANDARD
END:VTIMEZONE
BEGIN:VEVENT
UID:csparks-73683764-20260319T173000@quickscores.com
DTSTAMP:20260423T093800Z
DTSTART;TZID=America/Chicago:20260319T173000
DURATION:PT1H0M0S
SUMMARY:Practice: Team 2 - Steve P
DESCRIPTION:Practice Cancel --- Youth Soccer 1st And 2nd Grade (u8) - Practices - Carol Stream Park District
LOCATION:Wheaton Bible Church - Soccer Field 1
CATEGORIES:QuickScores, Facilities Game
TRANSP:OPAQUE
BEGIN:VALARM
TRIGGER:-PT2H
ACTION:DISPLAY
DESCRIPTION:Practice: Team 2 - Steve P
END:VALARM
END:VEVENT
BEGIN:VEVENT
UID:csparks-73842483-20260321T123000@quickscores.com
DTSTAMP:20260423T093800Z
DTSTART;TZID=America/Chicago:20260321T123000
DURATION:PT1H0M0S
SUMMARY:Practice: Team 2 - Steve P
DESCRIPTION:Youth Soccer 1st And 2nd Grade (u8) - Practices - Carol Stream Park District
LOCATION:Fountain View - Court 2
CATEGORIES:QuickScores, Facilities Game
TRANSP:OPAQUE
BEGIN:VALARM
TRIGGER:-PT2H
ACTION:DISPLAY
DESCRIPTION:Practice: Team 2 - Steve P
END:VALARM
END:VEVENT
BEGIN:VEVENT
UID:csparks-73683765-20260326T173000@quickscores.com
DTSTAMP:20260423T093800Z
DTSTART;TZID=America/Chicago:20260326T173000
DURATION:PT1H0M0S
SUMMARY:Practice: Team 2 - Steve P
DESCRIPTION:Youth Soccer 1st And 2nd Grade (u8) - Practices - Carol Stream Park District
LOCATION:Wheaton Bible Church - Soccer Field 1
CATEGORIES:QuickScores, Facilities Game
TRANSP:OPAQUE
BEGIN:VALARM
TRIGGER:-PT2H
ACTION:DISPLAY
DESCRIPTION:Practice: Team 2 - Steve P
END:VALARM
END:VEVENT
BEGIN:VEVENT
UID:csparks-73688643-20260327T180000@quickscores.com
DTSTAMP:20260423T093800Z
DTSTART;TZID=America/Chicago:20260327T180000
DURATION:PT1H0M0S
SUMMARY:Practice: Team 2 - Steve P
DESCRIPTION:Youth Soccer 1st And 2nd Grade (u8) - Practices - Carol Stream Park District
LOCATION:Evergreen - Half Gym - South
CATEGORIES:QuickScores, Facilities Game
TRANSP:OPAQUE
BEGIN:VALARM
TRIGGER:-PT2H
ACTION:DISPLAY
DESCRIPTION:Practice: Team 2 - Steve P
END:VALARM
END:VEVENT
BEGIN:VEVENT
UID:csparks-73683766-20260402T173000@quickscores.com
DTSTAMP:20260423T093800Z
DTSTART;TZID=America/Chicago:20260402T173000
DURATION:PT1H0M0S
SUMMARY:Practice: Team 2 - Steve P
DESCRIPTION:Practice Canceled - Rescheduled to 4/7 --- Youth Soccer 1st And 2nd Grade (u8) - Practices - Carol Stream Park District
LOCATION:Wheaton Bible Church - Soccer Field 1
CATEGORIES:QuickScores, Facilities Game
TRANSP:OPAQUE
BEGIN:VALARM
TRIGGER:-PT2H
ACTION:DISPLAY
DESCRIPTION:Practice: Team 2 - Steve P
END:VALARM
END:VEVENT
BEGIN:VEVENT
UID:csparks-74189458-20260407T180000@quickscores.com
DTSTAMP:20260423T093800Z
DTSTART;TZID=America/Chicago:20260407T180000
DURATION:PT1H0M0S
SUMMARY:Practice: Team 2 - Steve P
DESCRIPTION:Reschedule from 4/2 --- Youth Soccer 1st And 2nd Grade (u8) - Practices - Carol Stream Park District
LOCATION:Simkus - Court 1 (East)
CATEGORIES:QuickScores, Facilities Game
TRANSP:OPAQUE
BEGIN:VALARM
TRIGGER:-PT2H
ACTION:DISPLAY
DESCRIPTION:Practice: Team 2 - Steve P
END:VALARM
END:VEVENT
BEGIN:VEVENT
UID:csparks-73683767-20260409T173000@quickscores.com
DTSTAMP:20260423T093800Z
DTSTART;TZID=America/Chicago:20260409T173000
DURATION:PT1H0M0S
SUMMARY:Practice: Team 2 - Steve P
DESCRIPTION:Canceled --- Youth Soccer 1st And 2nd Grade (u8) - Practices - Carol Stream Park District
LOCATION:Wheaton Bible Church - Soccer Field 1
CATEGORIES:QuickScores, Facilities Game
TRANSP:OPAQUE
BEGIN:VALARM
TRIGGER:-PT2H
ACTION:DISPLAY
DESCRIPTION:Practice: Team 2 - Steve P
END:VALARM
END:VEVENT
BEGIN:VEVENT
UID:csparks-73688644-20260409T190000@quickscores.com
DTSTAMP:20260423T093800Z
DTSTART;TZID=America/Chicago:20260409T190000
DURATION:PT1H0M0S
SUMMARY:Practice: Team 2 - Steve P
DESCRIPTION:Canceled --- Youth Soccer 1st And 2nd Grade (u8) - Practices - Carol Stream Park District
LOCATION:Evergreen - Half Gym - South
CATEGORIES:QuickScores, Facilities Game
TRANSP:OPAQUE
BEGIN:VALARM
TRIGGER:-PT2H
ACTION:DISPLAY
DESCRIPTION:Practice: Team 2 - Steve P
END:VALARM
END:VEVENT
BEGIN:VEVENT
UID:csparks-73683768-20260416T173000@quickscores.com
DTSTAMP:20260423T093800Z
DTSTART;TZID=America/Chicago:20260416T173000
DURATION:PT1H0M0S
SUMMARY:Practice: Team 2 - Steve P
DESCRIPTION:Practice Canceled --- Youth Soccer 1st And 2nd Grade (u8) - Practices - Carol Stream Park District
LOCATION:Wheaton Bible Church - Soccer Field 1
CATEGORIES:QuickScores, Facilities Game
TRANSP:OPAQUE
BEGIN:VALARM
TRIGGER:-PT2H
ACTION:DISPLAY
DESCRIPTION:Practice: Team 2 - Steve P
END:VALARM
END:VEVENT
BEGIN:VEVENT
UID:csparks-73683769-20260423T173000@quickscores.com
DTSTAMP:20260423T093800Z
DTSTART;TZID=America/Chicago:20260423T173000
DURATION:PT1H0M0S
SUMMARY:Practice: Team 2 - Steve P
DESCRIPTION:Youth Soccer 1st And 2nd Grade (u8) - Practices - Carol Stream Park District
LOCATION:Wheaton Bible Church - Soccer Field 1
CATEGORIES:QuickScores, Facilities Game
TRANSP:OPAQUE
BEGIN:VALARM
TRIGGER:-PT2H
ACTION:DISPLAY
DESCRIPTION:Practice: Team 2 - Steve P
END:VALARM
END:VEVENT
BEGIN:VEVENT
UID:csparks-73683770-20260430T173000@quickscores.com
DTSTAMP:20260423T093800Z
DTSTART;TZID=America/Chicago:20260430T173000
DURATION:PT1H0M0S
SUMMARY:Practice: Team 2 - Steve P
DESCRIPTION:Youth Soccer 1st And 2nd Grade (u8) - Practices - Carol Stream Park District
LOCATION:Wheaton Bible Church - Soccer Field 1
CATEGORIES:QuickScores, Facilities Game
TRANSP:OPAQUE
BEGIN:VALARM
TRIGGER:-PT2H
ACTION:DISPLAY
DESCRIPTION:Practice: Team 2 - Steve P
END:VALARM
END:VEVENT
BEGIN:VEVENT
UID:csparks-73683771-20260507T173000@quickscores.com
DTSTAMP:20260423T093800Z
DTSTART;TZID=America/Chicago:20260507T173000
DURATION:PT1H0M0S
SUMMARY:Practice: Team 2 - Steve P
DESCRIPTION:Youth Soccer 1st And 2nd Grade (u8) - Practices - Carol Stream Park District
LOCATION:Wheaton Bible Church - Soccer Field 1
CATEGORIES:QuickScores, Facilities Game
TRANSP:OPAQUE
BEGIN:VALARM
TRIGGER:-PT2H
ACTION:DISPLAY
DESCRIPTION:Practice: Team 2 - Steve P
END:VALARM
END:VEVENT
BEGIN:VEVENT
UID:csparks-73683772-20260514T173000@quickscores.com
DTSTAMP:20260423T093800Z
DTSTART;TZID=America/Chicago:20260514T173000
DURATION:PT1H0M0S
SUMMARY:Practice: Team 2 - Steve P
DESCRIPTION:Youth Soccer 1st And 2nd Grade (u8) - Practices - Carol Stream Park District
LOCATION:Wheaton Bible Church - Soccer Field 1
CATEGORIES:QuickScores, Facilities Game
TRANSP:OPAQUE
BEGIN:VALARM
TRIGGER:-PT2H
ACTION:DISPLAY
DESCRIPTION:Practice: Team 2 - Steve P
END:VALARM
END:VEVENT
BEGIN:VEVENT
UID:csparks-73683773-20260521T173000@quickscores.com
DTSTAMP:20260423T093800Z
DTSTART;TZID=America/Chicago:20260521T173000
DURATION:PT1H0M0S
SUMMARY:Practice: Team 2 - Steve P
DESCRIPTION:Youth Soccer 1st And 2nd Grade (u8) - Practices - Carol Stream Park District
LOCATION:Wheaton Bible Church - Soccer Field 1
CATEGORIES:QuickScores, Facilities Game
TRANSP:OPAQUE
BEGIN:VALARM
TRIGGER:-PT2H
ACTION:DISPLAY
DESCRIPTION:Practice: Team 2 - Steve P
END:VALARM
END:VEVENT
BEGIN:VEVENT
UID:csparks-73683774-20260528T173000@quickscores.com
DTSTAMP:20260423T093800Z
DTSTART;TZID=America/Chicago:20260528T173000
DURATION:PT1H0M0S
SUMMARY:Practice: Team 2 - Steve P
DESCRIPTION:Youth Soccer 1st And 2nd Grade (u8) - Practices - Carol Stream Park District
LOCATION:Wheaton Bible Church - Soccer Field 1
CATEGORIES:QuickScores, Facilities Game
TRANSP:OPAQUE
BEGIN:VALARM
TRIGGER:-PT2H
ACTION:DISPLAY
DESCRIPTION:Practice: Team 2 - Steve P
END:VALARM
END:VEVENT
BEGIN:VEVENT
UID:csparks-73683775-20260604T173000@quickscores.com
DTSTAMP:20260423T093800Z
DTSTART;TZID=America/Chicago:20260604T173000
DURATION:PT1H0M0S
SUMMARY:Practice: Team 2 - Steve P
DESCRIPTION:Youth Soccer 1st And 2nd Grade (u8) - Practices - Carol Stream Park District
LOCATION:Wheaton Bible Church - Soccer Field 1
CATEGORIES:QuickScores, Facilities Game
TRANSP:OPAQUE
BEGIN:VALARM
TRIGGER:-PT2H
ACTION:DISPLAY
DESCRIPTION:Practice: Team 2 - Steve P
END:VALARM
END:VEVENT
BEGIN:VEVENT
UID:csparks-73683776-20260611T173000@quickscores.com
DTSTAMP:20260423T093800Z
DTSTART;TZID=America/Chicago:20260611T173000
DURATION:PT1H0M0S
SUMMARY:Practice: Team 2 - Steve P
DESCRIPTION:Youth Soccer 1st And 2nd Grade (u8) - Practices - Carol Stream Park District
LOCATION:Wheaton Bible Church - Soccer Field 1
CATEGORIES:QuickScores, Facilities Game
TRANSP:OPAQUE
BEGIN:VALARM
TRIGGER:-PT2H
ACTION:DISPLAY
DESCRIPTION:Practice: Team 2 - Steve P
END:VALARM
END:VEVENT
END:VCALENDAR
