BEGIN:VCALENDAR
VERSION:2.0
PRODID:-//QuickScores.com//BQ Dynamic iCal Creator//EN
METHOD:PUBLISH
X-WR-CALNAME:Strikers United- Jason N - Youth Soccer 1st And 2nd Grade (u8) - Practices - Spring 2026
X-WR-CALDESC:QuickScores game calendar
X-PUBLISHED-TTL:PT24H
REFRESH-INTERVAL;VALUE=DURATION:PT24H
CALSCALE:GREGORIAN
BEGIN:VTIMEZONE
TZID:America/Chicago
X-LIC-LOCATION:America/Chicago
BEGIN:DAYLIGHT
TZNAME:CDT
TZOFFSETFROM:-0600
TZOFFSETTO:-0500
DTSTART:19700308T020000
RRULE:FREQ=YEARLY;BYMONTH=3;BYDAY=2SU
END:DAYLIGHT
BEGIN:STANDARD
TZNAME:CST
TZOFFSETFROM:-0500
TZOFFSETTO:-0600
DTSTART:19701101T020000
RRULE:FREQ=YEARLY;BYMONTH=11;BYDAY=1SU
END:STANDARD
END:VTIMEZONE
BEGIN:VEVENT
UID:csparks-73683751-20260318T173000@quickscores.com
DTSTAMP:20260423T164800Z
DTSTART;TZID=America/Chicago:20260318T173000
DURATION:PT1H0M0S
SUMMARY:Practice: Strikers United- Jason N
DESCRIPTION:Practice moved due to weather --- Youth Soccer 1st And 2nd Grade (u8) - Practices - Carol Stream Park District
LOCATION:Simkus - Court 1 (East)
CATEGORIES:QuickScores, Facilities Game
TRANSP:OPAQUE
BEGIN:VALARM
TRIGGER:-PT2H
ACTION:DISPLAY
DESCRIPTION:Practice: Strikers United- Jason N
END:VALARM
END:VEVENT
BEGIN:VEVENT
UID:csparks-73687109-20260321T110000@quickscores.com
DTSTAMP:20260423T164800Z
DTSTART;TZID=America/Chicago:20260321T110000
DURATION:PT1H0M0S
SUMMARY:Practice: Strikers United- Jason N
DESCRIPTION:Youth Soccer 1st And 2nd Grade (u8) - Practices - Carol Stream Park District
LOCATION:Wheaton Bible Church - Soccer Field 1
CATEGORIES:QuickScores, Facilities Game
TRANSP:OPAQUE
BEGIN:VALARM
TRIGGER:-PT2H
ACTION:DISPLAY
DESCRIPTION:Practice: Strikers United- Jason N
END:VALARM
END:VEVENT
BEGIN:VEVENT
UID:csparks-73683752-20260325T173000@quickscores.com
DTSTAMP:20260423T164800Z
DTSTART;TZID=America/Chicago:20260325T173000
DURATION:PT1H0M0S
SUMMARY:Practice: Strikers United- Jason N
DESCRIPTION:Youth Soccer 1st And 2nd Grade (u8) - Practices - Carol Stream Park District
LOCATION:Wheaton Bible Church - Soccer Field 2
CATEGORIES:QuickScores, Facilities Game
TRANSP:OPAQUE
BEGIN:VALARM
TRIGGER:-PT2H
ACTION:DISPLAY
DESCRIPTION:Practice: Strikers United- Jason N
END:VALARM
END:VEVENT
BEGIN:VEVENT
UID:csparks-73687110-20260328T110000@quickscores.com
DTSTAMP:20260423T164800Z
DTSTART;TZID=America/Chicago:20260328T110000
DURATION:PT1H0M0S
SUMMARY:Practice: Strikers United- Jason N
DESCRIPTION:Youth Soccer 1st And 2nd Grade (u8) - Practices - Carol Stream Park District
LOCATION:Wheaton Bible Church - Soccer Field 1
CATEGORIES:QuickScores, Facilities Game
TRANSP:OPAQUE
BEGIN:VALARM
TRIGGER:-PT2H
ACTION:DISPLAY
DESCRIPTION:Practice: Strikers United- Jason N
END:VALARM
END:VEVENT
BEGIN:VEVENT
UID:csparks-73683753-20260401T173000@quickscores.com
DTSTAMP:20260423T164800Z
DTSTART;TZID=America/Chicago:20260401T173000
DURATION:PT1H0M0S
SUMMARY:Practice: Strikers United- Jason N
DESCRIPTION:Youth Soccer 1st And 2nd Grade (u8) - Practices - Carol Stream Park District
LOCATION:Wheaton Bible Church - Soccer Field 2
CATEGORIES:QuickScores, Facilities Game
TRANSP:OPAQUE
BEGIN:VALARM
TRIGGER:-PT2H
ACTION:DISPLAY
DESCRIPTION:Practice: Strikers United- Jason N
END:VALARM
END:VEVENT
BEGIN:VEVENT
UID:csparks-73687111-20260404T110000@quickscores.com
DTSTAMP:20260423T164800Z
DTSTART;TZID=America/Chicago:20260404T110000
DURATION:PT1H0M0S
SUMMARY:Practice: Strikers United- Jason N
DESCRIPTION:Youth Soccer 1st And 2nd Grade (u8) - Practices - Carol Stream Park District
LOCATION:Wheaton Bible Church - Soccer Field 1
CATEGORIES:QuickScores, Facilities Game
TRANSP:OPAQUE
BEGIN:VALARM
TRIGGER:-PT2H
ACTION:DISPLAY
DESCRIPTION:Practice: Strikers United- Jason N
END:VALARM
END:VEVENT
BEGIN:VEVENT
UID:csparks-73683754-20260408T173000@quickscores.com
DTSTAMP:20260423T164800Z
DTSTART;TZID=America/Chicago:20260408T173000
DURATION:PT1H0M0S
SUMMARY:Practice: Strikers United- Jason N
DESCRIPTION:Youth Soccer 1st And 2nd Grade (u8) - Practices - Carol Stream Park District
LOCATION:Wheaton Bible Church - Soccer Field 2
CATEGORIES:QuickScores, Facilities Game
TRANSP:OPAQUE
BEGIN:VALARM
TRIGGER:-PT2H
ACTION:DISPLAY
DESCRIPTION:Practice: Strikers United- Jason N
END:VALARM
END:VEVENT
BEGIN:VEVENT
UID:csparks-73683755-20260415T173000@quickscores.com
DTSTAMP:20260423T164800Z
DTSTART;TZID=America/Chicago:20260415T173000
DURATION:PT1H0M0S
SUMMARY:Practice: Strikers United- Jason N
DESCRIPTION:Moved indoor --- Youth Soccer 1st And 2nd Grade (u8) - Practices - Carol Stream Park District
LOCATION:Simkus - Court 1 (East)
CATEGORIES:QuickScores, Facilities Game
TRANSP:OPAQUE
BEGIN:VALARM
TRIGGER:-PT2H
ACTION:DISPLAY
DESCRIPTION:Practice: Strikers United- Jason N
END:VALARM
END:VEVENT
BEGIN:VEVENT
UID:csparks-73683756-20260422T173000@quickscores.com
DTSTAMP:20260423T164800Z
DTSTART;TZID=America/Chicago:20260422T173000
DURATION:PT1H0M0S
SUMMARY:Practice: Strikers United- Jason N
DESCRIPTION:Youth Soccer 1st And 2nd Grade (u8) - Practices - Carol Stream Park District
LOCATION:Wheaton Bible Church - Soccer Field 2
CATEGORIES:QuickScores, Facilities Game
TRANSP:OPAQUE
BEGIN:VALARM
TRIGGER:-PT2H
ACTION:DISPLAY
DESCRIPTION:Practice: Strikers United- Jason N
END:VALARM
END:VEVENT
BEGIN:VEVENT
UID:csparks-73683757-20260429T173000@quickscores.com
DTSTAMP:20260423T164800Z
DTSTART;TZID=America/Chicago:20260429T173000
DURATION:PT1H0M0S
SUMMARY:Practice: Strikers United- Jason N
DESCRIPTION:Youth Soccer 1st And 2nd Grade (u8) - Practices - Carol Stream Park District
LOCATION:Wheaton Bible Church - Soccer Field 2
CATEGORIES:QuickScores, Facilities Game
TRANSP:OPAQUE
BEGIN:VALARM
TRIGGER:-PT2H
ACTION:DISPLAY
DESCRIPTION:Practice: Strikers United- Jason N
END:VALARM
END:VEVENT
BEGIN:VEVENT
UID:csparks-73683758-20260506T173000@quickscores.com
DTSTAMP:20260423T164800Z
DTSTART;TZID=America/Chicago:20260506T173000
DURATION:PT1H0M0S
SUMMARY:Practice: Strikers United- Jason N
DESCRIPTION:Youth Soccer 1st And 2nd Grade (u8) - Practices - Carol Stream Park District
LOCATION:Wheaton Bible Church - Soccer Field 2
CATEGORIES:QuickScores, Facilities Game
TRANSP:OPAQUE
BEGIN:VALARM
TRIGGER:-PT2H
ACTION:DISPLAY
DESCRIPTION:Practice: Strikers United- Jason N
END:VALARM
END:VEVENT
BEGIN:VEVENT
UID:csparks-73683759-20260513T173000@quickscores.com
DTSTAMP:20260423T164800Z
DTSTART;TZID=America/Chicago:20260513T173000
DURATION:PT1H0M0S
SUMMARY:Practice: Strikers United- Jason N
DESCRIPTION:Youth Soccer 1st And 2nd Grade (u8) - Practices - Carol Stream Park District
LOCATION:Wheaton Bible Church - Soccer Field 2
CATEGORIES:QuickScores, Facilities Game
TRANSP:OPAQUE
BEGIN:VALARM
TRIGGER:-PT2H
ACTION:DISPLAY
DESCRIPTION:Practice: Strikers United- Jason N
END:VALARM
END:VEVENT
BEGIN:VEVENT
UID:csparks-73683760-20260520T173000@quickscores.com
DTSTAMP:20260423T164800Z
DTSTART;TZID=America/Chicago:20260520T173000
DURATION:PT1H0M0S
SUMMARY:Practice: Strikers United- Jason N
DESCRIPTION:Youth Soccer 1st And 2nd Grade (u8) - Practices - Carol Stream Park District
LOCATION:Wheaton Bible Church - Soccer Field 2
CATEGORIES:QuickScores, Facilities Game
TRANSP:OPAQUE
BEGIN:VALARM
TRIGGER:-PT2H
ACTION:DISPLAY
DESCRIPTION:Practice: Strikers United- Jason N
END:VALARM
END:VEVENT
BEGIN:VEVENT
UID:csparks-73683761-20260527T173000@quickscores.com
DTSTAMP:20260423T164800Z
DTSTART;TZID=America/Chicago:20260527T173000
DURATION:PT1H0M0S
SUMMARY:Practice: Strikers United- Jason N
DESCRIPTION:Youth Soccer 1st And 2nd Grade (u8) - Practices - Carol Stream Park District
LOCATION:Wheaton Bible Church - Soccer Field 2
CATEGORIES:QuickScores, Facilities Game
TRANSP:OPAQUE
BEGIN:VALARM
TRIGGER:-PT2H
ACTION:DISPLAY
DESCRIPTION:Practice: Strikers United- Jason N
END:VALARM
END:VEVENT
BEGIN:VEVENT
UID:csparks-73683762-20260603T173000@quickscores.com
DTSTAMP:20260423T164800Z
DTSTART;TZID=America/Chicago:20260603T173000
DURATION:PT1H0M0S
SUMMARY:Practice: Strikers United- Jason N
DESCRIPTION:Youth Soccer 1st And 2nd Grade (u8) - Practices - Carol Stream Park District
LOCATION:Wheaton Bible Church - Soccer Field 2
CATEGORIES:QuickScores, Facilities Game
TRANSP:OPAQUE
BEGIN:VALARM
TRIGGER:-PT2H
ACTION:DISPLAY
DESCRIPTION:Practice: Strikers United- Jason N
END:VALARM
END:VEVENT
BEGIN:VEVENT
UID:csparks-73683763-20260610T173000@quickscores.com
DTSTAMP:20260423T164800Z
DTSTART;TZID=America/Chicago:20260610T173000
DURATION:PT1H0M0S
SUMMARY:Practice: Strikers United- Jason N
DESCRIPTION:Youth Soccer 1st And 2nd Grade (u8) - Practices - Carol Stream Park District
LOCATION:Wheaton Bible Church - Soccer Field 2
CATEGORIES:QuickScores, Facilities Game
TRANSP:OPAQUE
BEGIN:VALARM
TRIGGER:-PT2H
ACTION:DISPLAY
DESCRIPTION:Practice: Strikers United- Jason N
END:VALARM
END:VEVENT
END:VCALENDAR
