BEGIN:VCALENDAR
VERSION:2.0
PRODID:-//QuickScores.com//BQ Dynamic iCal Creator//EN
METHOD:PUBLISH
X-WR-CALNAME:Storm FC - Jessica S - Youth Soccer 1st And 2nd Grade (u8) - Practices - Spring 2026
X-WR-CALDESC:QuickScores game calendar
X-PUBLISHED-TTL:PT24H
REFRESH-INTERVAL;VALUE=DURATION:PT24H
CALSCALE:GREGORIAN
BEGIN:VTIMEZONE
TZID:America/Chicago
X-LIC-LOCATION:America/Chicago
BEGIN:DAYLIGHT
TZNAME:CDT
TZOFFSETFROM:-0600
TZOFFSETTO:-0500
DTSTART:19700308T020000
RRULE:FREQ=YEARLY;BYMONTH=3;BYDAY=2SU
END:DAYLIGHT
BEGIN:STANDARD
TZNAME:CST
TZOFFSETFROM:-0500
TZOFFSETTO:-0600
DTSTART:19701101T020000
RRULE:FREQ=YEARLY;BYMONTH=11;BYDAY=1SU
END:STANDARD
END:VTIMEZONE
BEGIN:VEVENT
UID:csparks-73683738-20260318T180000@quickscores.com
DTSTAMP:20260423T021000Z
DTSTART;TZID=America/Chicago:20260318T180000
DURATION:PT1H0M0S
SUMMARY:Practice: Storm FC - Jessica S
DESCRIPTION:Practice Cancel --- Youth Soccer 1st And 2nd Grade (u8) - Practices - Carol Stream Park District
LOCATION:Wheaton Bible Church - Soccer Field 1
CATEGORIES:QuickScores, Facilities Game
TRANSP:OPAQUE
BEGIN:VALARM
TRIGGER:-PT2H
ACTION:DISPLAY
DESCRIPTION:Practice: Storm FC - Jessica S
END:VALARM
END:VEVENT
BEGIN:VEVENT
UID:csparks-73683739-20260325T180000@quickscores.com
DTSTAMP:20260423T021000Z
DTSTART;TZID=America/Chicago:20260325T180000
DURATION:PT1H0M0S
SUMMARY:Practice: Storm FC - Jessica S
DESCRIPTION:Youth Soccer 1st And 2nd Grade (u8) - Practices - Carol Stream Park District
LOCATION:Wheaton Bible Church - Soccer Field 1
CATEGORIES:QuickScores, Facilities Game
TRANSP:OPAQUE
BEGIN:VALARM
TRIGGER:-PT2H
ACTION:DISPLAY
DESCRIPTION:Practice: Storm FC - Jessica S
END:VALARM
END:VEVENT
BEGIN:VEVENT
UID:csparks-73683740-20260401T180000@quickscores.com
DTSTAMP:20260423T021000Z
DTSTART;TZID=America/Chicago:20260401T180000
DURATION:PT1H0M0S
SUMMARY:Practice: Storm FC - Jessica S
DESCRIPTION:Youth Soccer 1st And 2nd Grade (u8) - Practices - Carol Stream Park District
LOCATION:Wheaton Bible Church - Soccer Field 1
CATEGORIES:QuickScores, Facilities Game
TRANSP:OPAQUE
BEGIN:VALARM
TRIGGER:-PT2H
ACTION:DISPLAY
DESCRIPTION:Practice: Storm FC - Jessica S
END:VALARM
END:VEVENT
BEGIN:VEVENT
UID:csparks-73683741-20260408T180000@quickscores.com
DTSTAMP:20260423T021000Z
DTSTART;TZID=America/Chicago:20260408T180000
DURATION:PT1H0M0S
SUMMARY:Practice: Storm FC - Jessica S
DESCRIPTION:Youth Soccer 1st And 2nd Grade (u8) - Practices - Carol Stream Park District
LOCATION:Wheaton Bible Church - Soccer Field 1
CATEGORIES:QuickScores, Facilities Game
TRANSP:OPAQUE
BEGIN:VALARM
TRIGGER:-PT2H
ACTION:DISPLAY
DESCRIPTION:Practice: Storm FC - Jessica S
END:VALARM
END:VEVENT
BEGIN:VEVENT
UID:csparks-73683742-20260415T183000@quickscores.com
DTSTAMP:20260423T021000Z
DTSTART;TZID=America/Chicago:20260415T183000
DURATION:PT1H0M0S
SUMMARY:Practice: Storm FC - Jessica S
DESCRIPTION:Moved indoor --- Youth Soccer 1st And 2nd Grade (u8) - Practices - Carol Stream Park District
LOCATION:Simkus - Court 1 (East)
CATEGORIES:QuickScores, Facilities Game
TRANSP:OPAQUE
BEGIN:VALARM
TRIGGER:-PT2H
ACTION:DISPLAY
DESCRIPTION:Practice: Storm FC - Jessica S
END:VALARM
END:VEVENT
BEGIN:VEVENT
UID:csparks-73683743-20260422T180000@quickscores.com
DTSTAMP:20260423T021000Z
DTSTART;TZID=America/Chicago:20260422T180000
DURATION:PT1H0M0S
SUMMARY:Practice: Storm FC - Jessica S
DESCRIPTION:Youth Soccer 1st And 2nd Grade (u8) - Practices - Carol Stream Park District
LOCATION:Wheaton Bible Church - Soccer Field 1
CATEGORIES:QuickScores, Facilities Game
TRANSP:OPAQUE
BEGIN:VALARM
TRIGGER:-PT2H
ACTION:DISPLAY
DESCRIPTION:Practice: Storm FC - Jessica S
END:VALARM
END:VEVENT
BEGIN:VEVENT
UID:csparks-73683744-20260429T180000@quickscores.com
DTSTAMP:20260423T021000Z
DTSTART;TZID=America/Chicago:20260429T180000
DURATION:PT1H0M0S
SUMMARY:Practice: Storm FC - Jessica S
DESCRIPTION:Youth Soccer 1st And 2nd Grade (u8) - Practices - Carol Stream Park District
LOCATION:Wheaton Bible Church - Soccer Field 1
CATEGORIES:QuickScores, Facilities Game
TRANSP:OPAQUE
BEGIN:VALARM
TRIGGER:-PT2H
ACTION:DISPLAY
DESCRIPTION:Practice: Storm FC - Jessica S
END:VALARM
END:VEVENT
BEGIN:VEVENT
UID:csparks-73683745-20260506T180000@quickscores.com
DTSTAMP:20260423T021000Z
DTSTART;TZID=America/Chicago:20260506T180000
DURATION:PT1H0M0S
SUMMARY:Practice: Storm FC - Jessica S
DESCRIPTION:Youth Soccer 1st And 2nd Grade (u8) - Practices - Carol Stream Park District
LOCATION:Wheaton Bible Church - Soccer Field 1
CATEGORIES:QuickScores, Facilities Game
TRANSP:OPAQUE
BEGIN:VALARM
TRIGGER:-PT2H
ACTION:DISPLAY
DESCRIPTION:Practice: Storm FC - Jessica S
END:VALARM
END:VEVENT
BEGIN:VEVENT
UID:csparks-73683746-20260513T180000@quickscores.com
DTSTAMP:20260423T021000Z
DTSTART;TZID=America/Chicago:20260513T180000
DURATION:PT1H0M0S
SUMMARY:Practice: Storm FC - Jessica S
DESCRIPTION:Youth Soccer 1st And 2nd Grade (u8) - Practices - Carol Stream Park District
LOCATION:Wheaton Bible Church - Soccer Field 1
CATEGORIES:QuickScores, Facilities Game
TRANSP:OPAQUE
BEGIN:VALARM
TRIGGER:-PT2H
ACTION:DISPLAY
DESCRIPTION:Practice: Storm FC - Jessica S
END:VALARM
END:VEVENT
BEGIN:VEVENT
UID:csparks-73683747-20260520T180000@quickscores.com
DTSTAMP:20260423T021000Z
DTSTART;TZID=America/Chicago:20260520T180000
DURATION:PT1H0M0S
SUMMARY:Practice: Storm FC - Jessica S
DESCRIPTION:Youth Soccer 1st And 2nd Grade (u8) - Practices - Carol Stream Park District
LOCATION:Wheaton Bible Church - Soccer Field 1
CATEGORIES:QuickScores, Facilities Game
TRANSP:OPAQUE
BEGIN:VALARM
TRIGGER:-PT2H
ACTION:DISPLAY
DESCRIPTION:Practice: Storm FC - Jessica S
END:VALARM
END:VEVENT
BEGIN:VEVENT
UID:csparks-73683748-20260527T180000@quickscores.com
DTSTAMP:20260423T021000Z
DTSTART;TZID=America/Chicago:20260527T180000
DURATION:PT1H0M0S
SUMMARY:Practice: Storm FC - Jessica S
DESCRIPTION:Youth Soccer 1st And 2nd Grade (u8) - Practices - Carol Stream Park District
LOCATION:Wheaton Bible Church - Soccer Field 1
CATEGORIES:QuickScores, Facilities Game
TRANSP:OPAQUE
BEGIN:VALARM
TRIGGER:-PT2H
ACTION:DISPLAY
DESCRIPTION:Practice: Storm FC - Jessica S
END:VALARM
END:VEVENT
BEGIN:VEVENT
UID:csparks-73683749-20260603T180000@quickscores.com
DTSTAMP:20260423T021000Z
DTSTART;TZID=America/Chicago:20260603T180000
DURATION:PT1H0M0S
SUMMARY:Practice: Storm FC - Jessica S
DESCRIPTION:Youth Soccer 1st And 2nd Grade (u8) - Practices - Carol Stream Park District
LOCATION:Wheaton Bible Church - Soccer Field 1
CATEGORIES:QuickScores, Facilities Game
TRANSP:OPAQUE
BEGIN:VALARM
TRIGGER:-PT2H
ACTION:DISPLAY
DESCRIPTION:Practice: Storm FC - Jessica S
END:VALARM
END:VEVENT
BEGIN:VEVENT
UID:csparks-73683750-20260610T180000@quickscores.com
DTSTAMP:20260423T021000Z
DTSTART;TZID=America/Chicago:20260610T180000
DURATION:PT1H0M0S
SUMMARY:Practice: Storm FC - Jessica S
DESCRIPTION:Youth Soccer 1st And 2nd Grade (u8) - Practices - Carol Stream Park District
LOCATION:Wheaton Bible Church - Soccer Field 1
CATEGORIES:QuickScores, Facilities Game
TRANSP:OPAQUE
BEGIN:VALARM
TRIGGER:-PT2H
ACTION:DISPLAY
DESCRIPTION:Practice: Storm FC - Jessica S
END:VALARM
END:VEVENT
END:VCALENDAR
