BEGIN:VCALENDAR
VERSION:2.0
PRODID:-//QuickScores.com//BQ Dynamic iCal Creator//EN
METHOD:PUBLISH
X-WR-CALNAME:Team 7 - Anthony C - Youth Soccer 1st And 2nd Grade (u8) - Practices - Spring 2026
X-WR-CALDESC:QuickScores game calendar
X-PUBLISHED-TTL:PT24H
REFRESH-INTERVAL;VALUE=DURATION:PT24H
CALSCALE:GREGORIAN
BEGIN:VTIMEZONE
TZID:America/Chicago
X-LIC-LOCATION:America/Chicago
BEGIN:DAYLIGHT
TZNAME:CDT
TZOFFSETFROM:-0600
TZOFFSETTO:-0500
DTSTART:19700308T020000
RRULE:FREQ=YEARLY;BYMONTH=3;BYDAY=2SU
END:DAYLIGHT
BEGIN:STANDARD
TZNAME:CST
TZOFFSETFROM:-0500
TZOFFSETTO:-0600
DTSTART:19701101T020000
RRULE:FREQ=YEARLY;BYMONTH=11;BYDAY=1SU
END:STANDARD
END:VTIMEZONE
BEGIN:VEVENT
UID:csparks-73683712-20260317T173000@quickscores.com
DTSTAMP:20260423T181000Z
DTSTART;TZID=America/Chicago:20260317T173000
DURATION:PT1H0M0S
SUMMARY:Practice: Team 7 - Anthony C
DESCRIPTION:Youth Soccer 1st And 2nd Grade (u8) - Practices - Carol Stream Park District
LOCATION:Wheaton Bible Church - Soccer Field 2
CATEGORIES:QuickScores, Facilities Game
TRANSP:OPAQUE
BEGIN:VALARM
TRIGGER:-PT2H
ACTION:DISPLAY
DESCRIPTION:Practice: Team 7 - Anthony C
END:VALARM
END:VEVENT
BEGIN:VEVENT
UID:csparks-73688124-20260322T120000@quickscores.com
DTSTAMP:20260423T181000Z
DTSTART;TZID=America/Chicago:20260322T120000
DURATION:PT1H0M0S
SUMMARY:Team 7 - Anthony C vs. Team 7 - Anthony C
DESCRIPTION:Youth Soccer 1st And 2nd Grade (u8) - Practices - Carol Stream Park District
LOCATION:Evergreen - Half Gym - North
CATEGORIES:QuickScores, Facilities Game
TRANSP:OPAQUE
BEGIN:VALARM
TRIGGER:-PT2H
ACTION:DISPLAY
DESCRIPTION:Team 7 - Anthony C vs. Team 7 - Anthony C
END:VALARM
END:VEVENT
BEGIN:VEVENT
UID:csparks-73683713-20260324T173000@quickscores.com
DTSTAMP:20260423T181000Z
DTSTART;TZID=America/Chicago:20260324T173000
DURATION:PT1H0M0S
SUMMARY:Practice: Team 7 - Anthony C
DESCRIPTION:Youth Soccer 1st And 2nd Grade (u8) - Practices - Carol Stream Park District
LOCATION:Wheaton Bible Church - Soccer Field 2
CATEGORIES:QuickScores, Facilities Game
TRANSP:OPAQUE
BEGIN:VALARM
TRIGGER:-PT2H
ACTION:DISPLAY
DESCRIPTION:Practice: Team 7 - Anthony C
END:VALARM
END:VEVENT
BEGIN:VEVENT
UID:csparks-73683714-20260331T173000@quickscores.com
DTSTAMP:20260423T181000Z
DTSTART;TZID=America/Chicago:20260331T173000
DURATION:PT1H0M0S
SUMMARY:Practice: Team 7 - Anthony C
DESCRIPTION:Youth Soccer 1st And 2nd Grade (u8) - Practices - Carol Stream Park District
LOCATION:Wheaton Bible Church - Soccer Field 2
CATEGORIES:QuickScores, Facilities Game
TRANSP:OPAQUE
BEGIN:VALARM
TRIGGER:-PT2H
ACTION:DISPLAY
DESCRIPTION:Practice: Team 7 - Anthony C
END:VALARM
END:VEVENT
BEGIN:VEVENT
UID:csparks-73683715-20260407T173000@quickscores.com
DTSTAMP:20260423T181000Z
DTSTART;TZID=America/Chicago:20260407T173000
DURATION:PT1H0M0S
SUMMARY:Practice: Team 7 - Anthony C
DESCRIPTION:Youth Soccer 1st And 2nd Grade (u8) - Practices - Carol Stream Park District
LOCATION:Wheaton Bible Church - Soccer Field 2
CATEGORIES:QuickScores, Facilities Game
TRANSP:OPAQUE
BEGIN:VALARM
TRIGGER:-PT2H
ACTION:DISPLAY
DESCRIPTION:Practice: Team 7 - Anthony C
END:VALARM
END:VEVENT
BEGIN:VEVENT
UID:csparks-73683716-20260414T173000@quickscores.com
DTSTAMP:20260423T181000Z
DTSTART;TZID=America/Chicago:20260414T173000
DURATION:PT1H0M0S
SUMMARY:Practice: Team 7 - Anthony C
DESCRIPTION:Youth Soccer 1st And 2nd Grade (u8) - Practices - Carol Stream Park District
LOCATION:Wheaton Bible Church - Soccer Field 2
CATEGORIES:QuickScores, Facilities Game
TRANSP:OPAQUE
BEGIN:VALARM
TRIGGER:-PT2H
ACTION:DISPLAY
DESCRIPTION:Practice: Team 7 - Anthony C
END:VALARM
END:VEVENT
BEGIN:VEVENT
UID:csparks-73683717-20260421T173000@quickscores.com
DTSTAMP:20260423T181000Z
DTSTART;TZID=America/Chicago:20260421T173000
DURATION:PT1H0M0S
SUMMARY:Practice: Team 7 - Anthony C
DESCRIPTION:Youth Soccer 1st And 2nd Grade (u8) - Practices - Carol Stream Park District
LOCATION:Wheaton Bible Church - Soccer Field 2
CATEGORIES:QuickScores, Facilities Game
TRANSP:OPAQUE
BEGIN:VALARM
TRIGGER:-PT2H
ACTION:DISPLAY
DESCRIPTION:Practice: Team 7 - Anthony C
END:VALARM
END:VEVENT
BEGIN:VEVENT
UID:csparks-73683718-20260428T173000@quickscores.com
DTSTAMP:20260423T181000Z
DTSTART;TZID=America/Chicago:20260428T173000
DURATION:PT1H0M0S
SUMMARY:Practice: Team 7 - Anthony C
DESCRIPTION:Youth Soccer 1st And 2nd Grade (u8) - Practices - Carol Stream Park District
LOCATION:Wheaton Bible Church - Soccer Field 2
CATEGORIES:QuickScores, Facilities Game
TRANSP:OPAQUE
BEGIN:VALARM
TRIGGER:-PT2H
ACTION:DISPLAY
DESCRIPTION:Practice: Team 7 - Anthony C
END:VALARM
END:VEVENT
BEGIN:VEVENT
UID:csparks-73683719-20260505T173000@quickscores.com
DTSTAMP:20260423T181000Z
DTSTART;TZID=America/Chicago:20260505T173000
DURATION:PT1H0M0S
SUMMARY:Practice: Team 7 - Anthony C
DESCRIPTION:Youth Soccer 1st And 2nd Grade (u8) - Practices - Carol Stream Park District
LOCATION:Wheaton Bible Church - Soccer Field 2
CATEGORIES:QuickScores, Facilities Game
TRANSP:OPAQUE
BEGIN:VALARM
TRIGGER:-PT2H
ACTION:DISPLAY
DESCRIPTION:Practice: Team 7 - Anthony C
END:VALARM
END:VEVENT
BEGIN:VEVENT
UID:csparks-73683720-20260512T173000@quickscores.com
DTSTAMP:20260423T181000Z
DTSTART;TZID=America/Chicago:20260512T173000
DURATION:PT1H0M0S
SUMMARY:Practice: Team 7 - Anthony C
DESCRIPTION:Youth Soccer 1st And 2nd Grade (u8) - Practices - Carol Stream Park District
LOCATION:Wheaton Bible Church - Soccer Field 2
CATEGORIES:QuickScores, Facilities Game
TRANSP:OPAQUE
BEGIN:VALARM
TRIGGER:-PT2H
ACTION:DISPLAY
DESCRIPTION:Practice: Team 7 - Anthony C
END:VALARM
END:VEVENT
BEGIN:VEVENT
UID:csparks-73683721-20260519T173000@quickscores.com
DTSTAMP:20260423T181000Z
DTSTART;TZID=America/Chicago:20260519T173000
DURATION:PT1H0M0S
SUMMARY:Practice: Team 7 - Anthony C
DESCRIPTION:Youth Soccer 1st And 2nd Grade (u8) - Practices - Carol Stream Park District
LOCATION:Wheaton Bible Church - Soccer Field 2
CATEGORIES:QuickScores, Facilities Game
TRANSP:OPAQUE
BEGIN:VALARM
TRIGGER:-PT2H
ACTION:DISPLAY
DESCRIPTION:Practice: Team 7 - Anthony C
END:VALARM
END:VEVENT
BEGIN:VEVENT
UID:csparks-73683722-20260526T173000@quickscores.com
DTSTAMP:20260423T181000Z
DTSTART;TZID=America/Chicago:20260526T173000
DURATION:PT1H0M0S
SUMMARY:Practice: Team 7 - Anthony C
DESCRIPTION:Youth Soccer 1st And 2nd Grade (u8) - Practices - Carol Stream Park District
LOCATION:Wheaton Bible Church - Soccer Field 2
CATEGORIES:QuickScores, Facilities Game
TRANSP:OPAQUE
BEGIN:VALARM
TRIGGER:-PT2H
ACTION:DISPLAY
DESCRIPTION:Practice: Team 7 - Anthony C
END:VALARM
END:VEVENT
BEGIN:VEVENT
UID:csparks-73683723-20260602T173000@quickscores.com
DTSTAMP:20260423T181000Z
DTSTART;TZID=America/Chicago:20260602T173000
DURATION:PT1H0M0S
SUMMARY:Practice: Team 7 - Anthony C
DESCRIPTION:Youth Soccer 1st And 2nd Grade (u8) - Practices - Carol Stream Park District
LOCATION:Wheaton Bible Church - Soccer Field 2
CATEGORIES:QuickScores, Facilities Game
TRANSP:OPAQUE
BEGIN:VALARM
TRIGGER:-PT2H
ACTION:DISPLAY
DESCRIPTION:Practice: Team 7 - Anthony C
END:VALARM
END:VEVENT
BEGIN:VEVENT
UID:csparks-73683724-20260609T173000@quickscores.com
DTSTAMP:20260423T181000Z
DTSTART;TZID=America/Chicago:20260609T173000
DURATION:PT1H0M0S
SUMMARY:Practice: Team 7 - Anthony C
DESCRIPTION:Youth Soccer 1st And 2nd Grade (u8) - Practices - Carol Stream Park District
LOCATION:Wheaton Bible Church - Soccer Field 2
CATEGORIES:QuickScores, Facilities Game
TRANSP:OPAQUE
BEGIN:VALARM
TRIGGER:-PT2H
ACTION:DISPLAY
DESCRIPTION:Practice: Team 7 - Anthony C
END:VALARM
END:VEVENT
END:VCALENDAR
