BEGIN:VCALENDAR
VERSION:2.0
PRODID:-//QuickScores.com//BQ Dynamic iCal Creator//EN
METHOD:PUBLISH
X-WR-CALNAME:Team 6 - Juan C - Youth Soccer 1st And 2nd Grade (u8) - Practices - Spring 2026
X-WR-CALDESC:QuickScores game calendar
X-PUBLISHED-TTL:PT24H
REFRESH-INTERVAL;VALUE=DURATION:PT24H
CALSCALE:GREGORIAN
BEGIN:VTIMEZONE
TZID:America/Chicago
X-LIC-LOCATION:America/Chicago
BEGIN:DAYLIGHT
TZNAME:CDT
TZOFFSETFROM:-0600
TZOFFSETTO:-0500
DTSTART:19700308T020000
RRULE:FREQ=YEARLY;BYMONTH=3;BYDAY=2SU
END:DAYLIGHT
BEGIN:STANDARD
TZNAME:CST
TZOFFSETFROM:-0500
TZOFFSETTO:-0600
DTSTART:19701101T020000
RRULE:FREQ=YEARLY;BYMONTH=11;BYDAY=1SU
END:STANDARD
END:VTIMEZONE
BEGIN:VEVENT
UID:csparks-73683725-20260319T180000@quickscores.com
DTSTAMP:20260424T221800Z
DTSTART;TZID=America/Chicago:20260319T180000
DURATION:PT1H0M0S
SUMMARY:Practice: Team 6 - Juan C
DESCRIPTION:Practice Cancel --- Youth Soccer 1st And 2nd Grade (u8) - Practices - Carol Stream Park District
LOCATION:Wheaton Bible Church - Soccer Field 2
CATEGORIES:QuickScores, Facilities Game
TRANSP:OPAQUE
BEGIN:VALARM
TRIGGER:-PT2H
ACTION:DISPLAY
DESCRIPTION:Practice: Team 6 - Juan C
END:VALARM
END:VEVENT
BEGIN:VEVENT
UID:csparks-73847561-20260321T103000@quickscores.com
DTSTAMP:20260424T221800Z
DTSTART;TZID=America/Chicago:20260321T103000
DURATION:PT1H0M0S
SUMMARY:Practice: Team 6 - Juan C
DESCRIPTION:Practice added --- Youth Soccer 1st And 2nd Grade (u8) - Practices - Carol Stream Park District
LOCATION:Simkus - Court 2 (West)
CATEGORIES:QuickScores, Facilities Game
TRANSP:OPAQUE
BEGIN:VALARM
TRIGGER:-PT2H
ACTION:DISPLAY
DESCRIPTION:Practice: Team 6 - Juan C
END:VALARM
END:VEVENT
BEGIN:VEVENT
UID:csparks-73683726-20260326T180000@quickscores.com
DTSTAMP:20260424T221800Z
DTSTART;TZID=America/Chicago:20260326T180000
DURATION:PT1H0M0S
SUMMARY:Practice: Team 6 - Juan C
DESCRIPTION:Youth Soccer 1st And 2nd Grade (u8) - Practices - Carol Stream Park District
LOCATION:Wheaton Bible Church - Soccer Field 2
CATEGORIES:QuickScores, Facilities Game
TRANSP:OPAQUE
BEGIN:VALARM
TRIGGER:-PT2H
ACTION:DISPLAY
DESCRIPTION:Practice: Team 6 - Juan C
END:VALARM
END:VEVENT
BEGIN:VEVENT
UID:csparks-74028751-20260329T100000@quickscores.com
DTSTAMP:20260424T221800Z
DTSTART;TZID=America/Chicago:20260329T100000
DURATION:PT1H0M0S
SUMMARY:Practice: Team 6 - Juan C
DESCRIPTION:Youth Soccer 1st And 2nd Grade (u8) - Practices - Carol Stream Park District
LOCATION:Evergreen - Half Gym - South
CATEGORIES:QuickScores, Facilities Game
TRANSP:OPAQUE
BEGIN:VALARM
TRIGGER:-PT2H
ACTION:DISPLAY
DESCRIPTION:Practice: Team 6 - Juan C
END:VALARM
END:VEVENT
BEGIN:VEVENT
UID:csparks-73683727-20260402T180000@quickscores.com
DTSTAMP:20260424T221800Z
DTSTART;TZID=America/Chicago:20260402T180000
DURATION:PT1H0M0S
SUMMARY:Practice: Team 6 - Juan C
DESCRIPTION:Youth Soccer 1st And 2nd Grade (u8) - Practices - Carol Stream Park District
LOCATION:Wheaton Bible Church - Soccer Field 2
CATEGORIES:QuickScores, Facilities Game
TRANSP:OPAQUE
BEGIN:VALARM
TRIGGER:-PT2H
ACTION:DISPLAY
DESCRIPTION:Practice: Team 6 - Juan C
END:VALARM
END:VEVENT
BEGIN:VEVENT
UID:csparks-74192387-20260407T190000@quickscores.com
DTSTAMP:20260424T221800Z
DTSTART;TZID=America/Chicago:20260407T190000
DURATION:PT1H0M0S
SUMMARY:Practice: Team 6 - Juan C
DESCRIPTION:Youth Soccer 1st And 2nd Grade (u8) - Practices - Carol Stream Park District
LOCATION:Evergreen - Half Gym - North
CATEGORIES:QuickScores, Facilities Game
TRANSP:OPAQUE
BEGIN:VALARM
TRIGGER:-PT2H
ACTION:DISPLAY
DESCRIPTION:Practice: Team 6 - Juan C
END:VALARM
END:VEVENT
BEGIN:VEVENT
UID:csparks-73683728-20260409T180000@quickscores.com
DTSTAMP:20260424T221800Z
DTSTART;TZID=America/Chicago:20260409T180000
DURATION:PT1H0M0S
SUMMARY:Practice: Team 6 - Juan C
DESCRIPTION:Youth Soccer 1st And 2nd Grade (u8) - Practices - Carol Stream Park District
LOCATION:Wheaton Bible Church - Soccer Field 2
CATEGORIES:QuickScores, Facilities Game
TRANSP:OPAQUE
BEGIN:VALARM
TRIGGER:-PT2H
ACTION:DISPLAY
DESCRIPTION:Practice: Team 6 - Juan C
END:VALARM
END:VEVENT
BEGIN:VEVENT
UID:csparks-73683729-20260416T180000@quickscores.com
DTSTAMP:20260424T221800Z
DTSTART;TZID=America/Chicago:20260416T180000
DURATION:PT1H0M0S
SUMMARY:Practice: Team 6 - Juan C
DESCRIPTION:Practice Canceled --- Youth Soccer 1st And 2nd Grade (u8) - Practices - Carol Stream Park District
LOCATION:Wheaton Bible Church - Soccer Field 2
CATEGORIES:QuickScores, Facilities Game
TRANSP:OPAQUE
BEGIN:VALARM
TRIGGER:-PT2H
ACTION:DISPLAY
DESCRIPTION:Practice: Team 6 - Juan C
END:VALARM
END:VEVENT
BEGIN:VEVENT
UID:csparks-73683730-20260423T180000@quickscores.com
DTSTAMP:20260424T221800Z
DTSTART;TZID=America/Chicago:20260423T180000
DURATION:PT1H0M0S
SUMMARY:Practice: Team 6 - Juan C
DESCRIPTION:Youth Soccer 1st And 2nd Grade (u8) - Practices - Carol Stream Park District
LOCATION:Wheaton Bible Church - Soccer Field 2
CATEGORIES:QuickScores, Facilities Game
TRANSP:OPAQUE
BEGIN:VALARM
TRIGGER:-PT2H
ACTION:DISPLAY
DESCRIPTION:Practice: Team 6 - Juan C
END:VALARM
END:VEVENT
BEGIN:VEVENT
UID:csparks-73683731-20260430T180000@quickscores.com
DTSTAMP:20260424T221800Z
DTSTART;TZID=America/Chicago:20260430T180000
DURATION:PT1H0M0S
SUMMARY:Practice: Team 6 - Juan C
DESCRIPTION:Youth Soccer 1st And 2nd Grade (u8) - Practices - Carol Stream Park District
LOCATION:Wheaton Bible Church - Soccer Field 2
CATEGORIES:QuickScores, Facilities Game
TRANSP:OPAQUE
BEGIN:VALARM
TRIGGER:-PT2H
ACTION:DISPLAY
DESCRIPTION:Practice: Team 6 - Juan C
END:VALARM
END:VEVENT
BEGIN:VEVENT
UID:csparks-73683732-20260507T180000@quickscores.com
DTSTAMP:20260424T221800Z
DTSTART;TZID=America/Chicago:20260507T180000
DURATION:PT1H0M0S
SUMMARY:Practice: Team 6 - Juan C
DESCRIPTION:Youth Soccer 1st And 2nd Grade (u8) - Practices - Carol Stream Park District
LOCATION:Wheaton Bible Church - Soccer Field 2
CATEGORIES:QuickScores, Facilities Game
TRANSP:OPAQUE
BEGIN:VALARM
TRIGGER:-PT2H
ACTION:DISPLAY
DESCRIPTION:Practice: Team 6 - Juan C
END:VALARM
END:VEVENT
BEGIN:VEVENT
UID:csparks-73683733-20260514T180000@quickscores.com
DTSTAMP:20260424T221800Z
DTSTART;TZID=America/Chicago:20260514T180000
DURATION:PT1H0M0S
SUMMARY:Practice: Team 6 - Juan C
DESCRIPTION:Youth Soccer 1st And 2nd Grade (u8) - Practices - Carol Stream Park District
LOCATION:Wheaton Bible Church - Soccer Field 2
CATEGORIES:QuickScores, Facilities Game
TRANSP:OPAQUE
BEGIN:VALARM
TRIGGER:-PT2H
ACTION:DISPLAY
DESCRIPTION:Practice: Team 6 - Juan C
END:VALARM
END:VEVENT
BEGIN:VEVENT
UID:csparks-73683734-20260521T180000@quickscores.com
DTSTAMP:20260424T221800Z
DTSTART;TZID=America/Chicago:20260521T180000
DURATION:PT1H0M0S
SUMMARY:Practice: Team 6 - Juan C
DESCRIPTION:Youth Soccer 1st And 2nd Grade (u8) - Practices - Carol Stream Park District
LOCATION:Wheaton Bible Church - Soccer Field 2
CATEGORIES:QuickScores, Facilities Game
TRANSP:OPAQUE
BEGIN:VALARM
TRIGGER:-PT2H
ACTION:DISPLAY
DESCRIPTION:Practice: Team 6 - Juan C
END:VALARM
END:VEVENT
BEGIN:VEVENT
UID:csparks-73683735-20260528T180000@quickscores.com
DTSTAMP:20260424T221800Z
DTSTART;TZID=America/Chicago:20260528T180000
DURATION:PT1H0M0S
SUMMARY:Practice: Team 6 - Juan C
DESCRIPTION:Youth Soccer 1st And 2nd Grade (u8) - Practices - Carol Stream Park District
LOCATION:Wheaton Bible Church - Soccer Field 2
CATEGORIES:QuickScores, Facilities Game
TRANSP:OPAQUE
BEGIN:VALARM
TRIGGER:-PT2H
ACTION:DISPLAY
DESCRIPTION:Practice: Team 6 - Juan C
END:VALARM
END:VEVENT
BEGIN:VEVENT
UID:csparks-73683736-20260604T180000@quickscores.com
DTSTAMP:20260424T221800Z
DTSTART;TZID=America/Chicago:20260604T180000
DURATION:PT1H0M0S
SUMMARY:Practice: Team 6 - Juan C
DESCRIPTION:Youth Soccer 1st And 2nd Grade (u8) - Practices - Carol Stream Park District
LOCATION:Wheaton Bible Church - Soccer Field 2
CATEGORIES:QuickScores, Facilities Game
TRANSP:OPAQUE
BEGIN:VALARM
TRIGGER:-PT2H
ACTION:DISPLAY
DESCRIPTION:Practice: Team 6 - Juan C
END:VALARM
END:VEVENT
BEGIN:VEVENT
UID:csparks-73683737-20260611T180000@quickscores.com
DTSTAMP:20260424T221800Z
DTSTART;TZID=America/Chicago:20260611T180000
DURATION:PT1H0M0S
SUMMARY:Practice: Team 6 - Juan C
DESCRIPTION:Youth Soccer 1st And 2nd Grade (u8) - Practices - Carol Stream Park District
LOCATION:Wheaton Bible Church - Soccer Field 2
CATEGORIES:QuickScores, Facilities Game
TRANSP:OPAQUE
BEGIN:VALARM
TRIGGER:-PT2H
ACTION:DISPLAY
DESCRIPTION:Practice: Team 6 - Juan C
END:VALARM
END:VEVENT
END:VCALENDAR
