BEGIN:VCALENDAR
VERSION:2.0
PRODID:-//QuickScores.com//BQ Dynamic iCal Creator//EN
METHOD:PUBLISH
X-WR-CALNAME:Team 5 - Martin M - Youth Soccer 1st And 2nd Grade (u8) - Practices - Spring 2026
X-WR-CALDESC:QuickScores game calendar
X-PUBLISHED-TTL:PT24H
REFRESH-INTERVAL;VALUE=DURATION:PT24H
CALSCALE:GREGORIAN
BEGIN:VTIMEZONE
TZID:America/Chicago
X-LIC-LOCATION:America/Chicago
BEGIN:DAYLIGHT
TZNAME:CDT
TZOFFSETFROM:-0600
TZOFFSETTO:-0500
DTSTART:19700308T020000
RRULE:FREQ=YEARLY;BYMONTH=3;BYDAY=2SU
END:DAYLIGHT
BEGIN:STANDARD
TZNAME:CST
TZOFFSETFROM:-0500
TZOFFSETTO:-0600
DTSTART:19701101T020000
RRULE:FREQ=YEARLY;BYMONTH=11;BYDAY=1SU
END:STANDARD
END:VTIMEZONE
BEGIN:VEVENT
UID:csparks-73683699-20260317T180000@quickscores.com
DTSTAMP:20260423T111200Z
DTSTART;TZID=America/Chicago:20260317T180000
DURATION:PT1H0M0S
SUMMARY:Practice: Team 5 - Martin M
DESCRIPTION:Youth Soccer 1st And 2nd Grade (u8) - Practices - Carol Stream Park District
LOCATION:Wheaton Bible Church - Soccer Field 1
CATEGORIES:QuickScores, Facilities Game
TRANSP:OPAQUE
BEGIN:VALARM
TRIGGER:-PT2H
ACTION:DISPLAY
DESCRIPTION:Practice: Team 5 - Martin M
END:VALARM
END:VEVENT
BEGIN:VEVENT
UID:csparks-73687112-20260321T120000@quickscores.com
DTSTAMP:20260423T111200Z
DTSTART;TZID=America/Chicago:20260321T120000
DURATION:PT1H0M0S
SUMMARY:Practice: Team 5 - Martin M
DESCRIPTION:Youth Soccer 1st And 2nd Grade (u8) - Practices - Carol Stream Park District
LOCATION:Wheaton Bible Church - Soccer Field 1
CATEGORIES:QuickScores, Facilities Game
TRANSP:OPAQUE
BEGIN:VALARM
TRIGGER:-PT2H
ACTION:DISPLAY
DESCRIPTION:Practice: Team 5 - Martin M
END:VALARM
END:VEVENT
BEGIN:VEVENT
UID:csparks-73683700-20260324T180000@quickscores.com
DTSTAMP:20260423T111200Z
DTSTART;TZID=America/Chicago:20260324T180000
DURATION:PT1H0M0S
SUMMARY:Practice: Team 5 - Martin M
DESCRIPTION:Youth Soccer 1st And 2nd Grade (u8) - Practices - Carol Stream Park District
LOCATION:Wheaton Bible Church - Soccer Field 1
CATEGORIES:QuickScores, Facilities Game
TRANSP:OPAQUE
BEGIN:VALARM
TRIGGER:-PT2H
ACTION:DISPLAY
DESCRIPTION:Practice: Team 5 - Martin M
END:VALARM
END:VEVENT
BEGIN:VEVENT
UID:csparks-73687113-20260328T120000@quickscores.com
DTSTAMP:20260423T111200Z
DTSTART;TZID=America/Chicago:20260328T120000
DURATION:PT1H0M0S
SUMMARY:Practice: Team 5 - Martin M
DESCRIPTION:Youth Soccer 1st And 2nd Grade (u8) - Practices - Carol Stream Park District
LOCATION:Wheaton Bible Church - Soccer Field 1
CATEGORIES:QuickScores, Facilities Game
TRANSP:OPAQUE
BEGIN:VALARM
TRIGGER:-PT2H
ACTION:DISPLAY
DESCRIPTION:Practice: Team 5 - Martin M
END:VALARM
END:VEVENT
BEGIN:VEVENT
UID:csparks-73688177-20260329T120000@quickscores.com
DTSTAMP:20260423T111200Z
DTSTART;TZID=America/Chicago:20260329T120000
DURATION:PT1H0M0S
SUMMARY:Practice: Team 5 - Martin M
DESCRIPTION:Youth Soccer 1st And 2nd Grade (u8) - Practices - Carol Stream Park District
LOCATION:Evergreen - Half Gym - North
CATEGORIES:QuickScores, Facilities Game
TRANSP:OPAQUE
BEGIN:VALARM
TRIGGER:-PT2H
ACTION:DISPLAY
DESCRIPTION:Practice: Team 5 - Martin M
END:VALARM
END:VEVENT
BEGIN:VEVENT
UID:csparks-73683701-20260331T180000@quickscores.com
DTSTAMP:20260423T111200Z
DTSTART;TZID=America/Chicago:20260331T180000
DURATION:PT1H0M0S
SUMMARY:Practice: Team 5 - Martin M
DESCRIPTION:Youth Soccer 1st And 2nd Grade (u8) - Practices - Carol Stream Park District
LOCATION:Wheaton Bible Church - Soccer Field 1
CATEGORIES:QuickScores, Facilities Game
TRANSP:OPAQUE
BEGIN:VALARM
TRIGGER:-PT2H
ACTION:DISPLAY
DESCRIPTION:Practice: Team 5 - Martin M
END:VALARM
END:VEVENT
BEGIN:VEVENT
UID:csparks-73687114-20260404T120000@quickscores.com
DTSTAMP:20260423T111200Z
DTSTART;TZID=America/Chicago:20260404T120000
DURATION:PT1H0M0S
SUMMARY:Practice: Team 5 - Martin M
DESCRIPTION:Youth Soccer 1st And 2nd Grade (u8) - Practices - Carol Stream Park District
LOCATION:Wheaton Bible Church - Soccer Field 1
CATEGORIES:QuickScores, Facilities Game
TRANSP:OPAQUE
BEGIN:VALARM
TRIGGER:-PT2H
ACTION:DISPLAY
DESCRIPTION:Practice: Team 5 - Martin M
END:VALARM
END:VEVENT
BEGIN:VEVENT
UID:csparks-73683702-20260407T180000@quickscores.com
DTSTAMP:20260423T111200Z
DTSTART;TZID=America/Chicago:20260407T180000
DURATION:PT1H0M0S
SUMMARY:Practice: Team 5 - Martin M
DESCRIPTION:Youth Soccer 1st And 2nd Grade (u8) - Practices - Carol Stream Park District
LOCATION:Wheaton Bible Church - Soccer Field 1
CATEGORIES:QuickScores, Facilities Game
TRANSP:OPAQUE
BEGIN:VALARM
TRIGGER:-PT2H
ACTION:DISPLAY
DESCRIPTION:Practice: Team 5 - Martin M
END:VALARM
END:VEVENT
BEGIN:VEVENT
UID:csparks-74287308-20260410T180000@quickscores.com
DTSTAMP:20260423T111200Z
DTSTART;TZID=America/Chicago:20260410T180000
DURATION:PT1H0M0S
SUMMARY:Practice: Team 5 - Martin M
DESCRIPTION:Youth Soccer 1st And 2nd Grade (u8) - Practices - Carol Stream Park District
LOCATION:Wheaton Bible Church - Soccer Field 2
CATEGORIES:QuickScores, Facilities Game
TRANSP:OPAQUE
BEGIN:VALARM
TRIGGER:-PT2H
ACTION:DISPLAY
DESCRIPTION:Practice: Team 5 - Martin M
END:VALARM
END:VEVENT
BEGIN:VEVENT
UID:csparks-73683703-20260414T180000@quickscores.com
DTSTAMP:20260423T111200Z
DTSTART;TZID=America/Chicago:20260414T180000
DURATION:PT1H0M0S
SUMMARY:Practice: Team 5 - Martin M
DESCRIPTION:Youth Soccer 1st And 2nd Grade (u8) - Practices - Carol Stream Park District
LOCATION:Wheaton Bible Church - Soccer Field 1
CATEGORIES:QuickScores, Facilities Game
TRANSP:OPAQUE
BEGIN:VALARM
TRIGGER:-PT2H
ACTION:DISPLAY
DESCRIPTION:Practice: Team 5 - Martin M
END:VALARM
END:VEVENT
BEGIN:VEVENT
UID:csparks-73683704-20260421T180000@quickscores.com
DTSTAMP:20260423T111200Z
DTSTART;TZID=America/Chicago:20260421T180000
DURATION:PT1H0M0S
SUMMARY:Practice: Team 5 - Martin M
DESCRIPTION:Youth Soccer 1st And 2nd Grade (u8) - Practices - Carol Stream Park District
LOCATION:Wheaton Bible Church - Soccer Field 1
CATEGORIES:QuickScores, Facilities Game
TRANSP:OPAQUE
BEGIN:VALARM
TRIGGER:-PT2H
ACTION:DISPLAY
DESCRIPTION:Practice: Team 5 - Martin M
END:VALARM
END:VEVENT
BEGIN:VEVENT
UID:csparks-73683705-20260428T180000@quickscores.com
DTSTAMP:20260423T111200Z
DTSTART;TZID=America/Chicago:20260428T180000
DURATION:PT1H0M0S
SUMMARY:Practice: Team 5 - Martin M
DESCRIPTION:Youth Soccer 1st And 2nd Grade (u8) - Practices - Carol Stream Park District
LOCATION:Wheaton Bible Church - Soccer Field 1
CATEGORIES:QuickScores, Facilities Game
TRANSP:OPAQUE
BEGIN:VALARM
TRIGGER:-PT2H
ACTION:DISPLAY
DESCRIPTION:Practice: Team 5 - Martin M
END:VALARM
END:VEVENT
BEGIN:VEVENT
UID:csparks-73683706-20260505T180000@quickscores.com
DTSTAMP:20260423T111200Z
DTSTART;TZID=America/Chicago:20260505T180000
DURATION:PT1H0M0S
SUMMARY:Practice: Team 5 - Martin M
DESCRIPTION:Youth Soccer 1st And 2nd Grade (u8) - Practices - Carol Stream Park District
LOCATION:Wheaton Bible Church - Soccer Field 1
CATEGORIES:QuickScores, Facilities Game
TRANSP:OPAQUE
BEGIN:VALARM
TRIGGER:-PT2H
ACTION:DISPLAY
DESCRIPTION:Practice: Team 5 - Martin M
END:VALARM
END:VEVENT
BEGIN:VEVENT
UID:csparks-73683707-20260512T180000@quickscores.com
DTSTAMP:20260423T111200Z
DTSTART;TZID=America/Chicago:20260512T180000
DURATION:PT1H0M0S
SUMMARY:Practice: Team 5 - Martin M
DESCRIPTION:Youth Soccer 1st And 2nd Grade (u8) - Practices - Carol Stream Park District
LOCATION:Wheaton Bible Church - Soccer Field 1
CATEGORIES:QuickScores, Facilities Game
TRANSP:OPAQUE
BEGIN:VALARM
TRIGGER:-PT2H
ACTION:DISPLAY
DESCRIPTION:Practice: Team 5 - Martin M
END:VALARM
END:VEVENT
BEGIN:VEVENT
UID:csparks-73683708-20260519T180000@quickscores.com
DTSTAMP:20260423T111200Z
DTSTART;TZID=America/Chicago:20260519T180000
DURATION:PT1H0M0S
SUMMARY:Practice: Team 5 - Martin M
DESCRIPTION:Youth Soccer 1st And 2nd Grade (u8) - Practices - Carol Stream Park District
LOCATION:Wheaton Bible Church - Soccer Field 1
CATEGORIES:QuickScores, Facilities Game
TRANSP:OPAQUE
BEGIN:VALARM
TRIGGER:-PT2H
ACTION:DISPLAY
DESCRIPTION:Practice: Team 5 - Martin M
END:VALARM
END:VEVENT
BEGIN:VEVENT
UID:csparks-73683709-20260526T180000@quickscores.com
DTSTAMP:20260423T111200Z
DTSTART;TZID=America/Chicago:20260526T180000
DURATION:PT1H0M0S
SUMMARY:Practice: Team 5 - Martin M
DESCRIPTION:Youth Soccer 1st And 2nd Grade (u8) - Practices - Carol Stream Park District
LOCATION:Wheaton Bible Church - Soccer Field 1
CATEGORIES:QuickScores, Facilities Game
TRANSP:OPAQUE
BEGIN:VALARM
TRIGGER:-PT2H
ACTION:DISPLAY
DESCRIPTION:Practice: Team 5 - Martin M
END:VALARM
END:VEVENT
BEGIN:VEVENT
UID:csparks-73683710-20260602T180000@quickscores.com
DTSTAMP:20260423T111200Z
DTSTART;TZID=America/Chicago:20260602T180000
DURATION:PT1H0M0S
SUMMARY:Practice: Team 5 - Martin M
DESCRIPTION:Youth Soccer 1st And 2nd Grade (u8) - Practices - Carol Stream Park District
LOCATION:Wheaton Bible Church - Soccer Field 1
CATEGORIES:QuickScores, Facilities Game
TRANSP:OPAQUE
BEGIN:VALARM
TRIGGER:-PT2H
ACTION:DISPLAY
DESCRIPTION:Practice: Team 5 - Martin M
END:VALARM
END:VEVENT
BEGIN:VEVENT
UID:csparks-73683711-20260609T180000@quickscores.com
DTSTAMP:20260423T111200Z
DTSTART;TZID=America/Chicago:20260609T180000
DURATION:PT1H0M0S
SUMMARY:Practice: Team 5 - Martin M
DESCRIPTION:Youth Soccer 1st And 2nd Grade (u8) - Practices - Carol Stream Park District
LOCATION:Wheaton Bible Church - Soccer Field 1
CATEGORIES:QuickScores, Facilities Game
TRANSP:OPAQUE
BEGIN:VALARM
TRIGGER:-PT2H
ACTION:DISPLAY
DESCRIPTION:Practice: Team 5 - Martin M
END:VALARM
END:VEVENT
END:VCALENDAR
