BEGIN:VCALENDAR
VERSION:2.0
PRODID:-//QuickScores.com//BQ Dynamic iCal Creator//EN
METHOD:PUBLISH
X-WR-CALNAME:Glendale Heights - 7th/8th Grade Girls - Winter 2026
X-WR-CALDESC:QuickScores game calendar
X-PUBLISHED-TTL:PT24H
REFRESH-INTERVAL;VALUE=DURATION:PT24H
CALSCALE:GREGORIAN
BEGIN:VTIMEZONE
TZID:America/Chicago
X-LIC-LOCATION:America/Chicago
BEGIN:DAYLIGHT
TZNAME:CDT
TZOFFSETFROM:-0600
TZOFFSETTO:-0500
DTSTART:19700308T020000
RRULE:FREQ=YEARLY;BYMONTH=3;BYDAY=2SU
END:DAYLIGHT
BEGIN:STANDARD
TZNAME:CST
TZOFFSETFROM:-0500
TZOFFSETTO:-0600
DTSTART:19701101T020000
RRULE:FREQ=YEARLY;BYMONTH=11;BYDAY=1SU
END:STANDARD
END:VTIMEZONE
BEGIN:VEVENT
UID:csparks-72016524-20260110T170000@quickscores.com
DTSTAMP:20260424T081500Z
DTSTART;TZID=America/Chicago:20260110T170000
DURATION:PT1H0M0S
SUMMARY:Bville Sky vs. Glendale Heights
DESCRIPTION:7th/8th Grade Girls - Carol Stream Park District
LOCATION:Bensenville Park District
CATEGORIES:QuickScores, Basketball - Youth Game
TRANSP:OPAQUE
BEGIN:VALARM
TRIGGER:-PT2H
ACTION:DISPLAY
DESCRIPTION:Bville Sky vs. Glendale Heights
END:VALARM
END:VEVENT
BEGIN:VEVENT
UID:csparks-72016530-20260117T133000@quickscores.com
DTSTAMP:20260424T081500Z
DTSTART;TZID=America/Chicago:20260117T133000
DURATION:PT1H0M0S
SUMMARY:Glendale Heights vs. AYS 1 Juan
DESCRIPTION:7th/8th Grade Girls - Carol Stream Park District
LOCATION:Glendale Heights Sports Hub - Court A
CATEGORIES:QuickScores, Basketball - Youth Game
TRANSP:OPAQUE
BEGIN:VALARM
TRIGGER:-PT2H
ACTION:DISPLAY
DESCRIPTION:Glendale Heights vs. AYS 1 Juan
END:VALARM
END:VEVENT
BEGIN:VEVENT
UID:csparks-72016538-20260124T123000@quickscores.com
DTSTAMP:20260424T081500Z
DTSTART;TZID=America/Chicago:20260124T123000
DURATION:PT1H0M0S
SUMMARY:Glendale Heights vs. Bloomingdale - Corso
DESCRIPTION:7th/8th Grade Girls - Carol Stream Park District
LOCATION:Glendale Heights Sports Hub - Court A
CATEGORIES:QuickScores, Basketball - Youth Game
TRANSP:OPAQUE
BEGIN:VALARM
TRIGGER:-PT2H
ACTION:DISPLAY
DESCRIPTION:Glendale Heights vs. Bloomingdale - Corso
END:VALARM
END:VEVENT
BEGIN:VEVENT
UID:csparks-72016543-20260131T103000@quickscores.com
DTSTAMP:20260424T081500Z
DTSTART;TZID=America/Chicago:20260131T103000
DURATION:PT1H0M0S
SUMMARY:Glendale Heights vs. Schaumburg - Berg
DESCRIPTION:7th/8th Grade Girls - Carol Stream Park District
LOCATION:Glendale Heights Sports Hub - Court A
CATEGORIES:QuickScores, Basketball - Youth Game
TRANSP:OPAQUE
BEGIN:VALARM
TRIGGER:-PT2H
ACTION:DISPLAY
DESCRIPTION:Glendale Heights vs. Schaumburg - Berg
END:VALARM
END:VEVENT
BEGIN:VEVENT
UID:csparks-72016551-20260207T142500@quickscores.com
DTSTAMP:20260424T081500Z
DTSTART;TZID=America/Chicago:20260207T142500
DURATION:PT1H15M0S
SUMMARY:Lombard - Valkyries vs. Glendale Heights
DESCRIPTION:Enter at Door 6 --- 7th/8th Grade Girls - Carol Stream Park District
LOCATION:Lombard - Pleasant Lane School
CATEGORIES:QuickScores, Basketball - Youth Game
TRANSP:OPAQUE
BEGIN:VALARM
TRIGGER:-PT2H
ACTION:DISPLAY
DESCRIPTION:Lombard - Valkyries vs. Glendale Heights
END:VALARM
END:VEVENT
BEGIN:VEVENT
UID:csparks-72016556-20260214T124500@quickscores.com
DTSTAMP:20260424T081500Z
DTSTART;TZID=America/Chicago:20260214T124500
DURATION:PT1H0M0S
SUMMARY:Carol Stream - Aces vs. Glendale Heights
DESCRIPTION:7th/8th Grade Girls - Carol Stream Park District
LOCATION:Fountain View - Court 2
CATEGORIES:QuickScores, Basketball - Youth Game
TRANSP:OPAQUE
BEGIN:VALARM
TRIGGER:-PT2H
ACTION:DISPLAY
DESCRIPTION:Carol Stream - Aces vs. Glendale Heights
END:VALARM
END:VEVENT
BEGIN:VEVENT
UID:csparks-72016564-20260221T154500@quickscores.com
DTSTAMP:20260424T081500Z
DTSTART;TZID=America/Chicago:20260221T154500
DURATION:PT1H15M0S
SUMMARY:Lombard - Suns vs. Glendale Heights
DESCRIPTION:Enter at Door 6 --- 7th/8th Grade Girls - Carol Stream Park District
LOCATION:Lombard - Pleasant Lane School
CATEGORIES:QuickScores, Basketball - Youth Game
TRANSP:OPAQUE
BEGIN:VALARM
TRIGGER:-PT2H
ACTION:DISPLAY
DESCRIPTION:Lombard - Suns vs. Glendale Heights
END:VALARM
END:VEVENT
BEGIN:VEVENT
UID:csparks-72016569-20260228T143000@quickscores.com
DTSTAMP:20260424T081500Z
DTSTART;TZID=America/Chicago:20260228T143000
DURATION:PT1H0M0S
SUMMARY:Glendale Heights vs. Schaumburg - Damhauser
DESCRIPTION:7th/8th Grade Girls - Carol Stream Park District
LOCATION:Glendale Heights Sports Hub - Court A
CATEGORIES:QuickScores, Basketball - Youth Game
TRANSP:OPAQUE
BEGIN:VALARM
TRIGGER:-PT2H
ACTION:DISPLAY
DESCRIPTION:Glendale Heights vs. Schaumburg - Damhauser
END:VALARM
END:VEVENT
END:VCALENDAR
