BEGIN:VCALENDAR
VERSION:2.0
PRODID:-//QuickScores.com//BQ Dynamic iCal Creator//EN
METHOD:PUBLISH
X-WR-CALNAME:Bville Sky - 7th/8th Grade Girls - Winter 2026
X-WR-CALDESC:QuickScores game calendar
X-PUBLISHED-TTL:PT24H
REFRESH-INTERVAL;VALUE=DURATION:PT24H
CALSCALE:GREGORIAN
BEGIN:VTIMEZONE
TZID:America/Chicago
X-LIC-LOCATION:America/Chicago
BEGIN:DAYLIGHT
TZNAME:CDT
TZOFFSETFROM:-0600
TZOFFSETTO:-0500
DTSTART:19700308T020000
RRULE:FREQ=YEARLY;BYMONTH=3;BYDAY=2SU
END:DAYLIGHT
BEGIN:STANDARD
TZNAME:CST
TZOFFSETFROM:-0500
TZOFFSETTO:-0600
DTSTART:19701101T020000
RRULE:FREQ=YEARLY;BYMONTH=11;BYDAY=1SU
END:STANDARD
END:VTIMEZONE
BEGIN:VEVENT
UID:csparks-72016524-20260110T170000@quickscores.com
DTSTAMP:20260423T235300Z
DTSTART;TZID=America/Chicago:20260110T170000
DURATION:PT1H0M0S
SUMMARY:Bville Sky vs. Glendale Heights
DESCRIPTION:7th/8th Grade Girls - Carol Stream Park District
LOCATION:Bensenville Park District
CATEGORIES:QuickScores, Basketball - Youth Game
TRANSP:OPAQUE
BEGIN:VALARM
TRIGGER:-PT2H
ACTION:DISPLAY
DESCRIPTION:Bville Sky vs. Glendale Heights
END:VALARM
END:VEVENT
BEGIN:VEVENT
UID:csparks-72016531-20260117T150000@quickscores.com
DTSTAMP:20260423T235300Z
DTSTART;TZID=America/Chicago:20260117T150000
DURATION:PT1H0M0S
SUMMARY:Bville Sky vs. Glen Ellyn - Cox
DESCRIPTION:7th/8th Grade Girls - Carol Stream Park District
LOCATION:Bensenville Park District
CATEGORIES:QuickScores, Basketball - Youth Game
TRANSP:OPAQUE
BEGIN:VALARM
TRIGGER:-PT2H
ACTION:DISPLAY
DESCRIPTION:Bville Sky vs. Glen Ellyn - Cox
END:VALARM
END:VEVENT
BEGIN:VEVENT
UID:csparks-72016537-20260124T150000@quickscores.com
DTSTAMP:20260423T235300Z
DTSTART;TZID=America/Chicago:20260124T150000
DURATION:PT1H0M0S
SUMMARY:Villa Park - Payton vs. Bville Sky
DESCRIPTION:7th/8th Grade Girls - Carol Stream Park District
LOCATION:Villa Park Recreation Center
CATEGORIES:QuickScores, Basketball - Youth Game
TRANSP:OPAQUE
BEGIN:VALARM
TRIGGER:-PT2H
ACTION:DISPLAY
DESCRIPTION:Villa Park - Payton vs. Bville Sky
END:VALARM
END:VEVENT
BEGIN:VEVENT
UID:csparks-72016544-20260131T110000@quickscores.com
DTSTAMP:20260423T235300Z
DTSTART;TZID=America/Chicago:20260131T110000
DURATION:PT1H0M0S
SUMMARY:Bartlett - Blue Devils vs. Bville Sky
DESCRIPTION:7th/8th Grade Girls - Carol Stream Park District
LOCATION:Bartlett CC - Court 1
CATEGORIES:QuickScores, Basketball - Youth Game
TRANSP:OPAQUE
BEGIN:VALARM
TRIGGER:-PT2H
ACTION:DISPLAY
DESCRIPTION:Bartlett - Blue Devils vs. Bville Sky
END:VALARM
END:VEVENT
BEGIN:VEVENT
UID:csparks-72016550-20260207T150000@quickscores.com
DTSTAMP:20260423T235300Z
DTSTART;TZID=America/Chicago:20260207T150000
DURATION:PT1H0M0S
SUMMARY:Bville Sky vs. Schaumburg - Damhauser
DESCRIPTION:7th/8th Grade Girls - Carol Stream Park District
LOCATION:Bensenville Park District
CATEGORIES:QuickScores, Basketball - Youth Game
TRANSP:OPAQUE
BEGIN:VALARM
TRIGGER:-PT2H
ACTION:DISPLAY
DESCRIPTION:Bville Sky vs. Schaumburg - Damhauser
END:VALARM
END:VEVENT
BEGIN:VEVENT
UID:csparks-72016557-20260214T180000@quickscores.com
DTSTAMP:20260423T235300Z
DTSTART;TZID=America/Chicago:20260214T180000
DURATION:PT1H0M0S
SUMMARY:Bloomingdale - Mariani vs. Bville Sky
DESCRIPTION:Game time changed from 12pm on 2/12. --- 7th/8th Grade Girls - Carol Stream Park District
LOCATION:Bloomingdale - Johnston Recreation Center
CATEGORIES:QuickScores, Basketball - Youth Game
TRANSP:OPAQUE
BEGIN:VALARM
TRIGGER:-PT2H
ACTION:DISPLAY
DESCRIPTION:Bloomingdale - Mariani vs. Bville Sky
END:VALARM
END:VEVENT
BEGIN:VEVENT
UID:csparks-72016563-20260221T124500@quickscores.com
DTSTAMP:20260423T235300Z
DTSTART;TZID=America/Chicago:20260221T124500
DURATION:PT1H0M0S
SUMMARY:Carol Stream - Aces vs. Bville Sky
DESCRIPTION:7th/8th Grade Girls - Carol Stream Park District
LOCATION:Fountain View - Court 2
CATEGORIES:QuickScores, Basketball - Youth Game
TRANSP:OPAQUE
BEGIN:VALARM
TRIGGER:-PT2H
ACTION:DISPLAY
DESCRIPTION:Carol Stream - Aces vs. Bville Sky
END:VALARM
END:VEVENT
BEGIN:VEVENT
UID:csparks-72016570-20260228T180000@quickscores.com
DTSTAMP:20260423T235300Z
DTSTART;TZID=America/Chicago:20260228T180000
DURATION:PT1H0M0S
SUMMARY:Bville Sky vs. Lombard - Suns
DESCRIPTION:7th/8th Grade Girls - Carol Stream Park District
LOCATION:Bensenville Park District
CATEGORIES:QuickScores, Basketball - Youth Game
TRANSP:OPAQUE
BEGIN:VALARM
TRIGGER:-PT2H
ACTION:DISPLAY
DESCRIPTION:Bville Sky vs. Lombard - Suns
END:VALARM
END:VEVENT
END:VCALENDAR
