BEGIN:VCALENDAR
VERSION:2.0
PRODID:-//QuickScores.com//BQ Dynamic iCal Creator//EN
METHOD:PUBLISH
X-WR-CALNAME:Schaumburg - Damhauser - 7th/8th Grade Girls - Winter 2026
X-WR-CALDESC:QuickScores game calendar
X-PUBLISHED-TTL:PT24H
REFRESH-INTERVAL;VALUE=DURATION:PT24H
CALSCALE:GREGORIAN
BEGIN:VTIMEZONE
TZID:America/Chicago
X-LIC-LOCATION:America/Chicago
BEGIN:DAYLIGHT
TZNAME:CDT
TZOFFSETFROM:-0600
TZOFFSETTO:-0500
DTSTART:19700308T020000
RRULE:FREQ=YEARLY;BYMONTH=3;BYDAY=2SU
END:DAYLIGHT
BEGIN:STANDARD
TZNAME:CST
TZOFFSETFROM:-0500
TZOFFSETTO:-0600
DTSTART:19701101T020000
RRULE:FREQ=YEARLY;BYMONTH=11;BYDAY=1SU
END:STANDARD
END:VTIMEZONE
BEGIN:VEVENT
UID:csparks-72016520-20260110T101500@quickscores.com
DTSTAMP:20260424T081500Z
DTSTART;TZID=America/Chicago:20260110T101500
DURATION:PT1H0M0S
SUMMARY:Schaumburg - Damhauser vs. Schaumburg - Berg
DESCRIPTION:7th/8th Grade Girls - Carol Stream Park District
LOCATION:Harper College: Building M Court B
CATEGORIES:QuickScores, Basketball - Youth Game
TRANSP:OPAQUE
BEGIN:VALARM
TRIGGER:-PT2H
ACTION:DISPLAY
DESCRIPTION:Schaumburg - Damhauser vs. Schaumburg - Berg
END:VALARM
END:VEVENT
BEGIN:VEVENT
UID:csparks-72016526-20260117T121500@quickscores.com
DTSTAMP:20260424T081500Z
DTSTART;TZID=America/Chicago:20260117T121500
DURATION:PT1H0M0S
SUMMARY:Schaumburg - Damhauser vs. Carol Stream - Aces
DESCRIPTION:7th/8th Grade Girls - Carol Stream Park District
LOCATION:Schaumburg-Jane Addams Jr. High
CATEGORIES:QuickScores, Basketball - Youth Game
TRANSP:OPAQUE
BEGIN:VALARM
TRIGGER:-PT2H
ACTION:DISPLAY
DESCRIPTION:Schaumburg - Damhauser vs. Carol Stream - Aces
END:VALARM
END:VEVENT
BEGIN:VEVENT
UID:csparks-72016535-20260130T190000@quickscores.com
DTSTAMP:20260424T081500Z
DTSTART;TZID=America/Chicago:20260130T190000
DURATION:PT1H0M0S
SUMMARY:AYS 1 Juan vs. Schaumburg - Damhauser
DESCRIPTION:Fieldhouse --- 7th/8th Grade Girls - Carol Stream Park District
LOCATION:Addison Trail High School - Fieldhouse
CATEGORIES:QuickScores, Basketball - Youth Game
TRANSP:OPAQUE
BEGIN:VALARM
TRIGGER:-PT2H
ACTION:DISPLAY
DESCRIPTION:AYS 1 Juan vs. Schaumburg - Damhauser
END:VALARM
END:VEVENT
BEGIN:VEVENT
UID:csparks-72016539-20260131T091500@quickscores.com
DTSTAMP:20260424T081500Z
DTSTART;TZID=America/Chicago:20260131T091500
DURATION:PT1H0M0S
SUMMARY:Schaumburg - Damhauser vs. Carol Stream - Fever
DESCRIPTION:7th/8th Grade Girls - Carol Stream Park District
LOCATION:Schaumburg - Keller Jr. High
CATEGORIES:QuickScores, Basketball - Youth Game
TRANSP:OPAQUE
BEGIN:VALARM
TRIGGER:-PT2H
ACTION:DISPLAY
DESCRIPTION:Schaumburg - Damhauser vs. Carol Stream - Fever
END:VALARM
END:VEVENT
BEGIN:VEVENT
UID:csparks-72016550-20260207T150000@quickscores.com
DTSTAMP:20260424T081500Z
DTSTART;TZID=America/Chicago:20260207T150000
DURATION:PT1H0M0S
SUMMARY:Bville Sky vs. Schaumburg - Damhauser
DESCRIPTION:7th/8th Grade Girls - Carol Stream Park District
LOCATION:Bensenville Park District
CATEGORIES:QuickScores, Basketball - Youth Game
TRANSP:OPAQUE
BEGIN:VALARM
TRIGGER:-PT2H
ACTION:DISPLAY
DESCRIPTION:Bville Sky vs. Schaumburg - Damhauser
END:VALARM
END:VEVENT
BEGIN:VEVENT
UID:csparks-72016554-20260214T121500@quickscores.com
DTSTAMP:20260424T081500Z
DTSTART;TZID=America/Chicago:20260214T121500
DURATION:PT1H0M0S
SUMMARY:Schaumburg - Damhauser vs. Villa Park - Payton
DESCRIPTION:7th/8th Grade Girls - Carol Stream Park District
LOCATION:Schaumburg - Keller Jr. High
CATEGORIES:QuickScores, Basketball - Youth Game
TRANSP:OPAQUE
BEGIN:VALARM
TRIGGER:-PT2H
ACTION:DISPLAY
DESCRIPTION:Schaumburg - Damhauser vs. Villa Park - Payton
END:VALARM
END:VEVENT
BEGIN:VEVENT
UID:csparks-72016565-20260221T100000@quickscores.com
DTSTAMP:20260424T081500Z
DTSTART;TZID=America/Chicago:20260221T100000
DURATION:PT1H0M0S
SUMMARY:Bloomingdale - Corso vs. Schaumburg - Damhauser
DESCRIPTION:7th/8th Grade Girls - Carol Stream Park District
LOCATION:Bloomingdale - Johnston Recreation Center
CATEGORIES:QuickScores, Basketball - Youth Game
TRANSP:OPAQUE
BEGIN:VALARM
TRIGGER:-PT2H
ACTION:DISPLAY
DESCRIPTION:Bloomingdale - Corso vs. Schaumburg - Damhauser
END:VALARM
END:VEVENT
BEGIN:VEVENT
UID:csparks-72016569-20260228T143000@quickscores.com
DTSTAMP:20260424T081500Z
DTSTART;TZID=America/Chicago:20260228T143000
DURATION:PT1H0M0S
SUMMARY:Glendale Heights vs. Schaumburg - Damhauser
DESCRIPTION:7th/8th Grade Girls - Carol Stream Park District
LOCATION:Glendale Heights Sports Hub - Court A
CATEGORIES:QuickScores, Basketball - Youth Game
TRANSP:OPAQUE
BEGIN:VALARM
TRIGGER:-PT2H
ACTION:DISPLAY
DESCRIPTION:Glendale Heights vs. Schaumburg - Damhauser
END:VALARM
END:VEVENT
END:VCALENDAR
