BEGIN:VCALENDAR
VERSION:2.0
PRODID:-//QuickScores.com//BQ Dynamic iCal Creator//EN
METHOD:PUBLISH
X-WR-CALNAME:Lombard - Valkyries - 7th/8th Grade Girls - Winter 2026
X-WR-CALDESC:QuickScores game calendar
X-PUBLISHED-TTL:PT24H
REFRESH-INTERVAL;VALUE=DURATION:PT24H
CALSCALE:GREGORIAN
BEGIN:VTIMEZONE
TZID:America/Chicago
X-LIC-LOCATION:America/Chicago
BEGIN:DAYLIGHT
TZNAME:CDT
TZOFFSETFROM:-0600
TZOFFSETTO:-0500
DTSTART:19700308T020000
RRULE:FREQ=YEARLY;BYMONTH=3;BYDAY=2SU
END:DAYLIGHT
BEGIN:STANDARD
TZNAME:CST
TZOFFSETFROM:-0500
TZOFFSETTO:-0600
DTSTART:19701101T020000
RRULE:FREQ=YEARLY;BYMONTH=11;BYDAY=1SU
END:STANDARD
END:VTIMEZONE
BEGIN:VEVENT
UID:csparks-72016521-20260109T194500@quickscores.com
DTSTAMP:20260424T093000Z
DTSTART;TZID=America/Chicago:20260109T194500
DURATION:PT1H0M0S
SUMMARY:Bartlett - Blue Devils vs. Lombard - Valkyries
DESCRIPTION:Valkyries will need a game before 12pm or after 3:30pm --- 7th/8th Grade Girls - Carol Stream Park District
LOCATION:Bartlett CC - Court 1
CATEGORIES:QuickScores, Basketball - Youth Game
TRANSP:OPAQUE
BEGIN:VALARM
TRIGGER:-PT2H
ACTION:DISPLAY
DESCRIPTION:Bartlett - Blue Devils vs. Lombard - Valkyries
END:VALARM
END:VEVENT
BEGIN:VEVENT
UID:csparks-72016527-20260117T130500@quickscores.com
DTSTAMP:20260424T093000Z
DTSTART;TZID=America/Chicago:20260117T130500
DURATION:PT1H15M0S
SUMMARY:Lombard - Valkyries vs. Bloomingdale - Mariani
DESCRIPTION:Enter at Door 6 --- 7th/8th Grade Girls - Carol Stream Park District
LOCATION:Lombard - Pleasant Lane School
CATEGORIES:QuickScores, Basketball - Youth Game
TRANSP:OPAQUE
BEGIN:VALARM
TRIGGER:-PT2H
ACTION:DISPLAY
DESCRIPTION:Lombard - Valkyries vs. Bloomingdale - Mariani
END:VALARM
END:VEVENT
BEGIN:VEVENT
UID:csparks-72016536-20260124T083000@quickscores.com
DTSTAMP:20260424T093000Z
DTSTART;TZID=America/Chicago:20260124T083000
DURATION:PT1H15M0S
SUMMARY:Lombard - Valkyries vs. Glen Ellyn - Cox
DESCRIPTION:Enter at Door 6 --- 7th/8th Grade Girls - Carol Stream Park District
LOCATION:Lombard - Pleasant Lane School
CATEGORIES:QuickScores, Basketball - Youth Game
TRANSP:OPAQUE
BEGIN:VALARM
TRIGGER:-PT2H
ACTION:DISPLAY
DESCRIPTION:Lombard - Valkyries vs. Glen Ellyn - Cox
END:VALARM
END:VEVENT
BEGIN:VEVENT
UID:csparks-72016540-20260131T130500@quickscores.com
DTSTAMP:20260424T093000Z
DTSTART;TZID=America/Chicago:20260131T130500
DURATION:PT1H15M0S
SUMMARY:Lombard - Valkyries vs. Lombard - Suns
DESCRIPTION:Enter at Door 6 --- 7th/8th Grade Girls - Carol Stream Park District
LOCATION:Lombard - Pleasant Lane School
CATEGORIES:QuickScores, Basketball - Youth Game
TRANSP:OPAQUE
BEGIN:VALARM
TRIGGER:-PT2H
ACTION:DISPLAY
DESCRIPTION:Lombard - Valkyries vs. Lombard - Suns
END:VALARM
END:VEVENT
BEGIN:VEVENT
UID:csparks-72016566-20260131T143000@quickscores.com
DTSTAMP:20260424T093000Z
DTSTART;TZID=America/Chicago:20260131T143000
DURATION:PT1H0M0S
SUMMARY:Villa Park - Payton vs. Lombard - Valkyries
DESCRIPTION:7th/8th Grade Girls - Carol Stream Park District
LOCATION:Lombard - Pleasant Lane School
CATEGORIES:QuickScores, Basketball - Youth Game
TRANSP:OPAQUE
BEGIN:VALARM
TRIGGER:-PT2H
ACTION:DISPLAY
DESCRIPTION:Villa Park - Payton vs. Lombard - Valkyries
END:VALARM
END:VEVENT
BEGIN:VEVENT
UID:csparks-72016551-20260207T142500@quickscores.com
DTSTAMP:20260424T093000Z
DTSTART;TZID=America/Chicago:20260207T142500
DURATION:PT1H15M0S
SUMMARY:Lombard - Valkyries vs. Glendale Heights
DESCRIPTION:Enter at Door 6 --- 7th/8th Grade Girls - Carol Stream Park District
LOCATION:Lombard - Pleasant Lane School
CATEGORIES:QuickScores, Basketball - Youth Game
TRANSP:OPAQUE
BEGIN:VALARM
TRIGGER:-PT2H
ACTION:DISPLAY
DESCRIPTION:Lombard - Valkyries vs. Glendale Heights
END:VALARM
END:VEVENT
BEGIN:VEVENT
UID:csparks-72016553-20260214T163000@quickscores.com
DTSTAMP:20260424T093000Z
DTSTART;TZID=America/Chicago:20260214T163000
DURATION:PT1H0M0S
SUMMARY:Carol Stream - Fever vs. Lombard - Valkyries
DESCRIPTION:Updated Time --- 7th/8th Grade Girls - Carol Stream Park District
LOCATION:Fountain View - Court 2
CATEGORIES:QuickScores, Basketball - Youth Game
TRANSP:OPAQUE
BEGIN:VALARM
TRIGGER:-PT2H
ACTION:DISPLAY
DESCRIPTION:Carol Stream - Fever vs. Lombard - Valkyries
END:VALARM
END:VEVENT
BEGIN:VEVENT
UID:csparks-72016568-20260228T090000@quickscores.com
DTSTAMP:20260424T093000Z
DTSTART;TZID=America/Chicago:20260228T090000
DURATION:PT1H0M0S
SUMMARY:Bloomingdale - Corso vs. Lombard - Valkyries
DESCRIPTION:7th/8th Grade Girls - Carol Stream Park District
LOCATION:Bloomingdale - Johnston Recreation Center
CATEGORIES:QuickScores, Basketball - Youth Game
TRANSP:OPAQUE
BEGIN:VALARM
TRIGGER:-PT2H
ACTION:DISPLAY
DESCRIPTION:Bloomingdale - Corso vs. Lombard - Valkyries
END:VALARM
END:VEVENT
END:VCALENDAR
