BEGIN:VCALENDAR
VERSION:2.0
PRODID:-//QuickScores.com//BQ Dynamic iCal Creator//EN
METHOD:PUBLISH
X-WR-CALNAME:AYS 1 Juan - 7th/8th Grade Girls - Winter 2026
X-WR-CALDESC:QuickScores game calendar
X-PUBLISHED-TTL:PT24H
REFRESH-INTERVAL;VALUE=DURATION:PT24H
CALSCALE:GREGORIAN
BEGIN:VTIMEZONE
TZID:America/Chicago
X-LIC-LOCATION:America/Chicago
BEGIN:DAYLIGHT
TZNAME:CDT
TZOFFSETFROM:-0600
TZOFFSETTO:-0500
DTSTART:19700308T020000
RRULE:FREQ=YEARLY;BYMONTH=3;BYDAY=2SU
END:DAYLIGHT
BEGIN:STANDARD
TZNAME:CST
TZOFFSETFROM:-0500
TZOFFSETTO:-0600
DTSTART:19701101T020000
RRULE:FREQ=YEARLY;BYMONTH=11;BYDAY=1SU
END:STANDARD
END:VTIMEZONE
BEGIN:VEVENT
UID:csparks-72016522-20260110T153000@quickscores.com
DTSTAMP:20260424T081500Z
DTSTART;TZID=America/Chicago:20260110T153000
DURATION:PT1H0M0S
SUMMARY:AYS 1 Juan vs. Villa Park - Payton
DESCRIPTION:Addison Trail - East Gym --- 7th/8th Grade Girls - Carol Stream Park District
LOCATION:Addison Trail High School - Fieldhouse
CATEGORIES:QuickScores, Basketball - Youth Game
TRANSP:OPAQUE
BEGIN:VALARM
TRIGGER:-PT2H
ACTION:DISPLAY
DESCRIPTION:AYS 1 Juan vs. Villa Park - Payton
END:VALARM
END:VEVENT
BEGIN:VEVENT
UID:csparks-72016530-20260117T133000@quickscores.com
DTSTAMP:20260424T081500Z
DTSTART;TZID=America/Chicago:20260117T133000
DURATION:PT1H0M0S
SUMMARY:Glendale Heights vs. AYS 1 Juan
DESCRIPTION:7th/8th Grade Girls - Carol Stream Park District
LOCATION:Glendale Heights Sports Hub - Court A
CATEGORIES:QuickScores, Basketball - Youth Game
TRANSP:OPAQUE
BEGIN:VALARM
TRIGGER:-PT2H
ACTION:DISPLAY
DESCRIPTION:Glendale Heights vs. AYS 1 Juan
END:VALARM
END:VEVENT
BEGIN:VEVENT
UID:csparks-72016535-20260130T190000@quickscores.com
DTSTAMP:20260424T081500Z
DTSTART;TZID=America/Chicago:20260130T190000
DURATION:PT1H0M0S
SUMMARY:AYS 1 Juan vs. Schaumburg - Damhauser
DESCRIPTION:Fieldhouse --- 7th/8th Grade Girls - Carol Stream Park District
LOCATION:Addison Trail High School - Fieldhouse
CATEGORIES:QuickScores, Basketball - Youth Game
TRANSP:OPAQUE
BEGIN:VALARM
TRIGGER:-PT2H
ACTION:DISPLAY
DESCRIPTION:AYS 1 Juan vs. Schaumburg - Damhauser
END:VALARM
END:VEVENT
BEGIN:VEVENT
UID:csparks-72016545-20260131T170000@quickscores.com
DTSTAMP:20260424T081500Z
DTSTART;TZID=America/Chicago:20260131T170000
DURATION:PT1H0M0S
SUMMARY:Glen Ellyn - Cox vs. AYS 1 Juan
DESCRIPTION:7th/8th Grade Girls - Carol Stream Park District
LOCATION:Ackerman SFC - Court 3
CATEGORIES:QuickScores, Basketball - Youth Game
TRANSP:OPAQUE
BEGIN:VALARM
TRIGGER:-PT2H
ACTION:DISPLAY
DESCRIPTION:Glen Ellyn - Cox vs. AYS 1 Juan
END:VALARM
END:VEVENT
BEGIN:VEVENT
UID:csparks-72016548-20260206T180000@quickscores.com
DTSTAMP:20260424T081500Z
DTSTART;TZID=America/Chicago:20260206T180000
DURATION:PT1H0M0S
SUMMARY:AYS 1 Juan vs. Carol Stream - Aces
DESCRIPTION:Small Gym --- 7th/8th Grade Girls - Carol Stream Park District
LOCATION:Indian Trail Jr High School
CATEGORIES:QuickScores, Basketball - Youth Game
TRANSP:OPAQUE
BEGIN:VALARM
TRIGGER:-PT2H
ACTION:DISPLAY
DESCRIPTION:AYS 1 Juan vs. Carol Stream - Aces
END:VALARM
END:VEVENT
BEGIN:VEVENT
UID:csparks-72016559-20260214T110000@quickscores.com
DTSTAMP:20260424T081500Z
DTSTART;TZID=America/Chicago:20260214T110000
DURATION:PT1H0M0S
SUMMARY:Bartlett - Blue Devils vs. AYS 1 Juan
DESCRIPTION:7th/8th Grade Girls - Carol Stream Park District
LOCATION:Bartlett CC - Court 1
CATEGORIES:QuickScores, Basketball - Youth Game
TRANSP:OPAQUE
BEGIN:VALARM
TRIGGER:-PT2H
ACTION:DISPLAY
DESCRIPTION:Bartlett - Blue Devils vs. AYS 1 Juan
END:VALARM
END:VEVENT
BEGIN:VEVENT
UID:csparks-72016561-20260221T133000@quickscores.com
DTSTAMP:20260424T081500Z
DTSTART;TZID=America/Chicago:20260221T133000
DURATION:PT1H0M0S
SUMMARY:AYS 1 Juan vs. Schaumburg - Berg
DESCRIPTION:7th/8th Grade Girls - Carol Stream Park District
LOCATION:Addison Trail High School - Fieldhouse
CATEGORIES:QuickScores, Basketball - Youth Game
TRANSP:OPAQUE
BEGIN:VALARM
TRIGGER:-PT2H
ACTION:DISPLAY
DESCRIPTION:AYS 1 Juan vs. Schaumburg - Berg
END:VALARM
END:VEVENT
BEGIN:VEVENT
UID:csparks-72016572-20260228T100000@quickscores.com
DTSTAMP:20260424T081500Z
DTSTART;TZID=America/Chicago:20260228T100000
DURATION:PT1H0M0S
SUMMARY:Bloomingdale - Mariani vs. AYS 1 Juan
DESCRIPTION:7th/8th Grade Girls - Carol Stream Park District
LOCATION:Bloomingdale - Johnston Recreation Center
CATEGORIES:QuickScores, Basketball - Youth Game
TRANSP:OPAQUE
BEGIN:VALARM
TRIGGER:-PT2H
ACTION:DISPLAY
DESCRIPTION:Bloomingdale - Mariani vs. AYS 1 Juan
END:VALARM
END:VEVENT
END:VCALENDAR
