BEGIN:VCALENDAR
VERSION:2.0
PRODID:-//QuickScores.com//BQ Dynamic iCal Creator//EN
METHOD:PUBLISH
X-WR-CALNAME:Net Results (Michalakes) - Adult Pickleball - Thursday League Recreation Red Division - Fall 2025
X-WR-CALDESC:QuickScores game calendar
X-PUBLISHED-TTL:PT24H
REFRESH-INTERVAL;VALUE=DURATION:PT24H
CALSCALE:GREGORIAN
BEGIN:VTIMEZONE
TZID:America/Chicago
X-LIC-LOCATION:America/Chicago
BEGIN:DAYLIGHT
TZNAME:CDT
TZOFFSETFROM:-0600
TZOFFSETTO:-0500
DTSTART:19700308T020000
RRULE:FREQ=YEARLY;BYMONTH=3;BYDAY=2SU
END:DAYLIGHT
BEGIN:STANDARD
TZNAME:CST
TZOFFSETFROM:-0500
TZOFFSETTO:-0600
DTSTART:19701101T020000
RRULE:FREQ=YEARLY;BYMONTH=11;BYDAY=1SU
END:STANDARD
END:VTIMEZONE
BEGIN:VEVENT
UID:csparks-71506957-20251106T181500@quickscores.com
DTSTAMP:20260423T181900Z
DTSTART;TZID=America/Chicago:20251106T181500
DURATION:PT0H45M0S
SUMMARY:Net Results (Michalakes) vs. Paddle Punks
DESCRIPTION:Adult Pickleball - Thursday League Recreation Red Division - Carol Stream Park District
LOCATION:Fountain View - Court 3 - Pickleball 2
CATEGORIES:QuickScores, Pickleball Game
TRANSP:OPAQUE
BEGIN:VALARM
TRIGGER:-PT2H
ACTION:DISPLAY
DESCRIPTION:Net Results (Michalakes) vs. Paddle Punks
END:VALARM
END:VEVENT
BEGIN:VEVENT
UID:csparks-71506960-20251113T190000@quickscores.com
DTSTAMP:20260423T181900Z
DTSTART;TZID=America/Chicago:20251113T190000
DURATION:PT0H45M0S
SUMMARY:Pickle Pair vs. Net Results (Michalakes)
DESCRIPTION:Adult Pickleball - Thursday League Recreation Red Division - Carol Stream Park District
LOCATION:Fountain View - Court 3 - Pickleball 3
CATEGORIES:QuickScores, Pickleball Game
TRANSP:OPAQUE
BEGIN:VALARM
TRIGGER:-PT2H
ACTION:DISPLAY
DESCRIPTION:Pickle Pair vs. Net Results (Michalakes)
END:VALARM
END:VEVENT
BEGIN:VEVENT
UID:csparks-71506966-20251120T190000@quickscores.com
DTSTAMP:20260423T181900Z
DTSTART;TZID=America/Chicago:20251120T190000
DURATION:PT0H45M0S
SUMMARY:Net Results (Michalakes) vs. Sno Leo
DESCRIPTION:Adult Pickleball - Thursday League Recreation Red Division - Carol Stream Park District
LOCATION:Fountain View - Court 3 - Pickleball 2
CATEGORIES:QuickScores, Pickleball Game
TRANSP:OPAQUE
BEGIN:VALARM
TRIGGER:-PT2H
ACTION:DISPLAY
DESCRIPTION:Net Results (Michalakes) vs. Sno Leo
END:VALARM
END:VEVENT
BEGIN:VEVENT
UID:csparks-71506969-20251204T181500@quickscores.com
DTSTAMP:20260423T181900Z
DTSTART;TZID=America/Chicago:20251204T181500
DURATION:PT0H45M0S
SUMMARY:Red Dirt vs. Net Results (Michalakes)
DESCRIPTION:Moved to Simkus --- Adult Pickleball - Thursday League Recreation Red Division - Carol Stream Park District
LOCATION:Simkus - Court 2 (West) - Pickleball 1
CATEGORIES:QuickScores, Pickleball Game
TRANSP:OPAQUE
BEGIN:VALARM
TRIGGER:-PT2H
ACTION:DISPLAY
DESCRIPTION:Red Dirt vs. Net Results (Michalakes)
END:VALARM
END:VEVENT
BEGIN:VEVENT
UID:csparks-71506948-20251211T181500@quickscores.com
DTSTAMP:20260423T181900Z
DTSTART;TZID=America/Chicago:20251211T181500
DURATION:PT0H45M0S
SUMMARY:Paddle up buttercup vs. Net Results (Michalakes)
DESCRIPTION:Moved to Simkus --- Adult Pickleball - Thursday League Recreation Red Division - Carol Stream Park District
LOCATION:Simkus - Court 2 (West) - Pickleball 1
CATEGORIES:QuickScores, Pickleball Game
TRANSP:OPAQUE
BEGIN:VALARM
TRIGGER:-PT2H
ACTION:DISPLAY
DESCRIPTION:Paddle up buttercup vs. Net Results (Michalakes)
END:VALARM
END:VEVENT
BEGIN:VEVENT
UID:csparks-71506973-20251211T190000@quickscores.com
DTSTAMP:20260423T181900Z
DTSTART;TZID=America/Chicago:20251211T190000
DURATION:PT0H45M0S
SUMMARY:Net Results (Michalakes) vs. Close Call
DESCRIPTION:Moved to Simkus --- Adult Pickleball - Thursday League Recreation Red Division - Carol Stream Park District
LOCATION:Simkus - Court 2 (West) - Pickleball 2
CATEGORIES:QuickScores, Pickleball Game
TRANSP:OPAQUE
BEGIN:VALARM
TRIGGER:-PT2H
ACTION:DISPLAY
DESCRIPTION:Net Results (Michalakes) vs. Close Call
END:VALARM
END:VEVENT
BEGIN:VEVENT
UID:csparks-71656130-20251218T191500@quickscores.com
DTSTAMP:20260423T181900Z
DTSTART;TZID=America/Chicago:20251218T191500
DURATION:PT0H15M0S
SUMMARY:[3] Paddle Punks vs. [6] Net Results (Michalakes)
DESCRIPTION:Adult Pickleball - Thursday League Recreation Red Division - Carol Stream Park District
LOCATION:Simkus - Court 1 (East) - Pickleball 3
CATEGORIES:QuickScores, Pickleball Game
TRANSP:OPAQUE
BEGIN:VALARM
TRIGGER:-PT2H
ACTION:DISPLAY
DESCRIPTION:[3] Paddle Punks vs. [6] Net Results (Michalakes)
END:VALARM
END:VEVENT
BEGIN:VEVENT
UID:csparks-71656134-20251218T193000@quickscores.com
DTSTAMP:20260423T181900Z
DTSTART;TZID=America/Chicago:20251218T193000
DURATION:PT0H15M0S
SUMMARY:[7] Sno Leo vs. [6] Net Results (Michalakes)
DESCRIPTION:Adult Pickleball - Thursday League Recreation Red Division - Carol Stream Park District
LOCATION:Simkus - Court 1 (East) - Pickleball 3
CATEGORIES:QuickScores, Pickleball Game
TRANSP:OPAQUE
BEGIN:VALARM
TRIGGER:-PT2H
ACTION:DISPLAY
DESCRIPTION:[7] Sno Leo vs. [6] Net Results (Michalakes)
END:VALARM
END:VEVENT
BEGIN:VEVENT
UID:csparks-71656136-20251218T194500@quickscores.com
DTSTAMP:20260423T181900Z
DTSTART;TZID=America/Chicago:20251218T194500
DURATION:PT0H15M0S
SUMMARY:[5] Paddle up buttercup vs. [6] Net Results (Michalakes)
DESCRIPTION:Adult Pickleball - Thursday League Recreation Red Division - Carol Stream Park District
LOCATION:Simkus - Court 1 (East) - Pickleball 3
CATEGORIES:QuickScores, Pickleball Game
TRANSP:OPAQUE
BEGIN:VALARM
TRIGGER:-PT2H
ACTION:DISPLAY
DESCRIPTION:[5] Paddle up buttercup vs. [6] Net Results (Michalakes)
END:VALARM
END:VEVENT
BEGIN:VEVENT
UID:csparks-71656138-20251218T200000@quickscores.com
DTSTAMP:20260423T181900Z
DTSTART;TZID=America/Chicago:20251218T200000
DURATION:PT0H15M0S
SUMMARY:[2] Close Call vs. [6] Net Results (Michalakes)
DESCRIPTION:Adult Pickleball - Thursday League Recreation Red Division - Carol Stream Park District
LOCATION:Simkus - Court 1 (East) - Pickleball 3
CATEGORIES:QuickScores, Pickleball Game
TRANSP:OPAQUE
BEGIN:VALARM
TRIGGER:-PT2H
ACTION:DISPLAY
DESCRIPTION:[2] Close Call vs. [6] Net Results (Michalakes)
END:VALARM
END:VEVENT
END:VCALENDAR
