BEGIN:VCALENDAR
VERSION:2.0
PRODID:-//QuickScores.com//BQ Dynamic iCal Creator//EN
METHOD:PUBLISH
X-WR-CALNAME:Angry Pandas - Adult Softball - Sunday League - Fall 2025
X-WR-CALDESC:QuickScores game calendar
X-PUBLISHED-TTL:PT24H
REFRESH-INTERVAL;VALUE=DURATION:PT24H
CALSCALE:GREGORIAN
BEGIN:VTIMEZONE
TZID:America/Chicago
X-LIC-LOCATION:America/Chicago
BEGIN:DAYLIGHT
TZNAME:CDT
TZOFFSETFROM:-0600
TZOFFSETTO:-0500
DTSTART:19700308T020000
RRULE:FREQ=YEARLY;BYMONTH=3;BYDAY=2SU
END:DAYLIGHT
BEGIN:STANDARD
TZNAME:CST
TZOFFSETFROM:-0500
TZOFFSETTO:-0600
DTSTART:19701101T020000
RRULE:FREQ=YEARLY;BYMONTH=11;BYDAY=1SU
END:STANDARD
END:VTIMEZONE
BEGIN:VEVENT
UID:csparks-70258981-20250817T150000@quickscores.com
DTSTAMP:20260424T063800Z
DTSTART;TZID=America/Chicago:20250817T150000
DURATION:PT1H0M0S
SUMMARY:Angry Pandas vs. Shrimp Squad
DESCRIPTION:Adult Softball - Sunday League - Carol Stream Park District
LOCATION:McCaslin 3
CATEGORIES:QuickScores, Softball - Adult Game
TRANSP:OPAQUE
BEGIN:VALARM
TRIGGER:-PT2H
ACTION:DISPLAY
DESCRIPTION:Angry Pandas vs. Shrimp Squad
END:VALARM
END:VEVENT
BEGIN:VEVENT
UID:csparks-70258982-20250817T160000@quickscores.com
DTSTAMP:20260424T063800Z
DTSTART;TZID=America/Chicago:20250817T160000
DURATION:PT1H0M0S
SUMMARY:Angry Pandas vs. SLUG N CHUG
DESCRIPTION:Adult Softball - Sunday League - Carol Stream Park District
LOCATION:McCaslin 3
CATEGORIES:QuickScores, Softball - Adult Game
TRANSP:OPAQUE
BEGIN:VALARM
TRIGGER:-PT2H
ACTION:DISPLAY
DESCRIPTION:Angry Pandas vs. SLUG N CHUG
END:VALARM
END:VEVENT
BEGIN:VEVENT
UID:csparks-70258996-20250824T130000@quickscores.com
DTSTAMP:20260424T063800Z
DTSTART;TZID=America/Chicago:20250824T130000
DURATION:PT1H0M0S
SUMMARY:Angry Pandas vs. DirtyBallz
DESCRIPTION:Adult Softball - Sunday League - Carol Stream Park District
LOCATION:McCaslin 2
CATEGORIES:QuickScores, Softball - Adult Game
TRANSP:OPAQUE
BEGIN:VALARM
TRIGGER:-PT2H
ACTION:DISPLAY
DESCRIPTION:Angry Pandas vs. DirtyBallz
END:VALARM
END:VEVENT
BEGIN:VEVENT
UID:csparks-70258995-20250824T150000@quickscores.com
DTSTAMP:20260424T063800Z
DTSTART;TZID=America/Chicago:20250824T150000
DURATION:PT1H0M0S
SUMMARY:Angry Pandas vs. Burnt Skiddadles
DESCRIPTION:Adult Softball - Sunday League - Carol Stream Park District
LOCATION:McCaslin 2
CATEGORIES:QuickScores, Softball - Adult Game
TRANSP:OPAQUE
BEGIN:VALARM
TRIGGER:-PT2H
ACTION:DISPLAY
DESCRIPTION:Angry Pandas vs. Burnt Skiddadles
END:VALARM
END:VEVENT
BEGIN:VEVENT
UID:csparks-70259004-20250907T140000@quickscores.com
DTSTAMP:20260424T063800Z
DTSTART;TZID=America/Chicago:20250907T140000
DURATION:PT1H0M0S
SUMMARY:Angry Pandas vs. BuzzBallz
DESCRIPTION:Adult Softball - Sunday League - Carol Stream Park District
LOCATION:McCaslin 4
CATEGORIES:QuickScores, Softball - Adult Game
TRANSP:OPAQUE
BEGIN:VALARM
TRIGGER:-PT2H
ACTION:DISPLAY
DESCRIPTION:Angry Pandas vs. BuzzBallz
END:VALARM
END:VEVENT
BEGIN:VEVENT
UID:csparks-70259003-20250907T150000@quickscores.com
DTSTAMP:20260424T063800Z
DTSTART;TZID=America/Chicago:20250907T150000
DURATION:PT1H0M0S
SUMMARY:Tuna Sub vs. Angry Pandas
DESCRIPTION:Adult Softball - Sunday League - Carol Stream Park District
LOCATION:McCaslin 4
CATEGORIES:QuickScores, Softball - Adult Game
TRANSP:OPAQUE
BEGIN:VALARM
TRIGGER:-PT2H
ACTION:DISPLAY
DESCRIPTION:Tuna Sub vs. Angry Pandas
END:VALARM
END:VEVENT
BEGIN:VEVENT
UID:csparks-70259017-20250928T203000@quickscores.com
DTSTAMP:20260424T063800Z
DTSTART;TZID=America/Chicago:20250928T203000
DURATION:PT1H0M0S
SUMMARY:Shrimp Squad vs. Angry Pandas
DESCRIPTION:Time Change --- Adult Softball - Sunday League - Carol Stream Park District
LOCATION:McCaslin 2
CATEGORIES:QuickScores, Softball - Adult Game
TRANSP:OPAQUE
BEGIN:VALARM
TRIGGER:-PT2H
ACTION:DISPLAY
DESCRIPTION:Shrimp Squad vs. Angry Pandas
END:VALARM
END:VEVENT
BEGIN:VEVENT
UID:csparks-70259018-20250928T213000@quickscores.com
DTSTAMP:20260424T063800Z
DTSTART;TZID=America/Chicago:20250928T213000
DURATION:PT1H0M0S
SUMMARY:SLUG N CHUG vs. Angry Pandas
DESCRIPTION:Time Change --- Adult Softball - Sunday League - Carol Stream Park District
LOCATION:McCaslin 2
CATEGORIES:QuickScores, Softball - Adult Game
TRANSP:OPAQUE
BEGIN:VALARM
TRIGGER:-PT2H
ACTION:DISPLAY
DESCRIPTION:SLUG N CHUG vs. Angry Pandas
END:VALARM
END:VEVENT
BEGIN:VEVENT
UID:csparks-70259009-20251005T120000@quickscores.com
DTSTAMP:20260424T063800Z
DTSTART;TZID=America/Chicago:20251005T120000
DURATION:PT1H0M0S
SUMMARY:Sloppy Seconds vs. Angry Pandas
DESCRIPTION:Adult Softball - Sunday League - Carol Stream Park District
LOCATION:McCaslin 3
CATEGORIES:QuickScores, Softball - Adult Game
TRANSP:OPAQUE
BEGIN:VALARM
TRIGGER:-PT2H
ACTION:DISPLAY
DESCRIPTION:Sloppy Seconds vs. Angry Pandas
END:VALARM
END:VEVENT
BEGIN:VEVENT
UID:csparks-70259008-20251005T130000@quickscores.com
DTSTAMP:20260424T063800Z
DTSTART;TZID=America/Chicago:20251005T130000
DURATION:PT1H0M0S
SUMMARY:Slap A Pitch vs. Angry Pandas
DESCRIPTION:Adult Softball - Sunday League - Carol Stream Park District
LOCATION:McCaslin 3
CATEGORIES:QuickScores, Softball - Adult Game
TRANSP:OPAQUE
BEGIN:VALARM
TRIGGER:-PT2H
ACTION:DISPLAY
DESCRIPTION:Slap A Pitch vs. Angry Pandas
END:VALARM
END:VEVENT
BEGIN:VEVENT
UID:csparks-70978663-20251012T180000@quickscores.com
DTSTAMP:20260424T063800Z
DTSTART;TZID=America/Chicago:20251012T180000
DURATION:PT1H0M0S
SUMMARY:[8] Slap A Pitch vs. [9] Angry Pandas
DESCRIPTION:Field Change --- Adult Softball - Sunday League - Carol Stream Park District
LOCATION:McCaslin 3
CATEGORIES:QuickScores, Softball - Adult Game
TRANSP:OPAQUE
BEGIN:VALARM
TRIGGER:-PT2H
ACTION:DISPLAY
DESCRIPTION:[8] Slap A Pitch vs. [9] Angry Pandas
END:VALARM
END:VEVENT
END:VCALENDAR
