BEGIN:VCALENDAR
VERSION:2.0
PRODID:-//QuickScores.com//BQ Dynamic iCal Creator//EN
METHOD:PUBLISH
X-WR-CALNAME:BuzzBallz - Adult Softball - Sunday League - Fall 2025
X-WR-CALDESC:QuickScores game calendar
X-PUBLISHED-TTL:PT24H
REFRESH-INTERVAL;VALUE=DURATION:PT24H
CALSCALE:GREGORIAN
BEGIN:VTIMEZONE
TZID:America/Chicago
X-LIC-LOCATION:America/Chicago
BEGIN:DAYLIGHT
TZNAME:CDT
TZOFFSETFROM:-0600
TZOFFSETTO:-0500
DTSTART:19700308T020000
RRULE:FREQ=YEARLY;BYMONTH=3;BYDAY=2SU
END:DAYLIGHT
BEGIN:STANDARD
TZNAME:CST
TZOFFSETFROM:-0500
TZOFFSETTO:-0600
DTSTART:19701101T020000
RRULE:FREQ=YEARLY;BYMONTH=11;BYDAY=1SU
END:STANDARD
END:VTIMEZONE
BEGIN:VEVENT
UID:csparks-70258987-20250817T140000@quickscores.com
DTSTAMP:20260423T234400Z
DTSTART;TZID=America/Chicago:20250817T140000
DURATION:PT1H0M0S
SUMMARY:BuzzBallz vs. Sloppy Seconds
DESCRIPTION:Adult Softball - Sunday League - Carol Stream Park District
LOCATION:McCaslin 4
CATEGORIES:QuickScores, Softball - Adult Game
TRANSP:OPAQUE
BEGIN:VALARM
TRIGGER:-PT2H
ACTION:DISPLAY
DESCRIPTION:BuzzBallz vs. Sloppy Seconds
END:VALARM
END:VEVENT
BEGIN:VEVENT
UID:csparks-70258986-20250817T160000@quickscores.com
DTSTAMP:20260423T234400Z
DTSTART;TZID=America/Chicago:20250817T160000
DURATION:PT1H0M0S
SUMMARY:BuzzBallz vs. Tuna Sub
DESCRIPTION:Adult Softball - Sunday League - Carol Stream Park District
LOCATION:McCaslin 4
CATEGORIES:QuickScores, Softball - Adult Game
TRANSP:OPAQUE
BEGIN:VALARM
TRIGGER:-PT2H
ACTION:DISPLAY
DESCRIPTION:BuzzBallz vs. Tuna Sub
END:VALARM
END:VEVENT
BEGIN:VEVENT
UID:csparks-70258989-20250824T120000@quickscores.com
DTSTAMP:20260423T234400Z
DTSTART;TZID=America/Chicago:20250824T120000
DURATION:PT1H0M0S
SUMMARY:BuzzBallz vs. Slap A Pitch
DESCRIPTION:Adult Softball - Sunday League - Carol Stream Park District
LOCATION:McCaslin 1
CATEGORIES:QuickScores, Softball - Adult Game
TRANSP:OPAQUE
BEGIN:VALARM
TRIGGER:-PT2H
ACTION:DISPLAY
DESCRIPTION:BuzzBallz vs. Slap A Pitch
END:VALARM
END:VEVENT
BEGIN:VEVENT
UID:csparks-70258991-20250824T130000@quickscores.com
DTSTAMP:20260423T234400Z
DTSTART;TZID=America/Chicago:20250824T130000
DURATION:PT1H0M0S
SUMMARY:BuzzBallz vs. Shrimp Squad
DESCRIPTION:Adult Softball - Sunday League - Carol Stream Park District
LOCATION:McCaslin 1
CATEGORIES:QuickScores, Softball - Adult Game
TRANSP:OPAQUE
BEGIN:VALARM
TRIGGER:-PT2H
ACTION:DISPLAY
DESCRIPTION:BuzzBallz vs. Shrimp Squad
END:VALARM
END:VEVENT
BEGIN:VEVENT
UID:csparks-70259005-20250907T120000@quickscores.com
DTSTAMP:20260423T234400Z
DTSTART;TZID=America/Chicago:20250907T120000
DURATION:PT1H0M0S
SUMMARY:BuzzBallz vs. DirtyBallz
DESCRIPTION:Adult Softball - Sunday League - Carol Stream Park District
LOCATION:McCaslin 4
CATEGORIES:QuickScores, Softball - Adult Game
TRANSP:OPAQUE
BEGIN:VALARM
TRIGGER:-PT2H
ACTION:DISPLAY
DESCRIPTION:BuzzBallz vs. DirtyBallz
END:VALARM
END:VEVENT
BEGIN:VEVENT
UID:csparks-70259004-20250907T140000@quickscores.com
DTSTAMP:20260423T234400Z
DTSTART;TZID=America/Chicago:20250907T140000
DURATION:PT1H0M0S
SUMMARY:Angry Pandas vs. BuzzBallz
DESCRIPTION:Adult Softball - Sunday League - Carol Stream Park District
LOCATION:McCaslin 4
CATEGORIES:QuickScores, Softball - Adult Game
TRANSP:OPAQUE
BEGIN:VALARM
TRIGGER:-PT2H
ACTION:DISPLAY
DESCRIPTION:Angry Pandas vs. BuzzBallz
END:VALARM
END:VEVENT
BEGIN:VEVENT
UID:csparks-70259023-20250928T193000@quickscores.com
DTSTAMP:20260423T234400Z
DTSTART;TZID=America/Chicago:20250928T193000
DURATION:PT1H0M0S
SUMMARY:Sloppy Seconds vs. BuzzBallz
DESCRIPTION:Time Change --- Adult Softball - Sunday League - Carol Stream Park District
LOCATION:McCaslin 4
CATEGORIES:QuickScores, Softball - Adult Game
TRANSP:OPAQUE
BEGIN:VALARM
TRIGGER:-PT2H
ACTION:DISPLAY
DESCRIPTION:Sloppy Seconds vs. BuzzBallz
END:VALARM
END:VEVENT
BEGIN:VEVENT
UID:csparks-70259022-20250928T203000@quickscores.com
DTSTAMP:20260423T234400Z
DTSTART;TZID=America/Chicago:20250928T203000
DURATION:PT1H0M0S
SUMMARY:Tuna Sub vs. BuzzBallz
DESCRIPTION:Time Change --- Adult Softball - Sunday League - Carol Stream Park District
LOCATION:McCaslin 4
CATEGORIES:QuickScores, Softball - Adult Game
TRANSP:OPAQUE
BEGIN:VALARM
TRIGGER:-PT2H
ACTION:DISPLAY
DESCRIPTION:Tuna Sub vs. BuzzBallz
END:VALARM
END:VEVENT
BEGIN:VEVENT
UID:csparks-70259013-20251005T150000@quickscores.com
DTSTAMP:20260423T234400Z
DTSTART;TZID=America/Chicago:20251005T150000
DURATION:PT1H0M0S
SUMMARY:SLUG N CHUG vs. BuzzBallz
DESCRIPTION:Adult Softball - Sunday League - Carol Stream Park District
LOCATION:McCaslin 3
CATEGORIES:QuickScores, Softball - Adult Game
TRANSP:OPAQUE
BEGIN:VALARM
TRIGGER:-PT2H
ACTION:DISPLAY
DESCRIPTION:SLUG N CHUG vs. BuzzBallz
END:VALARM
END:VEVENT
BEGIN:VEVENT
UID:csparks-70259014-20251005T160000@quickscores.com
DTSTAMP:20260423T234400Z
DTSTART;TZID=America/Chicago:20251005T160000
DURATION:PT1H0M0S
SUMMARY:Burnt Skiddadles vs. BuzzBallz
DESCRIPTION:Adult Softball - Sunday League - Carol Stream Park District
LOCATION:McCaslin 3
CATEGORIES:QuickScores, Softball - Adult Game
TRANSP:OPAQUE
BEGIN:VALARM
TRIGGER:-PT2H
ACTION:DISPLAY
DESCRIPTION:Burnt Skiddadles vs. BuzzBallz
END:VALARM
END:VEVENT
BEGIN:VEVENT
UID:csparks-70978671-20251012T170000@quickscores.com
DTSTAMP:20260423T234400Z
DTSTART;TZID=America/Chicago:20251012T170000
DURATION:PT1H0M0S
SUMMARY:[4] BuzzBallz vs. [5] DirtyBallz
DESCRIPTION:Field Change --- Adult Softball - Sunday League - Carol Stream Park District
LOCATION:McCaslin 3
CATEGORIES:QuickScores, Softball - Adult Game
TRANSP:OPAQUE
BEGIN:VALARM
TRIGGER:-PT2H
ACTION:DISPLAY
DESCRIPTION:[4] BuzzBallz vs. [5] DirtyBallz
END:VALARM
END:VEVENT
BEGIN:VEVENT
UID:csparks-70978674-20251012T200000@quickscores.com
DTSTAMP:20260423T234400Z
DTSTART;TZID=America/Chicago:20251012T200000
DURATION:PT1H0M0S
SUMMARY:[1] Burnt Skiddadles vs. [4] BuzzBallz
DESCRIPTION:Field Change --- Adult Softball - Sunday League - Carol Stream Park District
LOCATION:McCaslin 3
CATEGORIES:QuickScores, Softball - Adult Game
TRANSP:OPAQUE
BEGIN:VALARM
TRIGGER:-PT2H
ACTION:DISPLAY
DESCRIPTION:[1] Burnt Skiddadles vs. [4] BuzzBallz
END:VALARM
END:VEVENT
BEGIN:VEVENT
UID:csparks-70978676-20251012T210000@quickscores.com
DTSTAMP:20260423T234400Z
DTSTART;TZID=America/Chicago:20251012T210000
DURATION:PT1H0M0S
SUMMARY:[4] BuzzBallz vs. [2] Sloppy Seconds
DESCRIPTION:Field Change --- Adult Softball - Sunday League - Carol Stream Park District
LOCATION:McCaslin 4
CATEGORIES:QuickScores, Softball - Adult Game
TRANSP:OPAQUE
BEGIN:VALARM
TRIGGER:-PT2H
ACTION:DISPLAY
DESCRIPTION:[4] BuzzBallz vs. [2] Sloppy Seconds
END:VALARM
END:VEVENT
END:VCALENDAR
