BEGIN:VCALENDAR
VERSION:2.0
PRODID:-//QuickScores.com//BQ Dynamic iCal Creator//EN
METHOD:PUBLISH
X-WR-CALNAME:Carol Stream - Braves - Youth Baseball - 10u - Fall 2025
X-WR-CALDESC:QuickScores game calendar
X-PUBLISHED-TTL:PT24H
REFRESH-INTERVAL;VALUE=DURATION:PT24H
CALSCALE:GREGORIAN
BEGIN:VTIMEZONE
TZID:America/Chicago
X-LIC-LOCATION:America/Chicago
BEGIN:DAYLIGHT
TZNAME:CDT
TZOFFSETFROM:-0600
TZOFFSETTO:-0500
DTSTART:19700308T020000
RRULE:FREQ=YEARLY;BYMONTH=3;BYDAY=2SU
END:DAYLIGHT
BEGIN:STANDARD
TZNAME:CST
TZOFFSETFROM:-0500
TZOFFSETTO:-0600
DTSTART:19701101T020000
RRULE:FREQ=YEARLY;BYMONTH=11;BYDAY=1SU
END:STANDARD
END:VTIMEZONE
BEGIN:VEVENT
UID:csparks-70138823-20250822T180000@quickscores.com
DTSTAMP:20260425T141300Z
DTSTART;TZID=America/Chicago:20250822T180000
DURATION:PT2H0M0S
SUMMARY:Carol Stream - Braves vs. Villa Park - Luckey
DESCRIPTION:Youth Baseball - 10u - Carol Stream Park District
LOCATION:McCaslin 2
CATEGORIES:QuickScores, Baseball - Youth Game
TRANSP:OPAQUE
BEGIN:VALARM
TRIGGER:-PT2H
ACTION:DISPLAY
DESCRIPTION:Carol Stream - Braves vs. Villa Park - Luckey
END:VALARM
END:VEVENT
BEGIN:VEVENT
UID:csparks-70138844-20250906T090000@quickscores.com
DTSTAMP:20260425T141300Z
DTSTART;TZID=America/Chicago:20250906T090000
DURATION:PT2H0M0S
SUMMARY:Carol Stream - Royals vs. Carol Stream - Braves
DESCRIPTION:Youth Baseball - 10u - Carol Stream Park District
LOCATION:McCaslin 3
CATEGORIES:QuickScores, Baseball - Youth Game
TRANSP:OPAQUE
BEGIN:VALARM
TRIGGER:-PT2H
ACTION:DISPLAY
DESCRIPTION:Carol Stream - Royals vs. Carol Stream - Braves
END:VALARM
END:VEVENT
BEGIN:VEVENT
UID:csparks-70138857-20250912T180000@quickscores.com
DTSTAMP:20260425T141300Z
DTSTART;TZID=America/Chicago:20250912T180000
DURATION:PT2H0M0S
SUMMARY:Carol Stream - Dodgers vs. Carol Stream - Braves
DESCRIPTION:Youth Baseball - 10u - Carol Stream Park District
LOCATION:McCaslin 4
CATEGORIES:QuickScores, Baseball - Youth Game
TRANSP:OPAQUE
BEGIN:VALARM
TRIGGER:-PT2H
ACTION:DISPLAY
DESCRIPTION:Carol Stream - Dodgers vs. Carol Stream - Braves
END:VALARM
END:VEVENT
BEGIN:VEVENT
UID:csparks-70138850-20250913T150000@quickscores.com
DTSTAMP:20260425T141300Z
DTSTART;TZID=America/Chicago:20250913T150000
DURATION:PT2H0M0S
SUMMARY:Carol Stream - Braves vs. Roselle - Guardians
DESCRIPTION:Youth Baseball - 10u - Carol Stream Park District
LOCATION:McCaslin 1
CATEGORIES:QuickScores, Baseball - Youth Game
TRANSP:OPAQUE
BEGIN:VALARM
TRIGGER:-PT2H
ACTION:DISPLAY
DESCRIPTION:Carol Stream - Braves vs. Roselle - Guardians
END:VALARM
END:VEVENT
BEGIN:VEVENT
UID:csparks-70138866-20250919T180000@quickscores.com
DTSTAMP:20260425T141300Z
DTSTART;TZID=America/Chicago:20250919T180000
DURATION:PT2H0M0S
SUMMARY:Carol Stream - Braves vs. Glendale Heights - (Phillies)
DESCRIPTION:Youth Baseball - 10u - Carol Stream Park District
LOCATION:Armstrong 1
CATEGORIES:QuickScores, Baseball - Youth Game
TRANSP:OPAQUE
BEGIN:VALARM
TRIGGER:-PT2H
ACTION:DISPLAY
DESCRIPTION:Carol Stream - Braves vs. Glendale Heights - (Phillies)
END:VALARM
END:VEVENT
BEGIN:VEVENT
UID:csparks-70138863-20250920T113000@quickscores.com
DTSTAMP:20260425T141300Z
DTSTART;TZID=America/Chicago:20250920T113000
DURATION:PT2H0M0S
SUMMARY:Carol Stream - Braves vs. Carol Stream - Rangers
DESCRIPTION:Youth Baseball - 10u - Carol Stream Park District
LOCATION:McCaslin 4
CATEGORIES:QuickScores, Baseball - Youth Game
TRANSP:OPAQUE
BEGIN:VALARM
TRIGGER:-PT2H
ACTION:DISPLAY
DESCRIPTION:Carol Stream - Braves vs. Carol Stream - Rangers
END:VALARM
END:VEVENT
BEGIN:VEVENT
UID:csparks-70138817-20250925T183000@quickscores.com
DTSTAMP:20260425T141300Z
DTSTART;TZID=America/Chicago:20250925T183000
DURATION:PT2H0M0S
SUMMARY:Carol Stream - Red Sox vs. Carol Stream - Braves
DESCRIPTION:Moved from 8/16 --- Youth Baseball - 10u - Carol Stream Park District
LOCATION:Armstrong 3
CATEGORIES:QuickScores, Baseball - Youth Game
TRANSP:OPAQUE
BEGIN:VALARM
TRIGGER:-PT2H
ACTION:DISPLAY
DESCRIPTION:Carol Stream - Red Sox vs. Carol Stream - Braves
END:VALARM
END:VEVENT
BEGIN:VEVENT
UID:csparks-70138869-20250927T140000@quickscores.com
DTSTAMP:20260425T141300Z
DTSTART;TZID=America/Chicago:20250927T140000
DURATION:PT2H0M0S
SUMMARY:Villa Park - Caifano vs. Carol Stream - Braves
DESCRIPTION:Youth Baseball - 10u - Carol Stream Park District
LOCATION:Jefferson 2
CATEGORIES:QuickScores, Baseball - Youth Game
TRANSP:OPAQUE
BEGIN:VALARM
TRIGGER:-PT2H
ACTION:DISPLAY
DESCRIPTION:Villa Park - Caifano vs. Carol Stream - Braves
END:VALARM
END:VEVENT
BEGIN:VEVENT
UID:csparks-70978200-20251007T183000@quickscores.com
DTSTAMP:20260425T141300Z
DTSTART;TZID=America/Chicago:20251007T183000
DURATION:PT2H0M0S
SUMMARY:[ 1 ] Carol Stream - Braves vs. [ 9 ] Carol Stream - Dodgers
DESCRIPTION:Youth Baseball - 10u - Carol Stream Park District
LOCATION:Armstrong 1
CATEGORIES:QuickScores, Baseball - Youth Game
TRANSP:OPAQUE
BEGIN:VALARM
TRIGGER:-PT2H
ACTION:DISPLAY
DESCRIPTION:[ 1 ] Carol Stream - Braves vs. [ 9 ] Carol Stream - Dodgers
END:VALARM
END:VEVENT
BEGIN:VEVENT
UID:csparks-70978204-20251014T180000@quickscores.com
DTSTAMP:20260425T141300Z
DTSTART;TZID=America/Chicago:20251014T180000
DURATION:PT2H0M0S
SUMMARY:[ 1 ] Carol Stream - Braves vs. [ 5 ] Carol Stream - Red Sox
DESCRIPTION:Youth Baseball - 10u - Carol Stream Park District
LOCATION:McCaslin 1
CATEGORIES:QuickScores, Baseball - Youth Game
TRANSP:OPAQUE
BEGIN:VALARM
TRIGGER:-PT2H
ACTION:DISPLAY
DESCRIPTION:[ 1 ] Carol Stream - Braves vs. [ 5 ] Carol Stream - Red Sox
END:VALARM
END:VEVENT
BEGIN:VEVENT
UID:csparks-70978206-20251017T180000@quickscores.com
DTSTAMP:20260425T141300Z
DTSTART;TZID=America/Chicago:20251017T180000
DURATION:PT2H0M0S
SUMMARY:[ 1 ] Carol Stream - Braves vs. [ 3 ] Carol Stream - Royals
DESCRIPTION:Youth Baseball - 10u - Carol Stream Park District
LOCATION:McCaslin 2
CATEGORIES:QuickScores, Baseball - Youth Game
TRANSP:OPAQUE
BEGIN:VALARM
TRIGGER:-PT2H
ACTION:DISPLAY
DESCRIPTION:[ 1 ] Carol Stream - Braves vs. [ 3 ] Carol Stream - Royals
END:VALARM
END:VEVENT
END:VCALENDAR
