BEGIN:VCALENDAR
VERSION:2.0
PRODID:-//QuickScores.com//BQ Dynamic iCal Creator//EN
METHOD:PUBLISH
X-WR-CALNAME:Glendale Heights - (Phillies) - Youth Baseball - 10u - Fall 2025
X-WR-CALDESC:QuickScores game calendar
X-PUBLISHED-TTL:PT24H
REFRESH-INTERVAL;VALUE=DURATION:PT24H
CALSCALE:GREGORIAN
BEGIN:VTIMEZONE
TZID:America/Chicago
X-LIC-LOCATION:America/Chicago
BEGIN:DAYLIGHT
TZNAME:CDT
TZOFFSETFROM:-0600
TZOFFSETTO:-0500
DTSTART:19700308T020000
RRULE:FREQ=YEARLY;BYMONTH=3;BYDAY=2SU
END:DAYLIGHT
BEGIN:STANDARD
TZNAME:CST
TZOFFSETFROM:-0500
TZOFFSETTO:-0600
DTSTART:19701101T020000
RRULE:FREQ=YEARLY;BYMONTH=11;BYDAY=1SU
END:STANDARD
END:VTIMEZONE
BEGIN:VEVENT
UID:csparks-70138820-20250822T173000@quickscores.com
DTSTAMP:20260423T122100Z
DTSTART;TZID=America/Chicago:20250822T173000
DURATION:PT2H0M0S
SUMMARY:Villa Park - Gentile vs. Glendale Heights - (Phillies)
DESCRIPTION:Youth Baseball - 10u - Carol Stream Park District
LOCATION:Jefferson 3
CATEGORIES:QuickScores, Baseball - Youth Game
TRANSP:OPAQUE
BEGIN:VALARM
TRIGGER:-PT2H
ACTION:DISPLAY
DESCRIPTION:Villa Park - Gentile vs. Glendale Heights - (Phillies)
END:VALARM
END:VEVENT
BEGIN:VEVENT
UID:csparks-70138826-20250904T180000@quickscores.com
DTSTAMP:20260423T122100Z
DTSTART;TZID=America/Chicago:20250904T180000
DURATION:PT2H0M0S
SUMMARY:Glendale Heights - (Phillies) vs. Roselle - Dodgers - Degrado
DESCRIPTION:Game Rescheduled from 8/23 --- Youth Baseball - 10u - Carol Stream Park District
LOCATION:Nazos West
CATEGORIES:QuickScores, Baseball - Youth Game
TRANSP:OPAQUE
BEGIN:VALARM
TRIGGER:-PT2H
ACTION:DISPLAY
DESCRIPTION:Glendale Heights - (Phillies) vs. Roselle - Dodgers - Degrado
END:VALARM
END:VEVENT
BEGIN:VEVENT
UID:csparks-70138847-20250906T123000@quickscores.com
DTSTAMP:20260423T122100Z
DTSTART;TZID=America/Chicago:20250906T123000
DURATION:PT2H0M0S
SUMMARY:Glendale Heights - (Phillies) vs. Carol Stream - Dodgers
DESCRIPTION:Youth Baseball - 10u - Carol Stream Park District
LOCATION:Reskin Park
CATEGORIES:QuickScores, Baseball - Youth Game
TRANSP:OPAQUE
BEGIN:VALARM
TRIGGER:-PT2H
ACTION:DISPLAY
DESCRIPTION:Glendale Heights - (Phillies) vs. Carol Stream - Dodgers
END:VALARM
END:VEVENT
BEGIN:VEVENT
UID:csparks-70138858-20250912T180000@quickscores.com
DTSTAMP:20260423T122100Z
DTSTART;TZID=America/Chicago:20250912T180000
DURATION:PT2H0M0S
SUMMARY:Glendale Heights - (Phillies) vs. Carol Stream - Yankees
DESCRIPTION:Youth Baseball - 10u - Carol Stream Park District
LOCATION:Reskin Park
CATEGORIES:QuickScores, Baseball - Youth Game
TRANSP:OPAQUE
BEGIN:VALARM
TRIGGER:-PT2H
ACTION:DISPLAY
DESCRIPTION:Glendale Heights - (Phillies) vs. Carol Stream - Yankees
END:VALARM
END:VEVENT
BEGIN:VEVENT
UID:csparks-70138866-20250919T180000@quickscores.com
DTSTAMP:20260423T122100Z
DTSTART;TZID=America/Chicago:20250919T180000
DURATION:PT2H0M0S
SUMMARY:Carol Stream - Braves vs. Glendale Heights - (Phillies)
DESCRIPTION:Youth Baseball - 10u - Carol Stream Park District
LOCATION:Armstrong 1
CATEGORIES:QuickScores, Baseball - Youth Game
TRANSP:OPAQUE
BEGIN:VALARM
TRIGGER:-PT2H
ACTION:DISPLAY
DESCRIPTION:Carol Stream - Braves vs. Glendale Heights - (Phillies)
END:VALARM
END:VEVENT
BEGIN:VEVENT
UID:csparks-70138865-20250920T133000@quickscores.com
DTSTAMP:20260423T122100Z
DTSTART;TZID=America/Chicago:20250920T133000
DURATION:PT2H0M0S
SUMMARY:Villa Park - Caifano vs. Glendale Heights - (Phillies)
DESCRIPTION:Youth Baseball - 10u - Carol Stream Park District
LOCATION:Jefferson 2
CATEGORIES:QuickScores, Baseball - Youth Game
TRANSP:OPAQUE
BEGIN:VALARM
TRIGGER:-PT2H
ACTION:DISPLAY
DESCRIPTION:Villa Park - Caifano vs. Glendale Heights - (Phillies)
END:VALARM
END:VEVENT
BEGIN:VEVENT
UID:csparks-70138853-20250923T180000@quickscores.com
DTSTAMP:20260423T122100Z
DTSTART;TZID=America/Chicago:20250923T180000
DURATION:PT2H0M0S
SUMMARY:Glendale Heights - (Phillies) vs. Carol Stream - Cardinals
DESCRIPTION:Make up Game from 9/13 --- Youth Baseball - 10u - Carol Stream Park District
LOCATION:Camera East
CATEGORIES:QuickScores, Baseball - Youth Game
TRANSP:OPAQUE
BEGIN:VALARM
TRIGGER:-PT2H
ACTION:DISPLAY
DESCRIPTION:Glendale Heights - (Phillies) vs. Carol Stream - Cardinals
END:VALARM
END:VEVENT
BEGIN:VEVENT
UID:csparks-70138870-20250927T100000@quickscores.com
DTSTAMP:20260423T122100Z
DTSTART;TZID=America/Chicago:20250927T100000
DURATION:PT2H0M0S
SUMMARY:Bloomingdale - Yankees vs. Glendale Heights - (Phillies)
DESCRIPTION:Youth Baseball - 10u - Carol Stream Park District
LOCATION:Springfield Park Field 2
CATEGORIES:QuickScores, Baseball - Youth Game
TRANSP:OPAQUE
BEGIN:VALARM
TRIGGER:-PT2H
ACTION:DISPLAY
DESCRIPTION:Bloomingdale - Yankees vs. Glendale Heights - (Phillies)
END:VALARM
END:VEVENT
BEGIN:VEVENT
UID:csparks-70978194-20251004T113000@quickscores.com
DTSTAMP:20260423T122100Z
DTSTART;TZID=America/Chicago:20251004T113000
DURATION:PT2H0M0S
SUMMARY:[ 4 ] Carol Stream - Rangers vs. [ 13 ] Glendale Heights - (Phillies)
DESCRIPTION:Youth Baseball - 10u - Carol Stream Park District
LOCATION:McCaslin 3
CATEGORIES:QuickScores, Baseball - Youth Game
TRANSP:OPAQUE
BEGIN:VALARM
TRIGGER:-PT2H
ACTION:DISPLAY
DESCRIPTION:[ 4 ] Carol Stream - Rangers vs. [ 13 ] Glendale Heights - (Phillies)
END:VALARM
END:VEVENT
END:VCALENDAR
